BEGIN:VCALENDAR
VERSION:2.0
PRODID:-//Idaho Wine Commission - ECPv6.15.17//NONSGML v1.0//EN
CALSCALE:GREGORIAN
METHOD:PUBLISH
X-ORIGINAL-URL:https://idahowines.org
X-WR-CALDESC:Events for Idaho Wine Commission
REFRESH-INTERVAL;VALUE=DURATION:PT1H
X-Robots-Tag:noindex
X-PUBLISHED-TTL:PT1H
BEGIN:VTIMEZONE
TZID:America/Boise
BEGIN:DAYLIGHT
TZOFFSETFROM:-0700
TZOFFSETTO:-0600
TZNAME:MDT
DTSTART:20230312T090000
END:DAYLIGHT
BEGIN:STANDARD
TZOFFSETFROM:-0600
TZOFFSETTO:-0700
TZNAME:MST
DTSTART:20231105T080000
END:STANDARD
BEGIN:DAYLIGHT
TZOFFSETFROM:-0700
TZOFFSETTO:-0600
TZNAME:MDT
DTSTART:20240310T090000
END:DAYLIGHT
BEGIN:STANDARD
TZOFFSETFROM:-0600
TZOFFSETTO:-0700
TZNAME:MST
DTSTART:20241103T080000
END:STANDARD
BEGIN:DAYLIGHT
TZOFFSETFROM:-0700
TZOFFSETTO:-0600
TZNAME:MDT
DTSTART:20250309T090000
END:DAYLIGHT
BEGIN:STANDARD
TZOFFSETFROM:-0600
TZOFFSETTO:-0700
TZNAME:MST
DTSTART:20251102T080000
END:STANDARD
BEGIN:DAYLIGHT
TZOFFSETFROM:-0700
TZOFFSETTO:-0600
TZNAME:MDT
DTSTART:20260308T090000
END:DAYLIGHT
BEGIN:STANDARD
TZOFFSETFROM:-0600
TZOFFSETTO:-0700
TZNAME:MST
DTSTART:20261101T080000
END:STANDARD
END:VTIMEZONE
BEGIN:VEVENT
DTSTART;TZID=America/Boise:20240629T000000
DTEND;TZID=America/Boise:20240629T235959
DTSTAMP:20260420T061622
CREATED:20240424T101004Z
LAST-MODIFIED:20240424T101005Z
UID:10004239-1719619200-1719705599@idahowines.org
SUMMARY:Kerry Hill Winery - 2nd Annual Corvette Club Sip & Shine
DESCRIPTION:Home / Idaho Wine Month / Page 2\n\n\nHAT Ranch Tasting for Idaho Wine and Cider Month\n\n\n\n\n\n\n\n\nCome check out dozens and dozens of local Corvettes from all eras\, talk with the owners and vote on your favorites! There will be live music and Smells Like Brisket food truck. No tickets required. \n\n\n\nCheck back on winery’s website for confirmed time.
URL:https://idahowines.org/event/kerry-hill-winery-2nd-annual-corvette-club-sip-shine/
CATEGORIES:Idaho Wine Month,Winery Event
END:VEVENT
BEGIN:VEVENT
DTSTART;TZID=America/Boise:20240629T120000
DTEND;TZID=America/Boise:20240629T170000
DTSTAMP:20260420T061622
CREATED:20240530T193325Z
LAST-MODIFIED:20240530T193327Z
UID:10004986-1719662400-1719680400@idahowines.org
SUMMARY:Vendor Pop-up - Williamson Orchards & Vineyards
DESCRIPTION:Home / Idaho Wine Month / Page 2\n\n\nHAT Ranch Tasting for Idaho Wine and Cider Month\n\n\n\n\n\n\n\n\nWe are so excited to feature Snake River Malas later this month. We invited Cheryl Wonder\, the owner and creator of Snake River Malas\, to display her handcrafted mala jewelry in our warehouse for the day. Her jewelry inspires calm and peacefulness\, and is made from thoughtfully chosen materials such as stone\, wood\, and copper. We hope you support a local artist while you enjoy a wine tasting of our hand crafted wines. 
URL:https://idahowines.org/event/vendor-pop-up-williamson-orchards-vineyards/
LOCATION:Williamson Orchards & Vineyards\, 14807 Sunnyslope Road\, Caldwell\, Idaho\, 83607
CATEGORIES:Idaho Wine Month,Winery Event
ATTACH;FMTTYPE=image/jpeg:https://idahowines.org/content/uploads/2024/05/pop-up.jpeg
END:VEVENT
BEGIN:VEVENT
DTSTART;TZID=America/Boise:20240629T130000
DTEND;TZID=America/Boise:20240629T150000
DTSTAMP:20260420T061622
CREATED:20240606T231013Z
LAST-MODIFIED:20240606T231015Z
UID:10004991-1719666000-1719673200@idahowines.org
SUMMARY:Boise Co Op Tasting with Telaya Wine Co
DESCRIPTION:Home / Idaho Wine Month / Page 2\n\n\nHAT Ranch Tasting for Idaho Wine and Cider Month\n\n\n\n\n\n\n\n\nCome celebrate Idaho Wine and Cider Month with a tasting at the North End Boise Co Op.  \n\n\n\nTelaya Wine Co will be sampling from 1:00 PM – 3:00 PM  \n\n\n\n \n\n\n\nCheers to our great industry!
URL:https://idahowines.org/event/boise-co-op-tasting-with-telaya-wine-co/
CATEGORIES:Idaho Wine Month
END:VEVENT
BEGIN:VEVENT
DTSTART;TZID=America/Boise:20240629T170000
DTEND;TZID=America/Boise:20240629T200000
DTSTAMP:20260420T061622
CREATED:20240529T183124Z
LAST-MODIFIED:20240529T183125Z
UID:10004980-1719680400-1719691200@idahowines.org
SUMMARY:Live Music with Ali Thomas & Sheldon Packard - Pend d'Oreille Winery
DESCRIPTION:Home / Idaho Wine Month / Page 2\n\n\nHAT Ranch Tasting for Idaho Wine and Cider Month\n\n\n\n\n\n\n\n\nAli and Sheldon can harmonize seamlessly but they also rock the room together! Join us for ahandcrafted pizza\, a glass of wine and a fine night of music.
URL:https://idahowines.org/event/live-music-with-ali-thomas-sheldon-packard-pend-doreille-winery/
LOCATION:Pend d’Oreille Winery\, 301 Cedar St STE 101\, Sandpoint\, ID\, 83864\, United States
CATEGORIES:Idaho Wine Month,Winery Event
ATTACH;FMTTYPE=image/webp:https://idahowines.org/content/uploads/2023/06/penddorelle-logo@2x.webp
END:VEVENT
BEGIN:VEVENT
DTSTART;TZID=America/Boise:20240630T170000
DTEND;TZID=America/Boise:20240630T200000
DTSTAMP:20260420T061622
CREATED:20240510T204602Z
LAST-MODIFIED:20240510T204604Z
UID:10004921-1719766800-1719777600@idahowines.org
SUMMARY:Wine Dinner with Proof Kitchen - Telaya Wine
DESCRIPTION:Home / Idaho Wine Month / Page 2\n\n\nHAT Ranch Tasting for Idaho Wine and Cider Month\n\n\n\n\n\n\n\n\nTicket pricing includes an Eventbrite fee\, tax\, and a $10 gratuity for the Proof team. \n\n\n\nIf you have a severe food allergy\, there will be a designated area during checkout to let us know. The culinary team can accommodate with advanced notice. \n\n\n\nThere will be one seating starting at 4:45 pm. Dinner service will begin shortly after 5 pm. \n\n\n\nTickets $79
URL:https://idahowines.org/event/wine-dinner-with-proof-kitchen-telaya-wine/
LOCATION:Proof Craft Kitchen\, 9759 West State Street #suite 300\, Star\, Idaho\, 83669\, United States
CATEGORIES:Idaho Wine Month,Winery Event
ATTACH;FMTTYPE=image/jpeg:https://idahowines.org/content/uploads/2024/05/proof.jpeg
END:VEVENT
BEGIN:VEVENT
DTSTART;TZID=America/Boise:20240711T160000
DTEND;TZID=America/Boise:20240711T180000
DTSTAMP:20260420T061622
CREATED:20240529T172703Z
LAST-MODIFIED:20240708T133355Z
UID:10004958-1720713600-1720720800@idahowines.org
SUMMARY:Meet the Artist Night - Kathy Enright - Cinder Wines
DESCRIPTION:Home / Idaho Wine Month / Page 2\n\n\nHAT Ranch Tasting for Idaho Wine and Cider Month\n\n\n\n\n\n\n\n\nMeet the Artist Night: Kathy Enright \n\n\n\nDetails: Meet the new resident Cinder artist\, Kathy Enright\, browse art\, and nibble on small bites.  \n\n\n\nCost: Free
URL:https://idahowines.org/event/meet-the-artist-night-cinder-wines/
LOCATION:Cinder Winery\, 107 E 44th St\, Garden City\, ID\, 83714\, United States
CATEGORIES:Idaho Wine Month,Winery Event
ATTACH;FMTTYPE=image/webp:https://idahowines.org/content/uploads/2023/06/cinder-logo@2x.webp
END:VEVENT
BEGIN:VEVENT
DTSTART;TZID=America/Boise:20250605T170000
DTEND;TZID=America/Boise:20250605T200000
DTSTAMP:20260420T061622
CREATED:20250507T140336Z
LAST-MODIFIED:20250507T140338Z
UID:10008332-1749142800-1749153600@idahowines.org
SUMMARY:June First Thursday with Clearwater Canyon Cellars~ FREE Wine Tasting
DESCRIPTION:Home / Idaho Wine Month / Page 2\n\n\nHAT Ranch Tasting for Idaho Wine and Cider Month\n\n\n\n\n\n\n\n\nCome join us at House of Wine for our exciting “First Thursday” event in June! \n\n\n\nFor this night we’ll put aside our regular wine by the glass options and offer selections for a free three wine tasting from famed northern Idaho winery\, Clearwater Canyon Cellars. \n\n\n\nThe festivities begin at 5pm and last until 8pm.  This is a free event and no registration is required. We look forward to welcoming you!
URL:https://idahowines.org/event/june-first-thursday-with-clearwater-canyon-cellars-free-wine-tasting/
CATEGORIES:Idaho Wine Month,Savor The Weekend
END:VEVENT
BEGIN:VEVENT
DTSTART;TZID=America/Boise:20250606T000000
DTEND;TZID=America/Boise:20250606T235959
DTSTAMP:20260420T061622
CREATED:20250529T152629Z
LAST-MODIFIED:20250529T152631Z
UID:10008349-1749168000-1749254399@idahowines.org
SUMMARY:HAT Ranch Tasting for Idaho Wine and Cider Month
DESCRIPTION:Home / Idaho Wine Month / Page 2\n\n\nHAT Ranch Tasting for Idaho Wine and Cider Month\n\n\n\n\n\n\n\n\nJune 6 co-op wine shop- come enjoy samples from HAT Ranch Winery!
URL:https://idahowines.org/event/hat-ranch-tasting-for-idaho-wine-and-cider-month/
CATEGORIES:Idaho Wine Month,Savor The Weekend
END:VEVENT
BEGIN:VEVENT
DTSTART;TZID=America/Boise:20250606T140000
DTEND;TZID=America/Boise:20250606T180000
DTSTAMP:20260420T061622
CREATED:20250527T123731Z
LAST-MODIFIED:20250527T123734Z
UID:10008344-1749218400-1749232800@idahowines.org
SUMMARY:Rolling Hills Urban Tasting Room - permanent jewelry pop
DESCRIPTION:Home / Idaho Wine Month / Page 2\n\n\nHAT Ranch Tasting for Idaho Wine and Cider Month\n\n\n\n\n\n\n\n\nJune 6th \n\n\n\nWe have a permanent jewelry pop up shop 2pm-6pm + live music with Sam Henry 2pm-5pm
URL:https://idahowines.org/event/rolling-hills-urban-tasting-room-permanent-jewelry-pop/
CATEGORIES:Idaho Wine Month,Savor The Weekend
END:VEVENT
BEGIN:VEVENT
DTSTART;TZID=America/Boise:20250606T173000
DTEND;TZID=America/Boise:20250606T193000
DTSTAMP:20260420T061622
CREATED:20250602T183747Z
LAST-MODIFIED:20250602T183750Z
UID:10008362-1749231000-1749238200@idahowines.org
SUMMARY:Proletariat - Wine and Cheese Event
DESCRIPTION:Home / Idaho Wine Month / Page 2\n\n\nHAT Ranch Tasting for Idaho Wine and Cider Month\n\n\n\n\n\n\n\n\nLove cheese and wine? Don’t miss our event THIS Friday\, June 6th with @beehivecheese! We’re featuring irresistible cheeses from Beehive Cheese alongside our delicious wines that bring out the best in every bite. 🍷🧀 \n\n\n\nWhether you’re in it for the wine\, the cheese\, or just a good time\, this is your kind of night!  \n\n\n\nBuy tickets https://www.eventbrite.com/e/beehive-cheese-and-wine-pairing-tickets-1366207897599?aff=oddtdtcreator
URL:https://idahowines.org/event/proletariat-wine-and-cheese-event/
CATEGORIES:Idaho Wine Month,Savor The Weekend
END:VEVENT
BEGIN:VEVENT
DTSTART;TZID=America/Boise:20250606T183000
DTEND;TZID=America/Boise:20250606T203000
DTSTAMP:20260420T061622
CREATED:20250507T164158Z
LAST-MODIFIED:20250520T150632Z
UID:10008333-1749234600-1749241800@idahowines.org
SUMMARY:Telaya Wine Co. & Clearwater Canyon Cellars Winemaker’s Dinner
DESCRIPTION:Home / Idaho Wine Month / Page 2\n\n\nHAT Ranch Tasting for Idaho Wine and Cider Month\n\n\n\n\n\n\n\n\nIt is a winery takeover! Clearwater Canyon is coming into town to host a Winemaker’s Dinner with Telaya! \n\n\n\nCelebrate Idaho Wine Month with us as we roll out exceptional wine and food at our Winemaker’s Dinner. The dinner will feature the acclaimed wines of Clearwater Canyon Cellars and a seasonally inspired 5-course meal crafted by the culinary team at Terroir. \n\n\n\nEach course is thoughtfully paired with a wine from Clearwater Canyon Cellars or Telaya’s curated selections\, highlighting the unique character of each pairing and the craftsmanship behind both the kitchen and the vineyard. \n\n\n\nDate & Time: Friday\, June 6th @ 6:30pmTickets: $95 per person \n\n\n\n\nDuring checkout\, there will be an option to specify any food allergies. Terroir will do their best to accommodate with advance notice.\n\n\n\nWine Club Members: Don’t forget to use your code for special ticket pricing!\n\n\n\n\nAn evening of fine wine\, delicious food\, and great company awaits. Get your tickets today!
URL:https://idahowines.org/event/telaya-wine-co-clearwater-canyon-cellars-winemakers-dinner/
CATEGORIES:Idaho Wine Month,Savor The Weekend
END:VEVENT
BEGIN:VEVENT
DTSTART;TZID=America/Boise:20250607T000000
DTEND;TZID=America/Boise:20250607T235959
DTSTAMP:20260420T061622
CREATED:20250527T123845Z
LAST-MODIFIED:20250527T123847Z
UID:10008345-1749254400-1749340799@idahowines.org
SUMMARY:Rolling Hills Vineyard - At The Boise Farmers Market
DESCRIPTION:Home / Idaho Wine Month / Page 2\n\n\nHAT Ranch Tasting for Idaho Wine and Cider Month\n\n\n\n\n\n\n\n\nJune 7th / 21st \n\n\n\nWe are at the Boise farmers market
URL:https://idahowines.org/event/rolling-hills-vineyard-at-the-boise-farmers-market/
CATEGORIES:Idaho Wine Month,Savor The Weekend
END:VEVENT
BEGIN:VEVENT
DTSTART;TZID=America/Boise:20250607T130000
DTEND;TZID=America/Boise:20250607T160000
DTSTAMP:20260420T061622
CREATED:20250516T151835Z
LAST-MODIFIED:20250529T153205Z
UID:10008336-1749301200-1749312000@idahowines.org
SUMMARY:Pre-Savor Block Party at Cinder!
DESCRIPTION:Home / Idaho Wine Month / Page 2\n\n\nHAT Ranch Tasting for Idaho Wine and Cider Month\n\n\n\n\n\n\n\n\nGet ready to kick off Savor Idaho weekend with us in the best way—a Pre-Savor Block Party at Cinder! \n\n\n\nIdaho Wine Month Celebration at Cinder & VeerCinder + guest winery 3100 Cellars (all sparkling!)Veer + guest wineries Fujishin & RivauraBeehive Cheese samples & salesBasquo Fiasco Food Truck & Scooped Ice Cream on-siteNo tickets—just show up and sip! \n\n\n\nWant to keep the party going?Head just down the Greenbelt to our new wine pub\, Laissez Faire Wine Co.—wines by the glass or flask\, fun snacks\, and a relaxed\, walk-in-only vibe await! \n\n\n\nLet’s celebrate Idaho wine (and cheese!) together—we can’t wait to see you there.
URL:https://idahowines.org/event/pre-savor-block-party-at-cinder/
CATEGORIES:Idaho Wine Month,Savor The Weekend
END:VEVENT
BEGIN:VEVENT
DTSTART;TZID=America/Boise:20250608T120000
DTEND;TZID=America/Boise:20250608T180000
DTSTAMP:20260420T061622
CREATED:20250605T205706Z
LAST-MODIFIED:20250605T205708Z
UID:10008363-1749384000-1749405600@idahowines.org
SUMMARY:Meriwether Cider Co - Plant Swap
DESCRIPTION:Home / Idaho Wine Month / Page 2\n\n\nHAT Ranch Tasting for Idaho Wine and Cider Month\n\n\n\n\n\n\n\n\nPlant Swap @ Garden City Taproom – 12-6pm
URL:https://idahowines.org/event/meriwether-cider-co-plant-swap/
CATEGORIES:Idaho Wine Month,Savor The Weekend
END:VEVENT
BEGIN:VEVENT
DTSTART;TZID=America/Boise:20250608T130000
DTEND;TZID=America/Boise:20250608T160000
DTSTAMP:20260420T061622
CREATED:20250602T152645Z
LAST-MODIFIED:20250602T152649Z
UID:10008357-1749387600-1749398400@idahowines.org
SUMMARY:Ste. Chapelle - Tasting Room Popup
DESCRIPTION:Home / Idaho Wine Month / Page 2\n\n\nHAT Ranch Tasting for Idaho Wine and Cider Month\n\n\n\n\n\n\n\n\nRustic River Soap Company at Ste. Chapelle Winery
URL:https://idahowines.org/event/ste-chapelle-tasting-room-popup-3/
CATEGORIES:Idaho Wine Month,Savor The Weekend
END:VEVENT
BEGIN:VEVENT
DTSTART;TZID=America/Boise:20250609T180000
DTEND;TZID=America/Boise:20250609T200000
DTSTAMP:20260420T061622
CREATED:20250520T145955Z
LAST-MODIFIED:20250520T150559Z
UID:10008339-1749492000-1749499200@idahowines.org
SUMMARY:Telaya Bites with Sushi Shack
DESCRIPTION:Home / Idaho Wine Month / Page 2\n\n\nHAT Ranch Tasting for Idaho Wine and Cider Month\n\n\n\n\n\n\n\n\nEnjoy a selection of 5 different creations from Sushi Shack\, each thoughtfully paired with a signature wine from Telaya. Whether you’re a foodie\, a wine enthusiast\, or simply looking for a fun and flavorful evening\, Telaya Bites is always a unique celebration of flavor and great company!
URL:https://idahowines.org/event/telaya-bites-with-sushi-shack/
CATEGORIES:Idaho Wine Month
END:VEVENT
BEGIN:VEVENT
DTSTART;TZID=America/Boise:20250612T183000
DTEND;TZID=America/Boise:20250612T203000
DTSTAMP:20260420T061622
CREATED:20250605T210009Z
LAST-MODIFIED:20250605T210040Z
UID:10008364-1749753000-1749760200@idahowines.org
SUMMARY:Meriwether Cider Co - Bluegrass Jam
DESCRIPTION:Home / Idaho Wine Month / Page 2\n\n\nHAT Ranch Tasting for Idaho Wine and Cider Month\n\n\n\n\n\n\n\n\nBluegrass Jam @ Garden City Taproom – 6:30-8:30pm
URL:https://idahowines.org/event/meriwether-cider-co-bluegrass-jam-2/
CATEGORIES:Idaho Wine Month
END:VEVENT
BEGIN:VEVENT
DTSTART;TZID=America/Boise:20250613T000000
DTEND;TZID=America/Boise:20250613T235959
DTSTAMP:20260420T061622
CREATED:20250529T152756Z
LAST-MODIFIED:20250529T152758Z
UID:10008350-1749772800-1749859199@idahowines.org
SUMMARY:HAT Ranch Tasting for Idaho Wine and Cider Month
DESCRIPTION:Home / Idaho Wine Month / Page 2\n\n\nHAT Ranch Tasting for Idaho Wine and Cider Month\n\n\n\n\n\n\n\n\nJune 13 Albertsons on Broadway
URL:https://idahowines.org/event/hat-ranch-tasting-for-idaho-wine-and-cider-month-2/
CATEGORIES:Idaho Wine Month
END:VEVENT
BEGIN:VEVENT
DTSTART;TZID=America/Boise:20250613T170000
DTEND;TZID=America/Boise:20250613T190000
DTSTAMP:20260420T061622
CREATED:20250529T153416Z
LAST-MODIFIED:20250529T153418Z
UID:10008352-1749834000-1749841200@idahowines.org
SUMMARY:Boots on the Lawn – Country Night at Cinder
DESCRIPTION:Home / Idaho Wine Month / Page 2\n\n\nHAT Ranch Tasting for Idaho Wine and Cider Month\n\n\n\n\n\n\n\n\n Friday\, June 13th | 5–7 PMBoots on the Lawn – Country Night at CinderLive music by Jordan ShawBig Meats BBQ from 3–7 PMDrinks from our Garden BarWear your boots\, bring your blankets—no reservations needed!
URL:https://idahowines.org/event/boots-on-the-lawn-country-night-at-cinder/
CATEGORIES:Idaho Wine Month
END:VEVENT
BEGIN:VEVENT
DTSTART;TZID=America/Boise:20250613T180000
DTEND;TZID=America/Boise:20250613T210000
DTSTAMP:20260420T061622
CREATED:20250606T171626Z
LAST-MODIFIED:20250606T171629Z
UID:10008369-1749837600-1749848400@idahowines.org
SUMMARY:Huston Vineyards - Summer Release Party
DESCRIPTION:Home / Idaho Wine Month / Page 2\n\n\nHAT Ranch Tasting for Idaho Wine and Cider Month\n\n\n\n\n\n\n\n\n June 13th 6-9 pm \n\n\n\nCelebrate Summer Together with the Unveiling of Our Newest Wines! \n\n\n\nSummer isn’t just about the sunshine – it’s about connecting with friends\, and fellow wine lovers!  Join us as we release our new wines including:   \n\n\n\n\n2024 Huston Rosé: Light\, refreshing\, and a perfect summertime sip! \n\n\n\n2023 Private Reserve Chardonnay: A smooth\, sophisticated choice that invites great conversation.\n\n\n\n2023 Huston Malbec: Deep\, rich\, and made to be enjoyed with friends old and new.\n\n\n\n\nAnd for the first time ever\, we’re introducing a new varietal to our Snake River Valley series:2022 Huston Mourvèdre – a bold new addition that’s all about summer grilling with great friends!  \n\n\n\nGroove to the soulful tunes of Lindzey Autumn while you connect with fellow wine lovers amongst the vines and grab dinner from The Hood Food Truck or Right Side of the Boat.  \n\n\n\nReservations made ahead of time are helpful but not required. \n\n\n\nhttps://hustonvineyards.com/contact-us/tasting-reservations/
URL:https://idahowines.org/event/huston-vineyards-summer-release-party/
CATEGORIES:Idaho Wine Month
ATTACH;FMTTYPE=image/jpeg:https://idahowines.org/content/uploads/2025/06/Calendars-Summer-Wine-Release-Party.jpg
END:VEVENT
BEGIN:VEVENT
DTSTART;TZID=America/Boise:20250614T100000
DTEND;TZID=America/Boise:20250614T140000
DTSTAMP:20260420T061622
CREATED:20250529T183740Z
LAST-MODIFIED:20250529T183743Z
UID:10008354-1749895200-1749909600@idahowines.org
SUMMARY:3100 Cellars - River Market at Quinn's Pond
DESCRIPTION:Home / Idaho Wine Month / Page 2\n\n\nHAT Ranch Tasting for Idaho Wine and Cider Month\n\n\n\n\n\n\n\n\n \n\n\n\n\nSATURDAYS\, JUNE 14 & JULY 17Come see us at the River Market at Quinn’s Pond. We will be pouring bubbles alongside 30+ local vendors and artisans. Grab a SUP and enjoy summer on the water!
URL:https://idahowines.org/event/3100-cellars-river-market-at-quinns-pond/
CATEGORIES:Idaho Wine Month
END:VEVENT
BEGIN:VEVENT
DTSTART;TZID=America/Boise:20250614T120000
DTEND;TZID=America/Boise:20250614T170000
DTSTAMP:20260420T061622
CREATED:20250606T171710Z
LAST-MODIFIED:20250606T171713Z
UID:10008370-1749902400-1749920400@idahowines.org
SUMMARY:Huston Vineyards - Summer Release Party
DESCRIPTION:Home / Idaho Wine Month / Page 2\n\n\nHAT Ranch Tasting for Idaho Wine and Cider Month\n\n\n\n\n\n\n\n\nSaturday\, June 14 12-5 pm \n\n\n\nCelebrate Summer Together with the Unveiling of Our Newest Wines! \n\n\n\nSummer isn’t just about the sunshine – it’s about connecting with friends\, and fellow wine lovers!  Join us as we release our new wines including:   \n\n\n\n\n2024 Huston Rosé: Light\, refreshing\, and a perfect summertime sip! \n\n\n\n2023 Private Reserve Chardonnay: A smooth\, sophisticated choice that invites great conversation.\n\n\n\n2023 Huston Malbec: Deep\, rich\, and made to be enjoyed with friends old and new.\n\n\n\n\nAnd for the first time ever\, we’re introducing a new varietal to our Snake River Valley series:2022 Huston Mourvèdre – a bold new addition that’s all about summer grilling with great friends!  \n\n\n\nGroove Alley will be moving and grooving on the lawn so bring your friends\, your lawn chair and pop up tent.  Be sure to grab lunch from The Hood Food Truck.  Reservations made ahead of time are helpful but not required. \n\n\n\nhttps://hustonvineyards.com/contact-us/tasting-reservations/-
URL:https://idahowines.org/event/huston-vineyards-summer-release-party-2/
CATEGORIES:Idaho Wine Month
ATTACH;FMTTYPE=image/jpeg:https://idahowines.org/content/uploads/2025/06/Calendars-Summer-Wine-Release-Party.jpg
END:VEVENT
BEGIN:VEVENT
DTSTART;TZID=America/Boise:20250614T150000
DTEND;TZID=America/Boise:20250614T210000
DTSTAMP:20260420T061622
CREATED:20250602T152937Z
LAST-MODIFIED:20250602T152939Z
UID:10008358-1749913200-1749934800@idahowines.org
SUMMARY:Ste. Chapelle - Wicked Wine Run
DESCRIPTION:Home / Idaho Wine Month / Page 2\n\n\nHAT Ranch Tasting for Idaho Wine and Cider Month\n\n\n\n\n\n\n\n\nSte Chapelle Winery\, Idaho’s oldest winery\, offers an impressive selection of premium wines set against the stunning backdrop of the Snake River Valley and Owyhee Mountain Range. With its charming Chateau Tasting Room and breathtaking sunsets\, it’s a must-visit destination. Join the Wicked Wine Run for a fun-filled day of running or walking through the scenic vines\, followed by a celebration of wine\, music\, and friends. Don’t miss your chance to sip\, savor\, and run with Wicked Wine Run at Ste Chapelle in Boise\, ID!More information HERE
URL:https://idahowines.org/event/ste-chapelle-wicked-wine-run/
CATEGORIES:Idaho Wine Month
END:VEVENT
BEGIN:VEVENT
DTSTART;TZID=America/Boise:20250615T110000
DTEND;TZID=America/Boise:20250615T150000
DTSTAMP:20260420T061622
CREATED:20250602T154322Z
LAST-MODIFIED:20250602T154324Z
UID:10008359-1749985200-1749999600@idahowines.org
SUMMARY:Ste. Chapelle - Father's Day Concert
DESCRIPTION:Home / Idaho Wine Month / Page 2\n\n\nHAT Ranch Tasting for Idaho Wine and Cider Month\n\n\n\n\n\n\n\n\nSte. Chapelle Father’s Day Concert | Ft. Summer Groove Band
URL:https://idahowines.org/event/ste-chapelle-fathers-day-concert/
CATEGORIES:Idaho Wine Month
END:VEVENT
BEGIN:VEVENT
DTSTART;TZID=America/Boise:20250615T120000
DTEND;TZID=America/Boise:20250615T150000
DTSTAMP:20260420T061622
CREATED:20250520T150055Z
LAST-MODIFIED:20250520T150534Z
UID:10008340-1749988800-1749999600@idahowines.org
SUMMARY:Father's Day Live Music at Telaya Wine Company
DESCRIPTION:Home / Idaho Wine Month / Page 2\n\n\nHAT Ranch Tasting for Idaho Wine and Cider Month\n\n\n\n\n\n\n\n\nTreat your dad to a great patio hang with delicious wine\, lunch from Terroir and live music from Douglas Cameron! 
URL:https://idahowines.org/event/fathers-day-live-music-at-telaya-wine-company/
CATEGORIES:Idaho Wine Month
END:VEVENT
BEGIN:VEVENT
DTSTART;TZID=America/Boise:20250615T140000
DTEND;TZID=America/Boise:20250615T170000
DTSTAMP:20260420T061622
CREATED:20250527T124012Z
LAST-MODIFIED:20250527T124014Z
UID:10008347-1749996000-1750006800@idahowines.org
SUMMARY:Rolling Hills Urban Tasting Room - Live music with Nick Mattera
DESCRIPTION:Home / Idaho Wine Month / Page 2\n\n\nHAT Ranch Tasting for Idaho Wine and Cider Month\n\n\n\n\n\n\n\n\nJune 15th \n\n\n\nLive music with Nick Mattera 2pm-5pm
URL:https://idahowines.org/event/rolling-hills-urban-tasting-room-live-music-with-nick-mattera/
CATEGORIES:Idaho Wine Month
END:VEVENT
BEGIN:VEVENT
DTSTART;TZID=America/Boise:20250618T173000
DTEND;TZID=America/Boise:20250618T203000
DTSTAMP:20260420T061622
CREATED:20250605T210138Z
LAST-MODIFIED:20250605T210221Z
UID:10008365-1750267800-1750278600@idahowines.org
SUMMARY:Meriwether Cider Co - Grilled Cheese Night
DESCRIPTION:Home / Idaho Wine Month / Page 2\n\n\nHAT Ranch Tasting for Idaho Wine and Cider Month\n\n\n\n\n\n\n\n\nGrilled Cheese Night w/ The Gettin’ Spot @ Garden City Taproom – 5:30-8:30pm
URL:https://idahowines.org/event/meriwether-cider-co-grilled-cheese-night-2/
CATEGORIES:Idaho Wine Month
END:VEVENT
BEGIN:VEVENT
DTSTART;TZID=America/Boise:20250619T120000
DTEND;TZID=America/Boise:20250619T180000
DTSTAMP:20260420T061622
CREATED:20250605T210309Z
LAST-MODIFIED:20250605T210312Z
UID:10008366-1750334400-1750356000@idahowines.org
SUMMARY:Meriwether Cider Co - Life is Brewtiful Blood Drive
DESCRIPTION:Home / Idaho Wine Month / Page 2\n\n\nHAT Ranch Tasting for Idaho Wine and Cider Month\n\n\n\n\n\n\n\n\nLife is Brewtiful Blood Drive w/ American Red Cross @ Garden City Taproom- 12pm-6pm
URL:https://idahowines.org/event/meriwether-cider-co-life-is-brewtiful-blood-drive/
CATEGORIES:Idaho Wine Month
END:VEVENT
BEGIN:VEVENT
DTSTART;TZID=America/Boise:20250620T000000
DTEND;TZID=America/Boise:20250620T235959
DTSTAMP:20260420T061622
CREATED:20250529T152838Z
LAST-MODIFIED:20250529T152840Z
UID:10008351-1750377600-1750463999@idahowines.org
SUMMARY:HAT Ranch Tasting for Idaho Wine and Cider Month
DESCRIPTION:Home / Idaho Wine Month / Page 2\n\n\nHAT Ranch Tasting for Idaho Wine and Cider Month\n\n\n\n\n\n\n\n\nJune 20 Boise Co-op Village
URL:https://idahowines.org/event/hat-ranch-tasting-for-idaho-wine-and-cider-month-3/
CATEGORIES:Idaho Wine Month
END:VEVENT
BEGIN:VEVENT
DTSTART;TZID=America/Boise:20250620T180000
DTEND;TZID=America/Boise:20250620T210000
DTSTAMP:20260420T061622
CREATED:20250606T231628Z
LAST-MODIFIED:20250606T231631Z
UID:10008371-1750442400-1750453200@idahowines.org
SUMMARY:Huston Vineyards - Sippin In The Sunset
DESCRIPTION:Home / Idaho Wine Month / Page 2\n\n\nHAT Ranch Tasting for Idaho Wine and Cider Month\n\n\n\n\n\n\n\n\nKick back on the vineyard lawn with a glass of wine in hand\, great company by your side\, and live music in the air. Bring your neighbors\, and your lawn chairs\, — we’ll bring the good vibes. \n\n\n\nSinger-songwriter Jordan Shaw will serenade you with his upbeat\, cross-genre music that is equal parts soul and fun.Hungry? Let Kanak Attack and Melt food trucks handle dinner with their crowd-pleasing menus. \n\n\n\nWine\, music\, and an amazing view — it’s the perfect way to toast the Summer season!  \n\n\n\nhttps://hustonvineyards.com/calendar/sunset-tasting-june/
URL:https://idahowines.org/event/huston-vineyards-sippin-in-the-sunset-5/
CATEGORIES:Idaho Wine Month
ATTACH;FMTTYPE=image/jpeg:https://idahowines.org/content/uploads/2025/06/Calendars-June-Sippin-Real-Estate-Flyer-Real-Estate-Flyer.jpg
END:VEVENT
END:VCALENDAR