BEGIN:VCALENDAR
VERSION:2.0
PRODID:-//Idaho Wine Commission - ECPv6.15.17//NONSGML v1.0//EN
CALSCALE:GREGORIAN
METHOD:PUBLISH
X-ORIGINAL-URL:https://idahowines.org
X-WR-CALDESC:Events for Idaho Wine Commission
REFRESH-INTERVAL;VALUE=DURATION:PT1H
X-Robots-Tag:noindex
X-PUBLISHED-TTL:PT1H
BEGIN:VTIMEZONE
TZID:America/Boise
BEGIN:DAYLIGHT
TZOFFSETFROM:-0700
TZOFFSETTO:-0600
TZNAME:MDT
DTSTART:20230312T090000
END:DAYLIGHT
BEGIN:STANDARD
TZOFFSETFROM:-0600
TZOFFSETTO:-0700
TZNAME:MST
DTSTART:20231105T080000
END:STANDARD
BEGIN:DAYLIGHT
TZOFFSETFROM:-0700
TZOFFSETTO:-0600
TZNAME:MDT
DTSTART:20240310T090000
END:DAYLIGHT
BEGIN:STANDARD
TZOFFSETFROM:-0600
TZOFFSETTO:-0700
TZNAME:MST
DTSTART:20241103T080000
END:STANDARD
BEGIN:DAYLIGHT
TZOFFSETFROM:-0700
TZOFFSETTO:-0600
TZNAME:MDT
DTSTART:20250309T090000
END:DAYLIGHT
BEGIN:STANDARD
TZOFFSETFROM:-0600
TZOFFSETTO:-0700
TZNAME:MST
DTSTART:20251102T080000
END:STANDARD
END:VTIMEZONE
BEGIN:VEVENT
DTSTART;TZID=America/Boise:20240622T090000
DTEND;TZID=America/Boise:20240622T170000
DTSTAMP:20260420T025909
CREATED:20240603T142140Z
LAST-MODIFIED:20240603T142142Z
UID:10004987-1719046800-1719075600@idahowines.org
SUMMARY:Wine Club Member Only Vineyard Experience - Cinder Wines
DESCRIPTION:Home / Idaho Wine Month\n\n\nWine and Cider Month\n\n\n\n\n\n\n\n\nWe’re excited to offer Cinder Wine Club Members an exclusive opportunity to join us for an intimate vineyard experience with our esteemed Winemaker\, Melanie Krause\, on June 22nd. This promises to be an unforgettable day filled with exploration\, tastings\, and culinary delights!  \n\n\n\nPlease note this is a Wine Club Member only event! This exclusive experience is limited to just 12 seats\, ensuring an intimate setting where you can interact closely with Melanie and fellow wine enthusiasts. \n\n\n\nTickets: $165/person 
URL:https://idahowines.org/event/wine-club-member-only-vineyard-experience-cinder-wines/
LOCATION:Cinder Winery\, 107 E 44th St\, Garden City\, ID\, 83714\, United States
CATEGORIES:Idaho Wine Month,Winery Event
ATTACH;FMTTYPE=image/jpeg:https://idahowines.org/content/uploads/2024/06/vineyard.jpeg
END:VEVENT
BEGIN:VEVENT
DTSTART;TZID=America/Boise:20240622T100000
DTEND;TZID=America/Boise:20240622T190000
DTSTAMP:20260420T025909
CREATED:20240515T190211Z
LAST-MODIFIED:20240515T190213Z
UID:10004926-1719050400-1719082800@idahowines.org
SUMMARY:Wine & Art Festival at Terrace Lakes Resort - Colter's Creek
DESCRIPTION:Home / Idaho Wine Month\n\n\nWine and Cider Month\n\n\n\n\n\n\n\n\nPlan a fun day at the annual Terrace Lakes Resort Wine & Art Festival! Find us at this fun event in Garden Valley. Find crafts made by local artisans while you sip on delicious wines!
URL:https://idahowines.org/event/wine-art-festival-at-terrace-lakes-resort-colters-creek/
LOCATION:Terrace Lakes Resort\, 101 Holiday Dr\, Garden Valley\, Idaho\, 83622\, United States
CATEGORIES:Idaho Wine Month,Winery Event
ATTACH;FMTTYPE=image/jpeg:https://idahowines.org/content/uploads/2024/05/festival.jpeg
END:VEVENT
BEGIN:VEVENT
DTSTART;TZID=America/Boise:20240622T140000
DTEND;TZID=America/Boise:20240622T180000
DTSTAMP:20260420T025909
CREATED:20240515T190437Z
LAST-MODIFIED:20240515T190439Z
UID:10004927-1719064800-1719079200@idahowines.org
SUMMARY:Wine on the Snake - Colter's Creek
DESCRIPTION:Home / Idaho Wine Month\n\n\nWine and Cider Month\n\n\n\n\n\n\n\n\nExperience a wine tasting adventure celebrating Idaho Wine and Cider Month. The tour will take you to Garden Creek Ranch Lodge in Hells Canyon. Savor a curated selection of hors d’oeuvres while sampling wine from five local wineries. Leave with a wine swag bag and a logo wine tumbler! \n\n\n\nTickets $155/person \n\n\n\nGet tickets at snakeriveradventures.com.
URL:https://idahowines.org/event/wine-on-the-snake-colters-creek/
CATEGORIES:Idaho Wine Month,Winery Event
ATTACH;FMTTYPE=image/jpeg:https://idahowines.org/content/uploads/2024/05/snake.jpeg
END:VEVENT
BEGIN:VEVENT
DTSTART;TZID=America/Boise:20240622T170000
DTEND;TZID=America/Boise:20240622T200000
DTSTAMP:20260420T025909
CREATED:20240529T182642Z
LAST-MODIFIED:20240529T182644Z
UID:10004977-1719075600-1719086400@idahowines.org
SUMMARY:Live Music with Eli Lev - Pend d'Oreille Winery
DESCRIPTION:Home / Idaho Wine Month\n\n\nWine and Cider Month\n\n\n\n\n\n\n\n\nWe welcome Eli Lev as he adds Pend d’ Oreille Winery to his tour! Let’s fill the space for Eli! Eliis an ambassador of good vibes\, connecting through music and soul. Indie\, Americana\, Folk\,and Originals.
URL:https://idahowines.org/event/live-music-with-eli-lev-pend-doreille-winery/
LOCATION:Pend d’Oreille Winery\, 301 Cedar St STE 101\, Sandpoint\, ID\, 83864\, United States
CATEGORIES:Idaho Wine Month,Winery Event
ATTACH;FMTTYPE=image/webp:https://idahowines.org/content/uploads/2023/06/penddorelle-logo@2x.webp
END:VEVENT
BEGIN:VEVENT
DTSTART;TZID=America/Boise:20240622T180000
DTEND;TZID=America/Boise:20240622T210000
DTSTAMP:20260420T025909
CREATED:20240529T172505Z
LAST-MODIFIED:20240529T172506Z
UID:10004957-1719079200-1719090000@idahowines.org
SUMMARY:Summer Concert Series: Phil Roy - Cinder Wines
DESCRIPTION:Home / Idaho Wine Month\n\n\nWine and Cider Month\n\n\n\n\n\n\n\n\nJoin us at Cinder to kick off our Summer Concert Series! We’re thrilled to showcase the talents of Phil Roy. Originally from Philadelphia\, Pennsylvania\, Phil has a rich history of singing and songwriting. Now based in Boise\, Idaho\, he continues to write music\, cook\, and raise his family.The doors will open at 6pm\, with the show commencing at 7:30pm. Enjoy small bites and wine on tap throughout the event. \n\n\n\nTikcets: $37/person
URL:https://idahowines.org/event/summer-concert-series-phil-roy-cinder-wines/
LOCATION:Cinder Winery\, 107 E 44th St\, Garden City\, ID\, 83714\, United States
CATEGORIES:Idaho Wine Month,Winery Event
ATTACH;FMTTYPE=image/webp:https://idahowines.org/content/uploads/2023/06/cinder-logo@2x.webp
END:VEVENT
END:VCALENDAR