BEGIN:VCALENDAR
VERSION:2.0
PRODID:-//Idaho Wine Commission - ECPv6.15.17//NONSGML v1.0//EN
CALSCALE:GREGORIAN
METHOD:PUBLISH
X-ORIGINAL-URL:https://idahowines.org
X-WR-CALDESC:Events for Idaho Wine Commission
REFRESH-INTERVAL;VALUE=DURATION:PT1H
X-Robots-Tag:noindex
X-PUBLISHED-TTL:PT1H
BEGIN:VTIMEZONE
TZID:America/Boise
BEGIN:DAYLIGHT
TZOFFSETFROM:-0700
TZOFFSETTO:-0600
TZNAME:MDT
DTSTART:20230312T090000
END:DAYLIGHT
BEGIN:STANDARD
TZOFFSETFROM:-0600
TZOFFSETTO:-0700
TZNAME:MST
DTSTART:20231105T080000
END:STANDARD
BEGIN:DAYLIGHT
TZOFFSETFROM:-0700
TZOFFSETTO:-0600
TZNAME:MDT
DTSTART:20240310T090000
END:DAYLIGHT
BEGIN:STANDARD
TZOFFSETFROM:-0600
TZOFFSETTO:-0700
TZNAME:MST
DTSTART:20241103T080000
END:STANDARD
BEGIN:DAYLIGHT
TZOFFSETFROM:-0700
TZOFFSETTO:-0600
TZNAME:MDT
DTSTART:20250309T090000
END:DAYLIGHT
BEGIN:STANDARD
TZOFFSETFROM:-0600
TZOFFSETTO:-0700
TZNAME:MST
DTSTART:20251102T080000
END:STANDARD
END:VTIMEZONE
BEGIN:VEVENT
DTSTART;TZID=America/Boise:20240621T170000
DTEND;TZID=America/Boise:20240621T190000
DTSTAMP:20260420T040732
CREATED:20240229T180238Z
LAST-MODIFIED:20240306T203051Z
UID:10004206-1718989200-1718996400@idahowines.org
SUMMARY:SAVOR THE WEEKEND - Williamson & Huston Wine Tasting at A New Vintage Wine Shop
DESCRIPTION:Home / Idaho Wine Month\n\n\nWine and Cider Month\n\n\n\n\n\n\n\n\nWine is better together! Bring your friends and enjoy a tasting at A New Vintage Wine Shop in Meridian and enjoy a tasting by Williamson Orchards and Vineyards and Huston Vineyards. Celebrate Idaho Wine and Cider Month with a double tasting and take a bottle (or two) home with you to enjoy.
URL:https://idahowines.org/event/williamson-wine-tasting-at-a-new-vintage-wine-shop/
CATEGORIES:Idaho Wine Month,Savor The Weekend,Wine Tasting,Winery Event
ATTACH;FMTTYPE=image/jpeg:https://idahowines.org/content/uploads/2024/02/SavorIdaho2023-147.jpg
END:VEVENT
BEGIN:VEVENT
DTSTART;TZID=America/Boise:20240621T170000
DTEND;TZID=America/Boise:20240621T200000
DTSTAMP:20260420T040732
CREATED:20240529T182507Z
LAST-MODIFIED:20240529T182509Z
UID:10004976-1718989200-1719000000@idahowines.org
SUMMARY:Live Music with Nobody Famous - Pend d'Oreille Winery
DESCRIPTION:Home / Idaho Wine Month\n\n\nWine and Cider Month\n\n\n\n\n\n\n\n\nNobody Famous presents carefree favorites with contagious energy. Enjoy a glass ofChardonnay and a handcrafted pizza while swaying with this bluesy\, fun duo!
URL:https://idahowines.org/event/live-music-with-nobody-famous-pend-doreille-winery/
LOCATION:Pend d’Oreille Winery\, 301 Cedar St STE 101\, Sandpoint\, ID\, 83864\, United States
CATEGORIES:Idaho Wine Month,Winery Event
ATTACH;FMTTYPE=image/webp:https://idahowines.org/content/uploads/2023/06/penddorelle-logo@2x.webp
END:VEVENT
END:VCALENDAR