BEGIN:VCALENDAR
VERSION:2.0
PRODID:-//Idaho Wine Commission - ECPv6.15.17//NONSGML v1.0//EN
CALSCALE:GREGORIAN
METHOD:PUBLISH
X-ORIGINAL-URL:https://idahowines.org
X-WR-CALDESC:Events for Idaho Wine Commission
REFRESH-INTERVAL;VALUE=DURATION:PT1H
X-Robots-Tag:noindex
X-PUBLISHED-TTL:PT1H
BEGIN:VTIMEZONE
TZID:America/Boise
BEGIN:DAYLIGHT
TZOFFSETFROM:-0700
TZOFFSETTO:-0600
TZNAME:MDT
DTSTART:20230312T090000
END:DAYLIGHT
BEGIN:STANDARD
TZOFFSETFROM:-0600
TZOFFSETTO:-0700
TZNAME:MST
DTSTART:20231105T080000
END:STANDARD
BEGIN:DAYLIGHT
TZOFFSETFROM:-0700
TZOFFSETTO:-0600
TZNAME:MDT
DTSTART:20240310T090000
END:DAYLIGHT
BEGIN:STANDARD
TZOFFSETFROM:-0600
TZOFFSETTO:-0700
TZNAME:MST
DTSTART:20241103T080000
END:STANDARD
BEGIN:DAYLIGHT
TZOFFSETFROM:-0700
TZOFFSETTO:-0600
TZNAME:MDT
DTSTART:20250309T090000
END:DAYLIGHT
BEGIN:STANDARD
TZOFFSETFROM:-0600
TZOFFSETTO:-0700
TZNAME:MST
DTSTART:20251102T080000
END:STANDARD
END:VTIMEZONE
BEGIN:VEVENT
DTSTART;TZID=America/Boise:20240619T170000
DTEND;TZID=America/Boise:20240619T190000
DTSTAMP:20260420T073724
CREATED:20240529T182339Z
LAST-MODIFIED:20240529T182341Z
UID:10004975-1718816400-1718823600@idahowines.org
SUMMARY:Piano with Bob Beadling - Pend d'Oreille Winery
DESCRIPTION:Home / Idaho Wine Month\n\n\nWine and Cider Month\n\n\n\n\n\n\n\n\nBob has been playing professionally for decades and his experience is extensive. Contemporaryand pop piano.
URL:https://idahowines.org/event/piano-with-bob-beadling-pend-doreille-winery/
LOCATION:Pend d’Oreille Winery\, 301 Cedar St STE 101\, Sandpoint\, ID\, 83864\, United States
CATEGORIES:Idaho Wine Month,Winery Event
ATTACH;FMTTYPE=image/webp:https://idahowines.org/content/uploads/2023/06/penddorelle-logo@2x.webp
END:VEVENT
END:VCALENDAR