BEGIN:VCALENDAR
VERSION:2.0
PRODID:-//Idaho Wine Commission - ECPv6.15.17//NONSGML v1.0//EN
CALSCALE:GREGORIAN
METHOD:PUBLISH
X-ORIGINAL-URL:https://idahowines.org
X-WR-CALDESC:Events for Idaho Wine Commission
REFRESH-INTERVAL;VALUE=DURATION:PT1H
X-Robots-Tag:noindex
X-PUBLISHED-TTL:PT1H
BEGIN:VTIMEZONE
TZID:America/Boise
BEGIN:DAYLIGHT
TZOFFSETFROM:-0700
TZOFFSETTO:-0600
TZNAME:MDT
DTSTART:20230312T090000
END:DAYLIGHT
BEGIN:STANDARD
TZOFFSETFROM:-0600
TZOFFSETTO:-0700
TZNAME:MST
DTSTART:20231105T080000
END:STANDARD
BEGIN:DAYLIGHT
TZOFFSETFROM:-0700
TZOFFSETTO:-0600
TZNAME:MDT
DTSTART:20240310T090000
END:DAYLIGHT
BEGIN:STANDARD
TZOFFSETFROM:-0600
TZOFFSETTO:-0700
TZNAME:MST
DTSTART:20241103T080000
END:STANDARD
BEGIN:DAYLIGHT
TZOFFSETFROM:-0700
TZOFFSETTO:-0600
TZNAME:MDT
DTSTART:20250309T090000
END:DAYLIGHT
BEGIN:STANDARD
TZOFFSETFROM:-0600
TZOFFSETTO:-0700
TZNAME:MST
DTSTART:20251102T080000
END:STANDARD
END:VTIMEZONE
BEGIN:VEVENT
DTSTART;TZID=America/Boise:20240614T150000
DTEND;TZID=America/Boise:20240614T170000
DTSTAMP:20260420T155705
CREATED:20240403T174119Z
LAST-MODIFIED:20240403T174120Z
UID:10004224-1718377200-1718384400@idahowines.org
SUMMARY:Idaho Wine and Cider Month - Split Rail Winery Tasting
DESCRIPTION:Home / Idaho Wine Month\n\n\nWine and Cider Month\n\n\n\n\n\n\n\n\nSplit Rail Winery tasting for Idaho Wine and Cider Month – Albertsons on Broadway!  \n\n\n\nAddress: 1219 S Broadway Ave\, Boise\, ID 83706
URL:https://idahowines.org/event/idaho-wine-and-cider-month-split-rail-winery-tasting/
CATEGORIES:Idaho Wine Month,Wine Tasting
END:VEVENT
BEGIN:VEVENT
DTSTART;TZID=America/Boise:20240614T160000
DTEND;TZID=America/Boise:20240614T180000
DTSTAMP:20260420T155706
CREATED:20240403T173800Z
LAST-MODIFIED:20240403T173801Z
UID:10004223-1718380800-1718388000@idahowines.org
SUMMARY:Idaho Wine and Cider Month - Huston Vineyards Tasting
DESCRIPTION:Home / Idaho Wine Month\n\n\nWine and Cider Month\n\n\n\n\n\n\n\n\nHuston Vineyards tasting for Idaho Wine and Cider Month – Albertsons on Broadway!  \n\n\n\nAddress: 1219 S Broadway Ave\, Boise\, ID 83706
URL:https://idahowines.org/event/idaho-wine-and-cider-month-huston-vineyards-tasting/
CATEGORIES:Idaho Wine Month,Wine Tasting
END:VEVENT
BEGIN:VEVENT
DTSTART;TZID=America/Boise:20240614T170000
DTEND;TZID=America/Boise:20240614T190000
DTSTAMP:20260420T155706
CREATED:20240529T181844Z
LAST-MODIFIED:20240529T181846Z
UID:10004972-1718384400-1718391600@idahowines.org
SUMMARY:POAC Artwalk feat. Cyndi Morgan & Dave Gonzales - Pend d'Oreille Winery
DESCRIPTION:Home / Idaho Wine Month\n\n\nWine and Cider Month\n\n\n\n\n\n\n\n\nTake a moment to visit with our Artists of the Month\, appreciate their artwork\, and enjoy aglass of wine and refreshments.
URL:https://idahowines.org/event/poac-artwalk-feat-cyndi-morgan-dave-gonzales-pend-doreille-winery/
LOCATION:Pend d’Oreille Winery\, 301 Cedar St STE 101\, Sandpoint\, ID\, 83864\, United States
CATEGORIES:Idaho Wine Month,Winery Event
ATTACH;FMTTYPE=image/webp:https://idahowines.org/content/uploads/2023/06/penddorelle-logo@2x.webp
END:VEVENT
BEGIN:VEVENT
DTSTART;TZID=America/Boise:20240614T170000
DTEND;TZID=America/Boise:20240614T200000
DTSTAMP:20260420T155706
CREATED:20240529T181539Z
LAST-MODIFIED:20240529T181541Z
UID:10004971-1718384400-1718395200@idahowines.org
SUMMARY:Live Music with Weibe Jammin' - Pend d'Oreille Winery
DESCRIPTION:Home / Idaho Wine Month\n\n\nWine and Cider Month\n\n\n\n\n\n\n\n\nNick Weibe livens the space with loop pedal and a new set list every time! Weibe Jammin iscreative\, engaging and fun! Rock and Pop
URL:https://idahowines.org/event/live-music-with-weibe-jammin-pend-doreille-winery/
LOCATION:Pend d’Oreille Winery\, 301 Cedar St STE 101\, Sandpoint\, ID\, 83864\, United States
CATEGORIES:Idaho Wine Month,Winery Event
ATTACH;FMTTYPE=image/webp:https://idahowines.org/content/uploads/2023/06/penddorelle-logo@2x.webp
END:VEVENT
BEGIN:VEVENT
DTSTART;TZID=America/Boise:20240614T180000
DTEND;TZID=America/Boise:20240614T210000
DTSTAMP:20260420T155706
CREATED:20240611T152027Z
LAST-MODIFIED:20240611T152028Z
UID:10005003-1718388000-1718398800@idahowines.org
SUMMARY:Summer Release Party - Huston Vineyards
DESCRIPTION:Home / Idaho Wine Month\n\n\nWine and Cider Month\n\n\n\n\n\n\n\n\nBring your sunscreen and lawn chairs and enjoy an evening in the vineyard at Huston Vineyards.  Celebrate the release of our new wines including our 2023 Gruner Veltlinter\, 2023 Rose’\, 2022 Malbec and 2021 Syrah.  Find a great dinner wine pairing with Sear & Savor or Amazing Graze Charcuterie.  Wood River Valley’s own Mark Mueller will be performing as well.  \n\n\n\nReservations helpful.
URL:https://idahowines.org/event/summer-release-party-huston-vineyards/
LOCATION:Huston Vineyards\, 16755 Chicken Dinner Rd.\, Caldwell\, ID\, 83607
CATEGORIES:Idaho Wine Month,Winery Event
ATTACH;FMTTYPE=image/jpeg:https://idahowines.org/content/uploads/2024/06/Summer-Release-Party-June-14.jpg
END:VEVENT
END:VCALENDAR