BEGIN:VCALENDAR
VERSION:2.0
PRODID:-//Idaho Wine Commission - ECPv6.15.17//NONSGML v1.0//EN
CALSCALE:GREGORIAN
METHOD:PUBLISH
X-WR-CALNAME:Idaho Wine Commission
X-ORIGINAL-URL:https://idahowines.org
X-WR-CALDESC:Events for Idaho Wine Commission
REFRESH-INTERVAL;VALUE=DURATION:PT1H
X-Robots-Tag:noindex
X-PUBLISHED-TTL:PT1H
BEGIN:VTIMEZONE
TZID:America/Boise
BEGIN:DAYLIGHT
TZOFFSETFROM:-0700
TZOFFSETTO:-0600
TZNAME:MDT
DTSTART:20230312T090000
END:DAYLIGHT
BEGIN:STANDARD
TZOFFSETFROM:-0600
TZOFFSETTO:-0700
TZNAME:MST
DTSTART:20231105T080000
END:STANDARD
BEGIN:DAYLIGHT
TZOFFSETFROM:-0700
TZOFFSETTO:-0600
TZNAME:MDT
DTSTART:20240310T090000
END:DAYLIGHT
BEGIN:STANDARD
TZOFFSETFROM:-0600
TZOFFSETTO:-0700
TZNAME:MST
DTSTART:20241103T080000
END:STANDARD
BEGIN:DAYLIGHT
TZOFFSETFROM:-0700
TZOFFSETTO:-0600
TZNAME:MDT
DTSTART:20250309T090000
END:DAYLIGHT
BEGIN:STANDARD
TZOFFSETFROM:-0600
TZOFFSETTO:-0700
TZNAME:MST
DTSTART:20251102T080000
END:STANDARD
END:VTIMEZONE
BEGIN:VEVENT
DTSTART;TZID=America/Boise:20240613T173000
DTEND;TZID=America/Boise:20240613T193000
DTSTAMP:20260420T174343
CREATED:20240510T200737Z
LAST-MODIFIED:20240510T200738Z
UID:10004909-1718299800-1718307000@idahowines.org
SUMMARY:Paint and Sip After Hours - Williamson Vineyards
DESCRIPTION:Home / Idaho Wine Month\n\n\nWine and Cider Month\n\n\n\n\n\n\n\n\nWine by the glass and bottle will be available to purchase on site. If you get a little peckish we also offer a selection of items that you can purchase to build your own charcuterie boards. \n\n\n\nTICKETS = $20 per person\, includes paints\, canvas\, and instruction.To reserve your seat click Art & Soul Idaho’s event link. Please note that Art & Soul Idaho does require a minimum of 10 students to hold a class. If we do not get 10 painters and you have already purchased your spot\, you will be issued a refund.
URL:https://idahowines.org/event/paint-and-sip-after-hours-williamson-vineyards-2/
LOCATION:Williamson Orchards & Vineyards\, 14807 Sunnyslope Road\, Caldwell\, Idaho\, 83607
CATEGORIES:Idaho Wine Month,Winery Event
ATTACH;FMTTYPE=image/jpeg:https://idahowines.org/content/uploads/2024/05/bee-happy-150x150-1.jpg
END:VEVENT
END:VCALENDAR