BEGIN:VCALENDAR
VERSION:2.0
PRODID:-//Idaho Wine Commission - ECPv6.15.17//NONSGML v1.0//EN
CALSCALE:GREGORIAN
METHOD:PUBLISH
X-ORIGINAL-URL:https://idahowines.org
X-WR-CALDESC:Events for Idaho Wine Commission
REFRESH-INTERVAL;VALUE=DURATION:PT1H
X-Robots-Tag:noindex
X-PUBLISHED-TTL:PT1H
BEGIN:VTIMEZONE
TZID:America/Boise
BEGIN:DAYLIGHT
TZOFFSETFROM:-0700
TZOFFSETTO:-0600
TZNAME:MDT
DTSTART:20230312T090000
END:DAYLIGHT
BEGIN:STANDARD
TZOFFSETFROM:-0600
TZOFFSETTO:-0700
TZNAME:MST
DTSTART:20231105T080000
END:STANDARD
BEGIN:DAYLIGHT
TZOFFSETFROM:-0700
TZOFFSETTO:-0600
TZNAME:MDT
DTSTART:20240310T090000
END:DAYLIGHT
BEGIN:STANDARD
TZOFFSETFROM:-0600
TZOFFSETTO:-0700
TZNAME:MST
DTSTART:20241103T080000
END:STANDARD
BEGIN:DAYLIGHT
TZOFFSETFROM:-0700
TZOFFSETTO:-0600
TZNAME:MDT
DTSTART:20250309T090000
END:DAYLIGHT
BEGIN:STANDARD
TZOFFSETFROM:-0600
TZOFFSETTO:-0700
TZNAME:MST
DTSTART:20251102T080000
END:STANDARD
END:VTIMEZONE
BEGIN:VEVENT
DTSTART;TZID=America/Boise:20240610T183000
DTEND;TZID=America/Boise:20240611T200000
DTSTAMP:20260420T214804
CREATED:20240507T201725Z
LAST-MODIFIED:20240507T201740Z
UID:10004252-1718044200-1718136000@idahowines.org
SUMMARY:Chanders - IDAHO’S WOMEN OF WINEWinemaker Dinners – Two Nights!
DESCRIPTION:Home / Idaho Wine Month\n\n\nWine and Cider Month\n\n\n\n\n\n\n\n\nMonday\, June 10th -and- Tuesday\, June 11th\, 2024 \n\n\n\n6:30PM – RECEPTION7:00PM – DINNER(same menu both nights) \n\n\n\nPlease join us for a special evening highlighting four of the state’s talented women winemakers – two each night – and enjoy a special five-course menu highlighting Idaho ingredients to pair perfectly with these ladies’ libations. \n\n\n\nCost is $135 includes tax and gratuityGet your ticket by clicking a button below. \n\n\n\nMonday\, June 10thLeslie Preston\, Coiled WinesMaggie Van Weele\, Telaya Wine Company \n\n\n\nBUY JUNE 10TH TICKETS » \n\n\n\nTuesday\, June 11thMeredith Smith\, Sawtooth + St. ChapelleHailey Minder\, 3100 Cellars
URL:https://idahowines.org/event/chanders-idahos-women-of-winewinemaker-dinners-two-nights/
CATEGORIES:Idaho Wine Month
END:VEVENT
BEGIN:VEVENT
DTSTART;TZID=America/Boise:20240611T170000
DTEND;TZID=America/Boise:20240611T190000
DTSTAMP:20260420T214804
CREATED:20240529T181206Z
LAST-MODIFIED:20240529T181207Z
UID:10004969-1718125200-1718132400@idahowines.org
SUMMARY:Piano with Sean Bostrom - Pend d'Oreille Winery
DESCRIPTION:Home / Idaho Wine Month\n\n\nWine and Cider Month\n\n\n\n\n\n\n\n\nSean is a local piano instructor who plays impeccable classical piano. Sean creates the perfectatmosphere of casual romanticism in the Pend d’ Oreille Winery.
URL:https://idahowines.org/event/piano-with-sean-bostrom-pend-doreille-winery/
LOCATION:Pend d’Oreille Winery\, 301 Cedar St STE 101\, Sandpoint\, ID\, 83864\, United States
CATEGORIES:Idaho Wine Month,Winery Event
ATTACH;FMTTYPE=image/webp:https://idahowines.org/content/uploads/2023/06/penddorelle-logo@2x.webp
END:VEVENT
BEGIN:VEVENT
DTSTART;TZID=America/Boise:20240611T190000
DTEND;TZID=America/Boise:20240611T210000
DTSTAMP:20260420T214804
CREATED:20240510T203944Z
LAST-MODIFIED:20240510T203946Z
UID:10004919-1718132400-1718139600@idahowines.org
SUMMARY:Telaya Bites - Idaho Wine Month featuring Whitney Fredin
DESCRIPTION:Home / Idaho Wine Month\n\n\nWine and Cider Month\n\n\n\n\n\n\n\n\nYou’ll have the opportunity to enjoy Telaya’s beautiful tasting room during Idaho Wine Month while catering extraordinaire Whitney Fredin shares her knowledge of food and wine pairing. \n\n\n\nThis informal & intimate experience will include five- two ounce pours of wine with five bite-sized\, “Idaho themed” pairings. \n\n\n\n-Doors open at 6:45 pm\, and we will begin shortly after 7:00 pm. \n\n\n\n-Wine Club Members – remember to use your code for special ticket pricing. \n\n\n\n-If you have a food allergy or preference\, there will be a designated area during ticket checkout to let us know. Terroir will do their best to accommodate with advance notice. \n\n\n\nTickets $45
URL:https://idahowines.org/event/telaya-bites-idaho-wine-month-featuring-whitney-fredin/
LOCATION:Telaya Wine Co.\, 240 E. 32nd Street\, Garden City\, Idaho\, 83714
CATEGORIES:Idaho Wine Month,Winery Event
ATTACH;FMTTYPE=image/jpeg:https://idahowines.org/content/uploads/2024/05/month.jpeg
END:VEVENT
END:VCALENDAR