BEGIN:VCALENDAR
VERSION:2.0
PRODID:-//Idaho Wine Commission - ECPv6.15.17//NONSGML v1.0//EN
CALSCALE:GREGORIAN
METHOD:PUBLISH
X-WR-CALNAME:Idaho Wine Commission
X-ORIGINAL-URL:https://idahowines.org
X-WR-CALDESC:Events for Idaho Wine Commission
REFRESH-INTERVAL;VALUE=DURATION:PT1H
X-Robots-Tag:noindex
X-PUBLISHED-TTL:PT1H
BEGIN:VTIMEZONE
TZID:America/Boise
BEGIN:DAYLIGHT
TZOFFSETFROM:-0700
TZOFFSETTO:-0600
TZNAME:MDT
DTSTART:20230312T090000
END:DAYLIGHT
BEGIN:STANDARD
TZOFFSETFROM:-0600
TZOFFSETTO:-0700
TZNAME:MST
DTSTART:20231105T080000
END:STANDARD
BEGIN:DAYLIGHT
TZOFFSETFROM:-0700
TZOFFSETTO:-0600
TZNAME:MDT
DTSTART:20240310T090000
END:DAYLIGHT
BEGIN:STANDARD
TZOFFSETFROM:-0600
TZOFFSETTO:-0700
TZNAME:MST
DTSTART:20241103T080000
END:STANDARD
BEGIN:DAYLIGHT
TZOFFSETFROM:-0700
TZOFFSETTO:-0600
TZNAME:MDT
DTSTART:20250309T090000
END:DAYLIGHT
BEGIN:STANDARD
TZOFFSETFROM:-0600
TZOFFSETTO:-0700
TZNAME:MST
DTSTART:20251102T080000
END:STANDARD
END:VTIMEZONE
BEGIN:VEVENT
DTSTART;TZID=America/Boise:20240607T153000
DTEND;TZID=America/Boise:20240607T173000
DTSTAMP:20260421T045014
CREATED:20240515T185052Z
LAST-MODIFIED:20240515T185054Z
UID:10004922-1717774200-1717781400@idahowines.org
SUMMARY:Wine Tasting at Albertsons on Broadway - Colter's Creek
DESCRIPTION:Home / Idaho Wine Month\n\n\nWine and Cider Month\n\n\n\n\n\n\n\n\nWe will be at Albertsons on Broadway in Boise for a wine tasting
URL:https://idahowines.org/event/wine-tasting-at-albertsons-on-broadway-colters-creek/
LOCATION:Albertsons\, 1219 S Broadway Ave\, Boise\, Idaho\, 83706\, United States
CATEGORIES:Idaho Wine Month,Wine Tasting
ATTACH;FMTTYPE=image/jpeg:https://idahowines.org/content/uploads/2024/05/albertsons.jpeg
END:VEVENT
BEGIN:VEVENT
DTSTART;TZID=America/Boise:20240607T153000
DTEND;TZID=America/Boise:20240607T180000
DTSTAMP:20260421T045014
CREATED:20240403T173611Z
LAST-MODIFIED:20240403T173612Z
UID:10004222-1717774200-1717783200@idahowines.org
SUMMARY:Savor The Weekend - Colter's Creek Wine Tasting at Albertsons
DESCRIPTION:Home / Idaho Wine Month\n\n\nWine and Cider Month\n\n\n\n\n\n\n\n\nColter’s Creek wine tasting for Idaho Wine and Cider Month AND Savor The Weekend – Albertsons on Broadway!  \n\n\n\nAddress: 1219 S Broadway Ave\, Boise\, ID 83706
URL:https://idahowines.org/event/savor-the-weekend-colters-creek-wine-tasting-at-albertsons/
CATEGORIES:Idaho Wine Month,Savor The Weekend,Wine Tasting
END:VEVENT
BEGIN:VEVENT
DTSTART;TZID=America/Boise:20240607T160000
DTEND;TZID=America/Boise:20240607T180000
DTSTAMP:20260421T045014
CREATED:20240517T181237Z
LAST-MODIFIED:20240517T181238Z
UID:10004929-1717776000-1717783200@idahowines.org
SUMMARY:Clearwater Canyon Cellars - Tasting at Boise Co-op Wine Shop
DESCRIPTION:Home / Idaho Wine Month\n\n\nWine and Cider Month\n\n\n\n\n\n\n\n\nClearwater Canyon Cellars will be doing at tasting at the Boise Co-op Wine Shop on June 7.
URL:https://idahowines.org/event/clearwater-canyon-cellars-tasting-at-boise-co-op-wine-shop/
LOCATION:Boise Co-op Wine Shop\, 915 N 8th St\, Boise\, Idaho\, 83702\, United States
CATEGORIES:Idaho Wine Month,Savor The Weekend,Wine Tasting
ATTACH;FMTTYPE=image/webp:https://idahowines.org/content/uploads/2023/06/clearwatercanyon-logo@2x.webp
END:VEVENT
BEGIN:VEVENT
DTSTART;TZID=America/Boise:20240607T170000
DTEND;TZID=America/Boise:20240607T190000
DTSTAMP:20260421T045014
CREATED:20240228T174629Z
LAST-MODIFIED:20240306T203201Z
UID:10004205-1717779600-1717786800@idahowines.org
SUMMARY:Savor The Weekend - Wine Tasting with Split Rail Winery and VEER Wine Project
DESCRIPTION:Home / Idaho Wine Month\n\n\nWine and Cider Month\n\n\n\n\n\n\n\n\nCome Savor The Weekend starting at A New Vintage Wine Shop where you get to sample wines from Split Rail Winery and VEER Wine Project.
URL:https://idahowines.org/event/savor-the-weekend-wine-tasting/
CATEGORIES:Idaho Wine Month,Savor The Weekend,Wine Tasting
ATTACH;FMTTYPE=image/jpeg:https://idahowines.org/content/uploads/2024/02/SavorIdaho2023-157.jpg
END:VEVENT
BEGIN:VEVENT
DTSTART;TZID=America/Boise:20240607T170000
DTEND;TZID=America/Boise:20240607T190000
DTSTAMP:20260421T045014
CREATED:20240529T170928Z
LAST-MODIFIED:20240529T170930Z
UID:10004951-1717779600-1717786800@idahowines.org
SUMMARY:Veer Wine Project - A New Vintage Wine Shop Pouring
DESCRIPTION:Home / Idaho Wine Month\n\n\nWine and Cider Month\n\n\n\n\n\n\n\n\nWe will be pouring at A New Vintage Wine Shop in Meridian!
URL:https://idahowines.org/event/veer-wine-project-a-new-vintage-wine-shop-pouring/
LOCATION:A New Vintage Wine Shop\, 1400 N Eagle Rd Unit 104\, Meridian\, Idaho\, 83642\, United States
CATEGORIES:Idaho Wine Month,Savor The Weekend,Wine Tasting
ATTACH;FMTTYPE=image/webp:https://idahowines.org/content/uploads/2023/06/veer-logo@2x.webp
END:VEVENT
BEGIN:VEVENT
DTSTART;TZID=America/Boise:20240607T170000
DTEND;TZID=America/Boise:20240607T200000
DTSTAMP:20260421T045014
CREATED:20240529T180847Z
LAST-MODIFIED:20240529T180849Z
UID:10004967-1717779600-1717790400@idahowines.org
SUMMARY:Live Music with Mike Wagoner - Pend d'Oreille Winery
DESCRIPTION:Home / Idaho Wine Month\n\n\nWine and Cider Month\n\n\n\n\n\n\n\n\nMike Wagoner and Utah John return to charm you! Arrive early for a seat and a glass of wine.Mike fuses a wide range of musical influences in his style and performance while he energizesthe room! Country/Rock/Americana.
URL:https://idahowines.org/event/live-music-with-mike-wagoner-pend-doreille-winery/
LOCATION:Pend d’Oreille Winery\, 301 Cedar St STE 101\, Sandpoint\, ID\, 83864\, United States
CATEGORIES:Idaho Wine Month,Savor The Weekend,Winery Event
ATTACH;FMTTYPE=image/webp:https://idahowines.org/content/uploads/2023/06/penddorelle-logo@2x.webp
END:VEVENT
BEGIN:VEVENT
DTSTART;TZID=America/Boise:20240607T173000
DTEND;TZID=America/Boise:20240607T193000
DTSTAMP:20260421T045014
CREATED:20240403T175029Z
LAST-MODIFIED:20240403T175031Z
UID:10004226-1717781400-1717788600@idahowines.org
SUMMARY:Savor The Weekend - Wine and Cheese Event at Proletariat
DESCRIPTION:Home / Idaho Wine Month\n\n\nWine and Cider Month\n\n\n\n\n\n\n\n\nCome SAVOR THE WEEKEND at Proletariat Winery and enjoy wine and cheese by Beehive Cheese! More event details to come!
URL:https://idahowines.org/event/savor-the-weekend-wine-and-cheese-event-at-proletariat/
CATEGORIES:Idaho Wine Month,Savor The Weekend
END:VEVENT
BEGIN:VEVENT
DTSTART;TZID=America/Boise:20240607T173000
DTEND;TZID=America/Boise:20240607T193000
DTSTAMP:20260421T045014
CREATED:20240422T192659Z
LAST-MODIFIED:20240422T192700Z
UID:10004233-1717781400-1717788600@idahowines.org
SUMMARY:Proletariat Winery + Beehive Cheese Event
DESCRIPTION:Home / Idaho Wine Month\n\n\nWine and Cider Month\n\n\n\n\n\n\n\n\nFriday June 7th Proletariat Wine at their tasting roomTicketed event at $35Cheese will be sold as bundles with wine \n\n\n\nGet your ticket today and Savor Idaho Wine and Beehive Cheese!
URL:https://idahowines.org/event/proletariat-winery-beehive-cheese-event/
CATEGORIES:Idaho Wine Month,Savor The Weekend,Winery Event
END:VEVENT
END:VCALENDAR