BEGIN:VCALENDAR
VERSION:2.0
PRODID:-//Idaho Wine Commission - ECPv6.15.17//NONSGML v1.0//EN
CALSCALE:GREGORIAN
METHOD:PUBLISH
X-WR-CALNAME:Idaho Wine Commission
X-ORIGINAL-URL:https://idahowines.org
X-WR-CALDESC:Events for Idaho Wine Commission
REFRESH-INTERVAL;VALUE=DURATION:PT1H
X-Robots-Tag:noindex
X-PUBLISHED-TTL:PT1H
BEGIN:VTIMEZONE
TZID:America/Boise
BEGIN:DAYLIGHT
TZOFFSETFROM:-0700
TZOFFSETTO:-0600
TZNAME:MDT
DTSTART:20230312T090000
END:DAYLIGHT
BEGIN:STANDARD
TZOFFSETFROM:-0600
TZOFFSETTO:-0700
TZNAME:MST
DTSTART:20231105T080000
END:STANDARD
BEGIN:DAYLIGHT
TZOFFSETFROM:-0700
TZOFFSETTO:-0600
TZNAME:MDT
DTSTART:20240310T090000
END:DAYLIGHT
BEGIN:STANDARD
TZOFFSETFROM:-0600
TZOFFSETTO:-0700
TZNAME:MST
DTSTART:20241103T080000
END:STANDARD
BEGIN:DAYLIGHT
TZOFFSETFROM:-0700
TZOFFSETTO:-0600
TZNAME:MDT
DTSTART:20250309T090000
END:DAYLIGHT
BEGIN:STANDARD
TZOFFSETFROM:-0600
TZOFFSETTO:-0700
TZNAME:MST
DTSTART:20251102T080000
END:STANDARD
END:VTIMEZONE
BEGIN:VEVENT
DTSTART;TZID=America/Boise:20240602T080000
DTEND;TZID=America/Boise:20240602T170000
DTSTAMP:20260421T054149
CREATED:20240530T192238Z
LAST-MODIFIED:20240530T192240Z
UID:10004982-1717315200-1717347600@idahowines.org
SUMMARY:Buy 1 Glass\, Get 1 Half-Off - Williamson Orchards & Vineyards
DESCRIPTION:Home / Idaho Wine Month\n\n\nWine and Cider Month\n\n\n\n\n\n\n\n\nWhite or Pink Wines – $8.00Red Wines – $10.00Dessert or Reserve Wines – $12.00 \n\n\n\nFeaturing Grin and Graze ItPre-order the Deluxe Charcuterie BoxServes 4-6 people$65.00Pre-order the Premium Charcuterie BoxServes 2-4 people$35.00
URL:https://idahowines.org/event/buy-1-glass-get-1-half-off-williamson-orchards-vineyards/2024-06-02/
LOCATION:Williamson Orchards & Vineyards\, 14807 Sunnyslope Road\, Caldwell\, Idaho\, 83607
CATEGORIES:Idaho Wine Month,Winery Event
ATTACH;FMTTYPE=image/jpeg:https://idahowines.org/content/uploads/2024/05/wine.jpeg
END:VEVENT
END:VCALENDAR