BEGIN:VCALENDAR
VERSION:2.0
PRODID:-//Idaho Wine Commission - ECPv6.15.20//NONSGML v1.0//EN
CALSCALE:GREGORIAN
METHOD:PUBLISH
X-ORIGINAL-URL:https://idahowines.org
X-WR-CALDESC:Events for Idaho Wine Commission
REFRESH-INTERVAL;VALUE=DURATION:PT1H
X-Robots-Tag:noindex
X-PUBLISHED-TTL:PT1H
BEGIN:VTIMEZONE
TZID:America/Boise
BEGIN:DAYLIGHT
TZOFFSETFROM:-0700
TZOFFSETTO:-0600
TZNAME:MDT
DTSTART:20230312T090000
END:DAYLIGHT
BEGIN:STANDARD
TZOFFSETFROM:-0600
TZOFFSETTO:-0700
TZNAME:MST
DTSTART:20231105T080000
END:STANDARD
BEGIN:DAYLIGHT
TZOFFSETFROM:-0700
TZOFFSETTO:-0600
TZNAME:MDT
DTSTART:20240310T090000
END:DAYLIGHT
BEGIN:STANDARD
TZOFFSETFROM:-0600
TZOFFSETTO:-0700
TZNAME:MST
DTSTART:20241103T080000
END:STANDARD
BEGIN:DAYLIGHT
TZOFFSETFROM:-0700
TZOFFSETTO:-0600
TZNAME:MDT
DTSTART:20250309T090000
END:DAYLIGHT
BEGIN:STANDARD
TZOFFSETFROM:-0600
TZOFFSETTO:-0700
TZNAME:MST
DTSTART:20251102T080000
END:STANDARD
END:VTIMEZONE
BEGIN:VEVENT
DTSTART;TZID=America/Boise:20240215T160000
DTEND;TZID=America/Boise:20240215T200000
DTSTAMP:20260425T050052
CREATED:20230720T205030Z
LAST-MODIFIED:20230811T131413Z
UID:10001760-1708012800-1708027200@idahowines.org
SUMMARY:Meriwether Cider Company – Growler Fill Thursdays
DESCRIPTION:Home / Cidery Event / Page 6\n\n\nMeriwether Cider Company – Growler Fill Thursdays\n\n\n\n\n\n\n\n\nCome in every Thursday and get $5 off 64oz and $2.50 off 32oz growler fills!
URL:https://idahowines.org/event/meriwether-growler-fill-thursdays-2/2024-02-15/
CATEGORIES:Cidery Event,Happy Hour
ATTACH;FMTTYPE=image/webp:https://idahowines.org/content/uploads/2023/08/events-placeholder-image-1-green.webp
END:VEVENT
BEGIN:VEVENT
DTSTART;TZID=America/Boise:20240220T190000
DTEND;TZID=America/Boise:20240220T203000
DTSTAMP:20260425T050052
CREATED:20230706T192535Z
LAST-MODIFIED:20230811T131625Z
UID:10001500-1708455600-1708461000@idahowines.org
SUMMARY:Meriwether Cider Co – FREE Tuesday Trivia  @Downtown Boise Location
DESCRIPTION:Home / Cidery Event / Page 6\n\n\nMeriwether Cider Company – Growler Fill Thursdays\n\n\n\n\n\n\n\n\nFREE Tuesday Trivia \n\n\n\nWe host a FREE in-house trivia night EVERY Tuesday at the Cider House Downtown. It is socially distant\, always fun\, and gives you a chance to laugh a lot and drink some cider! You could even win some sweet prizes. There is no downside\, come on down and join us!
URL:https://idahowines.org/event/meriwether-cider-co-free-tuesday-trivia-downtown-boise-location/2024-02-20/
CATEGORIES:Cidery Event
ATTACH;FMTTYPE=image/webp:https://idahowines.org/content/uploads/2023/08/events-placeholder-image-1-purple.webp
END:VEVENT
BEGIN:VEVENT
DTSTART;TZID=America/Boise:20240222T160000
DTEND;TZID=America/Boise:20240222T200000
DTSTAMP:20260425T050052
CREATED:20230720T205030Z
LAST-MODIFIED:20230811T131413Z
UID:10001761-1708617600-1708632000@idahowines.org
SUMMARY:Meriwether Cider Company – Growler Fill Thursdays
DESCRIPTION:Home / Cidery Event / Page 6\n\n\nMeriwether Cider Company – Growler Fill Thursdays\n\n\n\n\n\n\n\n\nCome in every Thursday and get $5 off 64oz and $2.50 off 32oz growler fills!
URL:https://idahowines.org/event/meriwether-growler-fill-thursdays-2/2024-02-22/
CATEGORIES:Cidery Event,Happy Hour
ATTACH;FMTTYPE=image/webp:https://idahowines.org/content/uploads/2023/08/events-placeholder-image-1-green.webp
END:VEVENT
BEGIN:VEVENT
DTSTART;TZID=America/Boise:20240227T190000
DTEND;TZID=America/Boise:20240227T203000
DTSTAMP:20260425T050052
CREATED:20230706T192535Z
LAST-MODIFIED:20230811T131625Z
UID:10001501-1709060400-1709065800@idahowines.org
SUMMARY:Meriwether Cider Co – FREE Tuesday Trivia  @Downtown Boise Location
DESCRIPTION:Home / Cidery Event / Page 6\n\n\nMeriwether Cider Company – Growler Fill Thursdays\n\n\n\n\n\n\n\n\nFREE Tuesday Trivia \n\n\n\nWe host a FREE in-house trivia night EVERY Tuesday at the Cider House Downtown. It is socially distant\, always fun\, and gives you a chance to laugh a lot and drink some cider! You could even win some sweet prizes. There is no downside\, come on down and join us!
URL:https://idahowines.org/event/meriwether-cider-co-free-tuesday-trivia-downtown-boise-location/2024-02-27/
CATEGORIES:Cidery Event
ATTACH;FMTTYPE=image/webp:https://idahowines.org/content/uploads/2023/08/events-placeholder-image-1-purple.webp
END:VEVENT
BEGIN:VEVENT
DTSTART;TZID=America/Boise:20240229T160000
DTEND;TZID=America/Boise:20240229T200000
DTSTAMP:20260425T050052
CREATED:20230720T205030Z
LAST-MODIFIED:20230811T131413Z
UID:10001762-1709222400-1709236800@idahowines.org
SUMMARY:Meriwether Cider Company – Growler Fill Thursdays
DESCRIPTION:Home / Cidery Event / Page 6\n\n\nMeriwether Cider Company – Growler Fill Thursdays\n\n\n\n\n\n\n\n\nCome in every Thursday and get $5 off 64oz and $2.50 off 32oz growler fills!
URL:https://idahowines.org/event/meriwether-growler-fill-thursdays-2/2024-02-29/
CATEGORIES:Cidery Event,Happy Hour
ATTACH;FMTTYPE=image/webp:https://idahowines.org/content/uploads/2023/08/events-placeholder-image-1-green.webp
END:VEVENT
BEGIN:VEVENT
DTSTART;TZID=America/Boise:20240305T190000
DTEND;TZID=America/Boise:20240305T203000
DTSTAMP:20260425T050052
CREATED:20230706T192535Z
LAST-MODIFIED:20230811T131625Z
UID:10001502-1709665200-1709670600@idahowines.org
SUMMARY:Meriwether Cider Co – FREE Tuesday Trivia  @Downtown Boise Location
DESCRIPTION:Home / Cidery Event / Page 6\n\n\nMeriwether Cider Company – Growler Fill Thursdays\n\n\n\n\n\n\n\n\nFREE Tuesday Trivia \n\n\n\nWe host a FREE in-house trivia night EVERY Tuesday at the Cider House Downtown. It is socially distant\, always fun\, and gives you a chance to laugh a lot and drink some cider! You could even win some sweet prizes. There is no downside\, come on down and join us!
URL:https://idahowines.org/event/meriwether-cider-co-free-tuesday-trivia-downtown-boise-location/2024-03-05/
CATEGORIES:Cidery Event
ATTACH;FMTTYPE=image/webp:https://idahowines.org/content/uploads/2023/08/events-placeholder-image-1-purple.webp
END:VEVENT
BEGIN:VEVENT
DTSTART;TZID=America/Boise:20240307T160000
DTEND;TZID=America/Boise:20240307T200000
DTSTAMP:20260425T050052
CREATED:20230720T205030Z
LAST-MODIFIED:20230811T131413Z
UID:10001763-1709827200-1709841600@idahowines.org
SUMMARY:Meriwether Cider Company – Growler Fill Thursdays
DESCRIPTION:Home / Cidery Event / Page 6\n\n\nMeriwether Cider Company – Growler Fill Thursdays\n\n\n\n\n\n\n\n\nCome in every Thursday and get $5 off 64oz and $2.50 off 32oz growler fills!
URL:https://idahowines.org/event/meriwether-growler-fill-thursdays-2/2024-03-07/
CATEGORIES:Cidery Event,Happy Hour
ATTACH;FMTTYPE=image/webp:https://idahowines.org/content/uploads/2023/08/events-placeholder-image-1-green.webp
END:VEVENT
BEGIN:VEVENT
DTSTART;TZID=America/Boise:20240312T190000
DTEND;TZID=America/Boise:20240312T203000
DTSTAMP:20260425T050052
CREATED:20230706T192535Z
LAST-MODIFIED:20230811T131625Z
UID:10001503-1710270000-1710275400@idahowines.org
SUMMARY:Meriwether Cider Co – FREE Tuesday Trivia  @Downtown Boise Location
DESCRIPTION:Home / Cidery Event / Page 6\n\n\nMeriwether Cider Company – Growler Fill Thursdays\n\n\n\n\n\n\n\n\nFREE Tuesday Trivia \n\n\n\nWe host a FREE in-house trivia night EVERY Tuesday at the Cider House Downtown. It is socially distant\, always fun\, and gives you a chance to laugh a lot and drink some cider! You could even win some sweet prizes. There is no downside\, come on down and join us!
URL:https://idahowines.org/event/meriwether-cider-co-free-tuesday-trivia-downtown-boise-location/2024-03-12/
CATEGORIES:Cidery Event
ATTACH;FMTTYPE=image/webp:https://idahowines.org/content/uploads/2023/08/events-placeholder-image-1-purple.webp
END:VEVENT
BEGIN:VEVENT
DTSTART;TZID=America/Boise:20240314T160000
DTEND;TZID=America/Boise:20240314T200000
DTSTAMP:20260425T050052
CREATED:20230720T205030Z
LAST-MODIFIED:20230811T131413Z
UID:10001764-1710432000-1710446400@idahowines.org
SUMMARY:Meriwether Cider Company – Growler Fill Thursdays
DESCRIPTION:Home / Cidery Event / Page 6\n\n\nMeriwether Cider Company – Growler Fill Thursdays\n\n\n\n\n\n\n\n\nCome in every Thursday and get $5 off 64oz and $2.50 off 32oz growler fills!
URL:https://idahowines.org/event/meriwether-growler-fill-thursdays-2/2024-03-14/
CATEGORIES:Cidery Event,Happy Hour
ATTACH;FMTTYPE=image/webp:https://idahowines.org/content/uploads/2023/08/events-placeholder-image-1-green.webp
END:VEVENT
BEGIN:VEVENT
DTSTART;TZID=America/Boise:20240319T190000
DTEND;TZID=America/Boise:20240319T203000
DTSTAMP:20260425T050052
CREATED:20230706T192535Z
LAST-MODIFIED:20230811T131625Z
UID:10001504-1710874800-1710880200@idahowines.org
SUMMARY:Meriwether Cider Co – FREE Tuesday Trivia  @Downtown Boise Location
DESCRIPTION:Home / Cidery Event / Page 6\n\n\nMeriwether Cider Company – Growler Fill Thursdays\n\n\n\n\n\n\n\n\nFREE Tuesday Trivia \n\n\n\nWe host a FREE in-house trivia night EVERY Tuesday at the Cider House Downtown. It is socially distant\, always fun\, and gives you a chance to laugh a lot and drink some cider! You could even win some sweet prizes. There is no downside\, come on down and join us!
URL:https://idahowines.org/event/meriwether-cider-co-free-tuesday-trivia-downtown-boise-location/2024-03-19/
CATEGORIES:Cidery Event
ATTACH;FMTTYPE=image/webp:https://idahowines.org/content/uploads/2023/08/events-placeholder-image-1-purple.webp
END:VEVENT
BEGIN:VEVENT
DTSTART;TZID=America/Boise:20240321T160000
DTEND;TZID=America/Boise:20240321T200000
DTSTAMP:20260425T050052
CREATED:20230720T205030Z
LAST-MODIFIED:20230811T131413Z
UID:10001765-1711036800-1711051200@idahowines.org
SUMMARY:Meriwether Cider Company – Growler Fill Thursdays
DESCRIPTION:Home / Cidery Event / Page 6\n\n\nMeriwether Cider Company – Growler Fill Thursdays\n\n\n\n\n\n\n\n\nCome in every Thursday and get $5 off 64oz and $2.50 off 32oz growler fills!
URL:https://idahowines.org/event/meriwether-growler-fill-thursdays-2/2024-03-21/
CATEGORIES:Cidery Event,Happy Hour
ATTACH;FMTTYPE=image/webp:https://idahowines.org/content/uploads/2023/08/events-placeholder-image-1-green.webp
END:VEVENT
BEGIN:VEVENT
DTSTART;TZID=America/Boise:20240326T190000
DTEND;TZID=America/Boise:20240326T203000
DTSTAMP:20260425T050052
CREATED:20230706T192535Z
LAST-MODIFIED:20230811T131625Z
UID:10001505-1711479600-1711485000@idahowines.org
SUMMARY:Meriwether Cider Co – FREE Tuesday Trivia  @Downtown Boise Location
DESCRIPTION:Home / Cidery Event / Page 6\n\n\nMeriwether Cider Company – Growler Fill Thursdays\n\n\n\n\n\n\n\n\nFREE Tuesday Trivia \n\n\n\nWe host a FREE in-house trivia night EVERY Tuesday at the Cider House Downtown. It is socially distant\, always fun\, and gives you a chance to laugh a lot and drink some cider! You could even win some sweet prizes. There is no downside\, come on down and join us!
URL:https://idahowines.org/event/meriwether-cider-co-free-tuesday-trivia-downtown-boise-location/2024-03-26/
CATEGORIES:Cidery Event
ATTACH;FMTTYPE=image/webp:https://idahowines.org/content/uploads/2023/08/events-placeholder-image-1-purple.webp
END:VEVENT
BEGIN:VEVENT
DTSTART;TZID=America/Boise:20240328T160000
DTEND;TZID=America/Boise:20240328T200000
DTSTAMP:20260425T050052
CREATED:20230720T205030Z
LAST-MODIFIED:20230811T131413Z
UID:10001766-1711641600-1711656000@idahowines.org
SUMMARY:Meriwether Cider Company – Growler Fill Thursdays
DESCRIPTION:Home / Cidery Event / Page 6\n\n\nMeriwether Cider Company – Growler Fill Thursdays\n\n\n\n\n\n\n\n\nCome in every Thursday and get $5 off 64oz and $2.50 off 32oz growler fills!
URL:https://idahowines.org/event/meriwether-growler-fill-thursdays-2/2024-03-28/
CATEGORIES:Cidery Event,Happy Hour
ATTACH;FMTTYPE=image/webp:https://idahowines.org/content/uploads/2023/08/events-placeholder-image-1-green.webp
END:VEVENT
BEGIN:VEVENT
DTSTART;TZID=America/Boise:20240402T190000
DTEND;TZID=America/Boise:20240402T203000
DTSTAMP:20260425T050052
CREATED:20230706T192535Z
LAST-MODIFIED:20230811T131625Z
UID:10001506-1712084400-1712089800@idahowines.org
SUMMARY:Meriwether Cider Co – FREE Tuesday Trivia  @Downtown Boise Location
DESCRIPTION:Home / Cidery Event / Page 6\n\n\nMeriwether Cider Company – Growler Fill Thursdays\n\n\n\n\n\n\n\n\nFREE Tuesday Trivia \n\n\n\nWe host a FREE in-house trivia night EVERY Tuesday at the Cider House Downtown. It is socially distant\, always fun\, and gives you a chance to laugh a lot and drink some cider! You could even win some sweet prizes. There is no downside\, come on down and join us!
URL:https://idahowines.org/event/meriwether-cider-co-free-tuesday-trivia-downtown-boise-location/2024-04-02/
CATEGORIES:Cidery Event
ATTACH;FMTTYPE=image/webp:https://idahowines.org/content/uploads/2023/08/events-placeholder-image-1-purple.webp
END:VEVENT
BEGIN:VEVENT
DTSTART;TZID=America/Boise:20240404T160000
DTEND;TZID=America/Boise:20240404T200000
DTSTAMP:20260425T050052
CREATED:20230720T205030Z
LAST-MODIFIED:20230811T131413Z
UID:10001767-1712246400-1712260800@idahowines.org
SUMMARY:Meriwether Cider Company – Growler Fill Thursdays
DESCRIPTION:Home / Cidery Event / Page 6\n\n\nMeriwether Cider Company – Growler Fill Thursdays\n\n\n\n\n\n\n\n\nCome in every Thursday and get $5 off 64oz and $2.50 off 32oz growler fills!
URL:https://idahowines.org/event/meriwether-growler-fill-thursdays-2/2024-04-04/
CATEGORIES:Cidery Event,Happy Hour
ATTACH;FMTTYPE=image/webp:https://idahowines.org/content/uploads/2023/08/events-placeholder-image-1-green.webp
END:VEVENT
BEGIN:VEVENT
DTSTART;TZID=America/Boise:20240409T190000
DTEND;TZID=America/Boise:20240409T203000
DTSTAMP:20260425T050052
CREATED:20230706T192535Z
LAST-MODIFIED:20230811T131625Z
UID:10001507-1712689200-1712694600@idahowines.org
SUMMARY:Meriwether Cider Co – FREE Tuesday Trivia  @Downtown Boise Location
DESCRIPTION:Home / Cidery Event / Page 6\n\n\nMeriwether Cider Company – Growler Fill Thursdays\n\n\n\n\n\n\n\n\nFREE Tuesday Trivia \n\n\n\nWe host a FREE in-house trivia night EVERY Tuesday at the Cider House Downtown. It is socially distant\, always fun\, and gives you a chance to laugh a lot and drink some cider! You could even win some sweet prizes. There is no downside\, come on down and join us!
URL:https://idahowines.org/event/meriwether-cider-co-free-tuesday-trivia-downtown-boise-location/2024-04-09/
CATEGORIES:Cidery Event
ATTACH;FMTTYPE=image/webp:https://idahowines.org/content/uploads/2023/08/events-placeholder-image-1-purple.webp
END:VEVENT
BEGIN:VEVENT
DTSTART;TZID=America/Boise:20240411T160000
DTEND;TZID=America/Boise:20240411T200000
DTSTAMP:20260425T050052
CREATED:20230720T205030Z
LAST-MODIFIED:20230811T131413Z
UID:10001768-1712851200-1712865600@idahowines.org
SUMMARY:Meriwether Cider Company – Growler Fill Thursdays
DESCRIPTION:Home / Cidery Event / Page 6\n\n\nMeriwether Cider Company – Growler Fill Thursdays\n\n\n\n\n\n\n\n\nCome in every Thursday and get $5 off 64oz and $2.50 off 32oz growler fills!
URL:https://idahowines.org/event/meriwether-growler-fill-thursdays-2/2024-04-11/
CATEGORIES:Cidery Event,Happy Hour
ATTACH;FMTTYPE=image/webp:https://idahowines.org/content/uploads/2023/08/events-placeholder-image-1-green.webp
END:VEVENT
BEGIN:VEVENT
DTSTART;TZID=America/Boise:20240416T190000
DTEND;TZID=America/Boise:20240416T203000
DTSTAMP:20260425T050052
CREATED:20230706T192535Z
LAST-MODIFIED:20230811T131625Z
UID:10001508-1713294000-1713299400@idahowines.org
SUMMARY:Meriwether Cider Co – FREE Tuesday Trivia  @Downtown Boise Location
DESCRIPTION:Home / Cidery Event / Page 6\n\n\nMeriwether Cider Company – Growler Fill Thursdays\n\n\n\n\n\n\n\n\nFREE Tuesday Trivia \n\n\n\nWe host a FREE in-house trivia night EVERY Tuesday at the Cider House Downtown. It is socially distant\, always fun\, and gives you a chance to laugh a lot and drink some cider! You could even win some sweet prizes. There is no downside\, come on down and join us!
URL:https://idahowines.org/event/meriwether-cider-co-free-tuesday-trivia-downtown-boise-location/2024-04-16/
CATEGORIES:Cidery Event
ATTACH;FMTTYPE=image/webp:https://idahowines.org/content/uploads/2023/08/events-placeholder-image-1-purple.webp
END:VEVENT
BEGIN:VEVENT
DTSTART;TZID=America/Boise:20240418T160000
DTEND;TZID=America/Boise:20240418T200000
DTSTAMP:20260425T050052
CREATED:20230720T205030Z
LAST-MODIFIED:20230811T131413Z
UID:10001769-1713456000-1713470400@idahowines.org
SUMMARY:Meriwether Cider Company – Growler Fill Thursdays
DESCRIPTION:Home / Cidery Event / Page 6\n\n\nMeriwether Cider Company – Growler Fill Thursdays\n\n\n\n\n\n\n\n\nCome in every Thursday and get $5 off 64oz and $2.50 off 32oz growler fills!
URL:https://idahowines.org/event/meriwether-growler-fill-thursdays-2/2024-04-18/
CATEGORIES:Cidery Event,Happy Hour
ATTACH;FMTTYPE=image/webp:https://idahowines.org/content/uploads/2023/08/events-placeholder-image-1-green.webp
END:VEVENT
BEGIN:VEVENT
DTSTART;TZID=America/Boise:20240423T190000
DTEND;TZID=America/Boise:20240423T203000
DTSTAMP:20260425T050052
CREATED:20230706T192535Z
LAST-MODIFIED:20230811T131625Z
UID:10001509-1713898800-1713904200@idahowines.org
SUMMARY:Meriwether Cider Co – FREE Tuesday Trivia  @Downtown Boise Location
DESCRIPTION:Home / Cidery Event / Page 6\n\n\nMeriwether Cider Company – Growler Fill Thursdays\n\n\n\n\n\n\n\n\nFREE Tuesday Trivia \n\n\n\nWe host a FREE in-house trivia night EVERY Tuesday at the Cider House Downtown. It is socially distant\, always fun\, and gives you a chance to laugh a lot and drink some cider! You could even win some sweet prizes. There is no downside\, come on down and join us!
URL:https://idahowines.org/event/meriwether-cider-co-free-tuesday-trivia-downtown-boise-location/2024-04-23/
CATEGORIES:Cidery Event
ATTACH;FMTTYPE=image/webp:https://idahowines.org/content/uploads/2023/08/events-placeholder-image-1-purple.webp
END:VEVENT
BEGIN:VEVENT
DTSTART;TZID=America/Boise:20240425T160000
DTEND;TZID=America/Boise:20240425T200000
DTSTAMP:20260425T050052
CREATED:20230720T205030Z
LAST-MODIFIED:20230811T131413Z
UID:10001770-1714060800-1714075200@idahowines.org
SUMMARY:Meriwether Cider Company – Growler Fill Thursdays
DESCRIPTION:Home / Cidery Event / Page 6\n\n\nMeriwether Cider Company – Growler Fill Thursdays\n\n\n\n\n\n\n\n\nCome in every Thursday and get $5 off 64oz and $2.50 off 32oz growler fills!
URL:https://idahowines.org/event/meriwether-growler-fill-thursdays-2/2024-04-25/
CATEGORIES:Cidery Event,Happy Hour
ATTACH;FMTTYPE=image/webp:https://idahowines.org/content/uploads/2023/08/events-placeholder-image-1-green.webp
END:VEVENT
BEGIN:VEVENT
DTSTART;TZID=America/Boise:20240430T190000
DTEND;TZID=America/Boise:20240430T203000
DTSTAMP:20260425T050052
CREATED:20230706T192535Z
LAST-MODIFIED:20230811T131625Z
UID:10001510-1714503600-1714509000@idahowines.org
SUMMARY:Meriwether Cider Co – FREE Tuesday Trivia  @Downtown Boise Location
DESCRIPTION:Home / Cidery Event / Page 6\n\n\nMeriwether Cider Company – Growler Fill Thursdays\n\n\n\n\n\n\n\n\nFREE Tuesday Trivia \n\n\n\nWe host a FREE in-house trivia night EVERY Tuesday at the Cider House Downtown. It is socially distant\, always fun\, and gives you a chance to laugh a lot and drink some cider! You could even win some sweet prizes. There is no downside\, come on down and join us!
URL:https://idahowines.org/event/meriwether-cider-co-free-tuesday-trivia-downtown-boise-location/2024-04-30/
CATEGORIES:Cidery Event
ATTACH;FMTTYPE=image/webp:https://idahowines.org/content/uploads/2023/08/events-placeholder-image-1-purple.webp
END:VEVENT
BEGIN:VEVENT
DTSTART;TZID=America/Boise:20240502T160000
DTEND;TZID=America/Boise:20240502T200000
DTSTAMP:20260425T050052
CREATED:20230720T205030Z
LAST-MODIFIED:20230811T131413Z
UID:10001771-1714665600-1714680000@idahowines.org
SUMMARY:Meriwether Cider Company – Growler Fill Thursdays
DESCRIPTION:Home / Cidery Event / Page 6\n\n\nMeriwether Cider Company – Growler Fill Thursdays\n\n\n\n\n\n\n\n\nCome in every Thursday and get $5 off 64oz and $2.50 off 32oz growler fills!
URL:https://idahowines.org/event/meriwether-growler-fill-thursdays-2/2024-05-02/
CATEGORIES:Cidery Event,Happy Hour
ATTACH;FMTTYPE=image/webp:https://idahowines.org/content/uploads/2023/08/events-placeholder-image-1-green.webp
END:VEVENT
BEGIN:VEVENT
DTSTART;TZID=America/Boise:20240507T190000
DTEND;TZID=America/Boise:20240507T203000
DTSTAMP:20260425T050052
CREATED:20230706T192535Z
LAST-MODIFIED:20230811T131625Z
UID:10001511-1715108400-1715113800@idahowines.org
SUMMARY:Meriwether Cider Co – FREE Tuesday Trivia  @Downtown Boise Location
DESCRIPTION:Home / Cidery Event / Page 6\n\n\nMeriwether Cider Company – Growler Fill Thursdays\n\n\n\n\n\n\n\n\nFREE Tuesday Trivia \n\n\n\nWe host a FREE in-house trivia night EVERY Tuesday at the Cider House Downtown. It is socially distant\, always fun\, and gives you a chance to laugh a lot and drink some cider! You could even win some sweet prizes. There is no downside\, come on down and join us!
URL:https://idahowines.org/event/meriwether-cider-co-free-tuesday-trivia-downtown-boise-location/2024-05-07/
CATEGORIES:Cidery Event
ATTACH;FMTTYPE=image/webp:https://idahowines.org/content/uploads/2023/08/events-placeholder-image-1-purple.webp
END:VEVENT
BEGIN:VEVENT
DTSTART;TZID=America/Boise:20240509T160000
DTEND;TZID=America/Boise:20240509T200000
DTSTAMP:20260425T050052
CREATED:20230720T205030Z
LAST-MODIFIED:20230811T131413Z
UID:10001772-1715270400-1715284800@idahowines.org
SUMMARY:Meriwether Cider Company – Growler Fill Thursdays
DESCRIPTION:Home / Cidery Event / Page 6\n\n\nMeriwether Cider Company – Growler Fill Thursdays\n\n\n\n\n\n\n\n\nCome in every Thursday and get $5 off 64oz and $2.50 off 32oz growler fills!
URL:https://idahowines.org/event/meriwether-growler-fill-thursdays-2/2024-05-09/
CATEGORIES:Cidery Event,Happy Hour
ATTACH;FMTTYPE=image/webp:https://idahowines.org/content/uploads/2023/08/events-placeholder-image-1-green.webp
END:VEVENT
BEGIN:VEVENT
DTSTART;TZID=America/Boise:20240514T190000
DTEND;TZID=America/Boise:20240514T203000
DTSTAMP:20260425T050052
CREATED:20230706T192535Z
LAST-MODIFIED:20230811T131625Z
UID:10001512-1715713200-1715718600@idahowines.org
SUMMARY:Meriwether Cider Co – FREE Tuesday Trivia  @Downtown Boise Location
DESCRIPTION:Home / Cidery Event / Page 6\n\n\nMeriwether Cider Company – Growler Fill Thursdays\n\n\n\n\n\n\n\n\nFREE Tuesday Trivia \n\n\n\nWe host a FREE in-house trivia night EVERY Tuesday at the Cider House Downtown. It is socially distant\, always fun\, and gives you a chance to laugh a lot and drink some cider! You could even win some sweet prizes. There is no downside\, come on down and join us!
URL:https://idahowines.org/event/meriwether-cider-co-free-tuesday-trivia-downtown-boise-location/2024-05-14/
CATEGORIES:Cidery Event
ATTACH;FMTTYPE=image/webp:https://idahowines.org/content/uploads/2023/08/events-placeholder-image-1-purple.webp
END:VEVENT
BEGIN:VEVENT
DTSTART;TZID=America/Boise:20240516T160000
DTEND;TZID=America/Boise:20240516T200000
DTSTAMP:20260425T050052
CREATED:20230720T205030Z
LAST-MODIFIED:20230811T131413Z
UID:10001773-1715875200-1715889600@idahowines.org
SUMMARY:Meriwether Cider Company – Growler Fill Thursdays
DESCRIPTION:Home / Cidery Event / Page 6\n\n\nMeriwether Cider Company – Growler Fill Thursdays\n\n\n\n\n\n\n\n\nCome in every Thursday and get $5 off 64oz and $2.50 off 32oz growler fills!
URL:https://idahowines.org/event/meriwether-growler-fill-thursdays-2/2024-05-16/
CATEGORIES:Cidery Event,Happy Hour
ATTACH;FMTTYPE=image/webp:https://idahowines.org/content/uploads/2023/08/events-placeholder-image-1-green.webp
END:VEVENT
BEGIN:VEVENT
DTSTART;TZID=America/Boise:20240521T190000
DTEND;TZID=America/Boise:20240521T203000
DTSTAMP:20260425T050052
CREATED:20230706T192535Z
LAST-MODIFIED:20230811T131625Z
UID:10001513-1716318000-1716323400@idahowines.org
SUMMARY:Meriwether Cider Co – FREE Tuesday Trivia  @Downtown Boise Location
DESCRIPTION:Home / Cidery Event / Page 6\n\n\nMeriwether Cider Company – Growler Fill Thursdays\n\n\n\n\n\n\n\n\nFREE Tuesday Trivia \n\n\n\nWe host a FREE in-house trivia night EVERY Tuesday at the Cider House Downtown. It is socially distant\, always fun\, and gives you a chance to laugh a lot and drink some cider! You could even win some sweet prizes. There is no downside\, come on down and join us!
URL:https://idahowines.org/event/meriwether-cider-co-free-tuesday-trivia-downtown-boise-location/2024-05-21/
CATEGORIES:Cidery Event
ATTACH;FMTTYPE=image/webp:https://idahowines.org/content/uploads/2023/08/events-placeholder-image-1-purple.webp
END:VEVENT
BEGIN:VEVENT
DTSTART;TZID=America/Boise:20240523T160000
DTEND;TZID=America/Boise:20240523T200000
DTSTAMP:20260425T050052
CREATED:20230720T205030Z
LAST-MODIFIED:20230811T131413Z
UID:10001774-1716480000-1716494400@idahowines.org
SUMMARY:Meriwether Cider Company – Growler Fill Thursdays
DESCRIPTION:Home / Cidery Event / Page 6\n\n\nMeriwether Cider Company – Growler Fill Thursdays\n\n\n\n\n\n\n\n\nCome in every Thursday and get $5 off 64oz and $2.50 off 32oz growler fills!
URL:https://idahowines.org/event/meriwether-growler-fill-thursdays-2/2024-05-23/
CATEGORIES:Cidery Event,Happy Hour
ATTACH;FMTTYPE=image/webp:https://idahowines.org/content/uploads/2023/08/events-placeholder-image-1-green.webp
END:VEVENT
BEGIN:VEVENT
DTSTART;TZID=America/Boise:20240528T190000
DTEND;TZID=America/Boise:20240528T203000
DTSTAMP:20260425T050052
CREATED:20230706T192535Z
LAST-MODIFIED:20230811T131625Z
UID:10001514-1716922800-1716928200@idahowines.org
SUMMARY:Meriwether Cider Co – FREE Tuesday Trivia  @Downtown Boise Location
DESCRIPTION:Home / Cidery Event / Page 6\n\n\nMeriwether Cider Company – Growler Fill Thursdays\n\n\n\n\n\n\n\n\nFREE Tuesday Trivia \n\n\n\nWe host a FREE in-house trivia night EVERY Tuesday at the Cider House Downtown. It is socially distant\, always fun\, and gives you a chance to laugh a lot and drink some cider! You could even win some sweet prizes. There is no downside\, come on down and join us!
URL:https://idahowines.org/event/meriwether-cider-co-free-tuesday-trivia-downtown-boise-location/2024-05-28/
CATEGORIES:Cidery Event
ATTACH;FMTTYPE=image/webp:https://idahowines.org/content/uploads/2023/08/events-placeholder-image-1-purple.webp
END:VEVENT
END:VCALENDAR