BEGIN:VCALENDAR
VERSION:2.0
PRODID:-//Idaho Wine Commission - ECPv6.15.17//NONSGML v1.0//EN
CALSCALE:GREGORIAN
METHOD:PUBLISH
X-WR-CALNAME:Idaho Wine Commission
X-ORIGINAL-URL:https://idahowines.org
X-WR-CALDESC:Events for Idaho Wine Commission
REFRESH-INTERVAL;VALUE=DURATION:PT1H
X-Robots-Tag:noindex
X-PUBLISHED-TTL:PT1H
BEGIN:VTIMEZONE
TZID:America/Boise
BEGIN:DAYLIGHT
TZOFFSETFROM:-0700
TZOFFSETTO:-0600
TZNAME:MDT
DTSTART:20250309T090000
END:DAYLIGHT
BEGIN:STANDARD
TZOFFSETFROM:-0600
TZOFFSETTO:-0700
TZNAME:MST
DTSTART:20251102T080000
END:STANDARD
BEGIN:DAYLIGHT
TZOFFSETFROM:-0700
TZOFFSETTO:-0600
TZNAME:MDT
DTSTART:20260308T090000
END:DAYLIGHT
BEGIN:STANDARD
TZOFFSETFROM:-0600
TZOFFSETTO:-0700
TZNAME:MST
DTSTART:20261101T080000
END:STANDARD
BEGIN:DAYLIGHT
TZOFFSETFROM:-0700
TZOFFSETTO:-0600
TZNAME:MDT
DTSTART:20270314T090000
END:DAYLIGHT
BEGIN:STANDARD
TZOFFSETFROM:-0600
TZOFFSETTO:-0700
TZNAME:MST
DTSTART:20271107T080000
END:STANDARD
BEGIN:DAYLIGHT
TZOFFSETFROM:-0700
TZOFFSETTO:-0600
TZNAME:MDT
DTSTART:20280312T090000
END:DAYLIGHT
BEGIN:STANDARD
TZOFFSETFROM:-0600
TZOFFSETTO:-0700
TZNAME:MST
DTSTART:20281105T080000
END:STANDARD
END:VTIMEZONE
BEGIN:VEVENT
DTSTART;TZID=America/Boise:20261013T190000
DTEND;TZID=America/Boise:20261013T203000
DTSTAMP:20260421T204034
CREATED:20230706T192535Z
LAST-MODIFIED:20230811T131625Z
UID:10001638-1791918000-1791923400@idahowines.org
SUMMARY:Meriwether Cider Co – FREE Tuesday Trivia  @Downtown Boise Location
DESCRIPTION:Home / Cidery Event / Page 22\n\n\nMeriwether Cider Co – FREE Tuesday Trivia  @Downtown Boise Location\n\n\n\n\n\n\n\n\nFREE Tuesday Trivia \n\n\n\nWe host a FREE in-house trivia night EVERY Tuesday at the Cider House Downtown. It is socially distant\, always fun\, and gives you a chance to laugh a lot and drink some cider! You could even win some sweet prizes. There is no downside\, come on down and join us!
URL:https://idahowines.org/event/meriwether-cider-co-free-tuesday-trivia-downtown-boise-location/2026-10-13/
CATEGORIES:Cidery Event
ATTACH;FMTTYPE=image/webp:https://idahowines.org/content/uploads/2023/08/events-placeholder-image-1-purple.webp
END:VEVENT
BEGIN:VEVENT
DTSTART;TZID=America/Boise:20261015T160000
DTEND;TZID=America/Boise:20261015T200000
DTSTAMP:20260421T204034
CREATED:20230720T205030Z
LAST-MODIFIED:20230811T131413Z
UID:10001899-1792080000-1792094400@idahowines.org
SUMMARY:Meriwether Cider Company – Growler Fill Thursdays
DESCRIPTION:Home / Cidery Event / Page 22\n\n\nMeriwether Cider Co – FREE Tuesday Trivia  @Downtown Boise Location\n\n\n\n\n\n\n\n\nCome in every Thursday and get $5 off 64oz and $2.50 off 32oz growler fills!
URL:https://idahowines.org/event/meriwether-growler-fill-thursdays-2/2026-10-15/
CATEGORIES:Cidery Event,Happy Hour
ATTACH;FMTTYPE=image/webp:https://idahowines.org/content/uploads/2023/08/events-placeholder-image-1-green.webp
END:VEVENT
BEGIN:VEVENT
DTSTART;TZID=America/Boise:20261020T190000
DTEND;TZID=America/Boise:20261020T203000
DTSTAMP:20260421T204034
CREATED:20230706T192535Z
LAST-MODIFIED:20230811T131625Z
UID:10001639-1792522800-1792528200@idahowines.org
SUMMARY:Meriwether Cider Co – FREE Tuesday Trivia  @Downtown Boise Location
DESCRIPTION:Home / Cidery Event / Page 22\n\n\nMeriwether Cider Co – FREE Tuesday Trivia  @Downtown Boise Location\n\n\n\n\n\n\n\n\nFREE Tuesday Trivia \n\n\n\nWe host a FREE in-house trivia night EVERY Tuesday at the Cider House Downtown. It is socially distant\, always fun\, and gives you a chance to laugh a lot and drink some cider! You could even win some sweet prizes. There is no downside\, come on down and join us!
URL:https://idahowines.org/event/meriwether-cider-co-free-tuesday-trivia-downtown-boise-location/2026-10-20/
CATEGORIES:Cidery Event
ATTACH;FMTTYPE=image/webp:https://idahowines.org/content/uploads/2023/08/events-placeholder-image-1-purple.webp
END:VEVENT
BEGIN:VEVENT
DTSTART;TZID=America/Boise:20261022T160000
DTEND;TZID=America/Boise:20261022T200000
DTSTAMP:20260421T204034
CREATED:20230720T205030Z
LAST-MODIFIED:20230811T131413Z
UID:10001900-1792684800-1792699200@idahowines.org
SUMMARY:Meriwether Cider Company – Growler Fill Thursdays
DESCRIPTION:Home / Cidery Event / Page 22\n\n\nMeriwether Cider Co – FREE Tuesday Trivia  @Downtown Boise Location\n\n\n\n\n\n\n\n\nCome in every Thursday and get $5 off 64oz and $2.50 off 32oz growler fills!
URL:https://idahowines.org/event/meriwether-growler-fill-thursdays-2/2026-10-22/
CATEGORIES:Cidery Event,Happy Hour
ATTACH;FMTTYPE=image/webp:https://idahowines.org/content/uploads/2023/08/events-placeholder-image-1-green.webp
END:VEVENT
BEGIN:VEVENT
DTSTART;TZID=America/Boise:20261027T190000
DTEND;TZID=America/Boise:20261027T203000
DTSTAMP:20260421T204034
CREATED:20230706T192535Z
LAST-MODIFIED:20230811T131625Z
UID:10001640-1793127600-1793133000@idahowines.org
SUMMARY:Meriwether Cider Co – FREE Tuesday Trivia  @Downtown Boise Location
DESCRIPTION:Home / Cidery Event / Page 22\n\n\nMeriwether Cider Co – FREE Tuesday Trivia  @Downtown Boise Location\n\n\n\n\n\n\n\n\nFREE Tuesday Trivia \n\n\n\nWe host a FREE in-house trivia night EVERY Tuesday at the Cider House Downtown. It is socially distant\, always fun\, and gives you a chance to laugh a lot and drink some cider! You could even win some sweet prizes. There is no downside\, come on down and join us!
URL:https://idahowines.org/event/meriwether-cider-co-free-tuesday-trivia-downtown-boise-location/2026-10-27/
CATEGORIES:Cidery Event
ATTACH;FMTTYPE=image/webp:https://idahowines.org/content/uploads/2023/08/events-placeholder-image-1-purple.webp
END:VEVENT
BEGIN:VEVENT
DTSTART;TZID=America/Boise:20261029T160000
DTEND;TZID=America/Boise:20261029T200000
DTSTAMP:20260421T204034
CREATED:20230720T205030Z
LAST-MODIFIED:20230811T131413Z
UID:10001901-1793289600-1793304000@idahowines.org
SUMMARY:Meriwether Cider Company – Growler Fill Thursdays
DESCRIPTION:Home / Cidery Event / Page 22\n\n\nMeriwether Cider Co – FREE Tuesday Trivia  @Downtown Boise Location\n\n\n\n\n\n\n\n\nCome in every Thursday and get $5 off 64oz and $2.50 off 32oz growler fills!
URL:https://idahowines.org/event/meriwether-growler-fill-thursdays-2/2026-10-29/
CATEGORIES:Cidery Event,Happy Hour
ATTACH;FMTTYPE=image/webp:https://idahowines.org/content/uploads/2023/08/events-placeholder-image-1-green.webp
END:VEVENT
BEGIN:VEVENT
DTSTART;TZID=America/Boise:20261103T190000
DTEND;TZID=America/Boise:20261103T203000
DTSTAMP:20260421T204034
CREATED:20230706T192535Z
LAST-MODIFIED:20230811T131625Z
UID:10001641-1793732400-1793737800@idahowines.org
SUMMARY:Meriwether Cider Co – FREE Tuesday Trivia  @Downtown Boise Location
DESCRIPTION:Home / Cidery Event / Page 22\n\n\nMeriwether Cider Co – FREE Tuesday Trivia  @Downtown Boise Location\n\n\n\n\n\n\n\n\nFREE Tuesday Trivia \n\n\n\nWe host a FREE in-house trivia night EVERY Tuesday at the Cider House Downtown. It is socially distant\, always fun\, and gives you a chance to laugh a lot and drink some cider! You could even win some sweet prizes. There is no downside\, come on down and join us!
URL:https://idahowines.org/event/meriwether-cider-co-free-tuesday-trivia-downtown-boise-location/2026-11-03/
CATEGORIES:Cidery Event
ATTACH;FMTTYPE=image/webp:https://idahowines.org/content/uploads/2023/08/events-placeholder-image-1-purple.webp
END:VEVENT
BEGIN:VEVENT
DTSTART;TZID=America/Boise:20261105T160000
DTEND;TZID=America/Boise:20261105T200000
DTSTAMP:20260421T204034
CREATED:20230720T205030Z
LAST-MODIFIED:20230811T131413Z
UID:10001902-1793894400-1793908800@idahowines.org
SUMMARY:Meriwether Cider Company – Growler Fill Thursdays
DESCRIPTION:Home / Cidery Event / Page 22\n\n\nMeriwether Cider Co – FREE Tuesday Trivia  @Downtown Boise Location\n\n\n\n\n\n\n\n\nCome in every Thursday and get $5 off 64oz and $2.50 off 32oz growler fills!
URL:https://idahowines.org/event/meriwether-growler-fill-thursdays-2/2026-11-05/
CATEGORIES:Cidery Event,Happy Hour
ATTACH;FMTTYPE=image/webp:https://idahowines.org/content/uploads/2023/08/events-placeholder-image-1-green.webp
END:VEVENT
BEGIN:VEVENT
DTSTART;TZID=America/Boise:20261110T190000
DTEND;TZID=America/Boise:20261110T203000
DTSTAMP:20260421T204034
CREATED:20230706T192535Z
LAST-MODIFIED:20230811T131625Z
UID:10001642-1794337200-1794342600@idahowines.org
SUMMARY:Meriwether Cider Co – FREE Tuesday Trivia  @Downtown Boise Location
DESCRIPTION:Home / Cidery Event / Page 22\n\n\nMeriwether Cider Co – FREE Tuesday Trivia  @Downtown Boise Location\n\n\n\n\n\n\n\n\nFREE Tuesday Trivia \n\n\n\nWe host a FREE in-house trivia night EVERY Tuesday at the Cider House Downtown. It is socially distant\, always fun\, and gives you a chance to laugh a lot and drink some cider! You could even win some sweet prizes. There is no downside\, come on down and join us!
URL:https://idahowines.org/event/meriwether-cider-co-free-tuesday-trivia-downtown-boise-location/2026-11-10/
CATEGORIES:Cidery Event
ATTACH;FMTTYPE=image/webp:https://idahowines.org/content/uploads/2023/08/events-placeholder-image-1-purple.webp
END:VEVENT
BEGIN:VEVENT
DTSTART;TZID=America/Boise:20261112T160000
DTEND;TZID=America/Boise:20261112T200000
DTSTAMP:20260421T204034
CREATED:20230720T205030Z
LAST-MODIFIED:20230811T131413Z
UID:10001903-1794499200-1794513600@idahowines.org
SUMMARY:Meriwether Cider Company – Growler Fill Thursdays
DESCRIPTION:Home / Cidery Event / Page 22\n\n\nMeriwether Cider Co – FREE Tuesday Trivia  @Downtown Boise Location\n\n\n\n\n\n\n\n\nCome in every Thursday and get $5 off 64oz and $2.50 off 32oz growler fills!
URL:https://idahowines.org/event/meriwether-growler-fill-thursdays-2/2026-11-12/
CATEGORIES:Cidery Event,Happy Hour
ATTACH;FMTTYPE=image/webp:https://idahowines.org/content/uploads/2023/08/events-placeholder-image-1-green.webp
END:VEVENT
BEGIN:VEVENT
DTSTART;TZID=America/Boise:20261117T190000
DTEND;TZID=America/Boise:20261117T203000
DTSTAMP:20260421T204034
CREATED:20230706T192535Z
LAST-MODIFIED:20230811T131625Z
UID:10001643-1794942000-1794947400@idahowines.org
SUMMARY:Meriwether Cider Co – FREE Tuesday Trivia  @Downtown Boise Location
DESCRIPTION:Home / Cidery Event / Page 22\n\n\nMeriwether Cider Co – FREE Tuesday Trivia  @Downtown Boise Location\n\n\n\n\n\n\n\n\nFREE Tuesday Trivia \n\n\n\nWe host a FREE in-house trivia night EVERY Tuesday at the Cider House Downtown. It is socially distant\, always fun\, and gives you a chance to laugh a lot and drink some cider! You could even win some sweet prizes. There is no downside\, come on down and join us!
URL:https://idahowines.org/event/meriwether-cider-co-free-tuesday-trivia-downtown-boise-location/2026-11-17/
CATEGORIES:Cidery Event
ATTACH;FMTTYPE=image/webp:https://idahowines.org/content/uploads/2023/08/events-placeholder-image-1-purple.webp
END:VEVENT
BEGIN:VEVENT
DTSTART;TZID=America/Boise:20261119T160000
DTEND;TZID=America/Boise:20261119T200000
DTSTAMP:20260421T204034
CREATED:20230720T205030Z
LAST-MODIFIED:20230811T131413Z
UID:10001904-1795104000-1795118400@idahowines.org
SUMMARY:Meriwether Cider Company – Growler Fill Thursdays
DESCRIPTION:Home / Cidery Event / Page 22\n\n\nMeriwether Cider Co – FREE Tuesday Trivia  @Downtown Boise Location\n\n\n\n\n\n\n\n\nCome in every Thursday and get $5 off 64oz and $2.50 off 32oz growler fills!
URL:https://idahowines.org/event/meriwether-growler-fill-thursdays-2/2026-11-19/
CATEGORIES:Cidery Event,Happy Hour
ATTACH;FMTTYPE=image/webp:https://idahowines.org/content/uploads/2023/08/events-placeholder-image-1-green.webp
END:VEVENT
BEGIN:VEVENT
DTSTART;TZID=America/Boise:20261124T190000
DTEND;TZID=America/Boise:20261124T203000
DTSTAMP:20260421T204034
CREATED:20230706T192535Z
LAST-MODIFIED:20230811T131625Z
UID:10001644-1795546800-1795552200@idahowines.org
SUMMARY:Meriwether Cider Co – FREE Tuesday Trivia  @Downtown Boise Location
DESCRIPTION:Home / Cidery Event / Page 22\n\n\nMeriwether Cider Co – FREE Tuesday Trivia  @Downtown Boise Location\n\n\n\n\n\n\n\n\nFREE Tuesday Trivia \n\n\n\nWe host a FREE in-house trivia night EVERY Tuesday at the Cider House Downtown. It is socially distant\, always fun\, and gives you a chance to laugh a lot and drink some cider! You could even win some sweet prizes. There is no downside\, come on down and join us!
URL:https://idahowines.org/event/meriwether-cider-co-free-tuesday-trivia-downtown-boise-location/2026-11-24/
CATEGORIES:Cidery Event
ATTACH;FMTTYPE=image/webp:https://idahowines.org/content/uploads/2023/08/events-placeholder-image-1-purple.webp
END:VEVENT
BEGIN:VEVENT
DTSTART;TZID=America/Boise:20261126T160000
DTEND;TZID=America/Boise:20261126T200000
DTSTAMP:20260421T204034
CREATED:20230720T205030Z
LAST-MODIFIED:20230811T131413Z
UID:10001905-1795708800-1795723200@idahowines.org
SUMMARY:Meriwether Cider Company – Growler Fill Thursdays
DESCRIPTION:Home / Cidery Event / Page 22\n\n\nMeriwether Cider Co – FREE Tuesday Trivia  @Downtown Boise Location\n\n\n\n\n\n\n\n\nCome in every Thursday and get $5 off 64oz and $2.50 off 32oz growler fills!
URL:https://idahowines.org/event/meriwether-growler-fill-thursdays-2/2026-11-26/
CATEGORIES:Cidery Event,Happy Hour
ATTACH;FMTTYPE=image/webp:https://idahowines.org/content/uploads/2023/08/events-placeholder-image-1-green.webp
END:VEVENT
BEGIN:VEVENT
DTSTART;TZID=America/Boise:20261201T190000
DTEND;TZID=America/Boise:20261201T203000
DTSTAMP:20260421T204034
CREATED:20230706T192535Z
LAST-MODIFIED:20230811T131625Z
UID:10001645-1796151600-1796157000@idahowines.org
SUMMARY:Meriwether Cider Co – FREE Tuesday Trivia  @Downtown Boise Location
DESCRIPTION:Home / Cidery Event / Page 22\n\n\nMeriwether Cider Co – FREE Tuesday Trivia  @Downtown Boise Location\n\n\n\n\n\n\n\n\nFREE Tuesday Trivia \n\n\n\nWe host a FREE in-house trivia night EVERY Tuesday at the Cider House Downtown. It is socially distant\, always fun\, and gives you a chance to laugh a lot and drink some cider! You could even win some sweet prizes. There is no downside\, come on down and join us!
URL:https://idahowines.org/event/meriwether-cider-co-free-tuesday-trivia-downtown-boise-location/2026-12-01/
CATEGORIES:Cidery Event
ATTACH;FMTTYPE=image/webp:https://idahowines.org/content/uploads/2023/08/events-placeholder-image-1-purple.webp
END:VEVENT
BEGIN:VEVENT
DTSTART;TZID=America/Boise:20261203T160000
DTEND;TZID=America/Boise:20261203T200000
DTSTAMP:20260421T204034
CREATED:20230720T205030Z
LAST-MODIFIED:20230811T131413Z
UID:10001906-1796313600-1796328000@idahowines.org
SUMMARY:Meriwether Cider Company – Growler Fill Thursdays
DESCRIPTION:Home / Cidery Event / Page 22\n\n\nMeriwether Cider Co – FREE Tuesday Trivia  @Downtown Boise Location\n\n\n\n\n\n\n\n\nCome in every Thursday and get $5 off 64oz and $2.50 off 32oz growler fills!
URL:https://idahowines.org/event/meriwether-growler-fill-thursdays-2/2026-12-03/
CATEGORIES:Cidery Event,Happy Hour
ATTACH;FMTTYPE=image/webp:https://idahowines.org/content/uploads/2023/08/events-placeholder-image-1-green.webp
END:VEVENT
BEGIN:VEVENT
DTSTART;TZID=America/Boise:20261208T190000
DTEND;TZID=America/Boise:20261208T203000
DTSTAMP:20260421T204034
CREATED:20230706T192535Z
LAST-MODIFIED:20230811T131625Z
UID:10001646-1796756400-1796761800@idahowines.org
SUMMARY:Meriwether Cider Co – FREE Tuesday Trivia  @Downtown Boise Location
DESCRIPTION:Home / Cidery Event / Page 22\n\n\nMeriwether Cider Co – FREE Tuesday Trivia  @Downtown Boise Location\n\n\n\n\n\n\n\n\nFREE Tuesday Trivia \n\n\n\nWe host a FREE in-house trivia night EVERY Tuesday at the Cider House Downtown. It is socially distant\, always fun\, and gives you a chance to laugh a lot and drink some cider! You could even win some sweet prizes. There is no downside\, come on down and join us!
URL:https://idahowines.org/event/meriwether-cider-co-free-tuesday-trivia-downtown-boise-location/2026-12-08/
CATEGORIES:Cidery Event
ATTACH;FMTTYPE=image/webp:https://idahowines.org/content/uploads/2023/08/events-placeholder-image-1-purple.webp
END:VEVENT
BEGIN:VEVENT
DTSTART;TZID=America/Boise:20261210T160000
DTEND;TZID=America/Boise:20261210T200000
DTSTAMP:20260421T204034
CREATED:20230720T205030Z
LAST-MODIFIED:20230811T131413Z
UID:10001907-1796918400-1796932800@idahowines.org
SUMMARY:Meriwether Cider Company – Growler Fill Thursdays
DESCRIPTION:Home / Cidery Event / Page 22\n\n\nMeriwether Cider Co – FREE Tuesday Trivia  @Downtown Boise Location\n\n\n\n\n\n\n\n\nCome in every Thursday and get $5 off 64oz and $2.50 off 32oz growler fills!
URL:https://idahowines.org/event/meriwether-growler-fill-thursdays-2/2026-12-10/
CATEGORIES:Cidery Event,Happy Hour
ATTACH;FMTTYPE=image/webp:https://idahowines.org/content/uploads/2023/08/events-placeholder-image-1-green.webp
END:VEVENT
BEGIN:VEVENT
DTSTART;TZID=America/Boise:20261215T190000
DTEND;TZID=America/Boise:20261215T203000
DTSTAMP:20260421T204034
CREATED:20230706T192535Z
LAST-MODIFIED:20230811T131625Z
UID:10001647-1797361200-1797366600@idahowines.org
SUMMARY:Meriwether Cider Co – FREE Tuesday Trivia  @Downtown Boise Location
DESCRIPTION:Home / Cidery Event / Page 22\n\n\nMeriwether Cider Co – FREE Tuesday Trivia  @Downtown Boise Location\n\n\n\n\n\n\n\n\nFREE Tuesday Trivia \n\n\n\nWe host a FREE in-house trivia night EVERY Tuesday at the Cider House Downtown. It is socially distant\, always fun\, and gives you a chance to laugh a lot and drink some cider! You could even win some sweet prizes. There is no downside\, come on down and join us!
URL:https://idahowines.org/event/meriwether-cider-co-free-tuesday-trivia-downtown-boise-location/2026-12-15/
CATEGORIES:Cidery Event
ATTACH;FMTTYPE=image/webp:https://idahowines.org/content/uploads/2023/08/events-placeholder-image-1-purple.webp
END:VEVENT
BEGIN:VEVENT
DTSTART;TZID=America/Boise:20261217T160000
DTEND;TZID=America/Boise:20261217T200000
DTSTAMP:20260421T204034
CREATED:20230720T205030Z
LAST-MODIFIED:20230811T131413Z
UID:10001908-1797523200-1797537600@idahowines.org
SUMMARY:Meriwether Cider Company – Growler Fill Thursdays
DESCRIPTION:Home / Cidery Event / Page 22\n\n\nMeriwether Cider Co – FREE Tuesday Trivia  @Downtown Boise Location\n\n\n\n\n\n\n\n\nCome in every Thursday and get $5 off 64oz and $2.50 off 32oz growler fills!
URL:https://idahowines.org/event/meriwether-growler-fill-thursdays-2/2026-12-17/
CATEGORIES:Cidery Event,Happy Hour
ATTACH;FMTTYPE=image/webp:https://idahowines.org/content/uploads/2023/08/events-placeholder-image-1-green.webp
END:VEVENT
BEGIN:VEVENT
DTSTART;TZID=America/Boise:20261222T190000
DTEND;TZID=America/Boise:20261222T203000
DTSTAMP:20260421T204034
CREATED:20230706T192535Z
LAST-MODIFIED:20230811T131625Z
UID:10001648-1797966000-1797971400@idahowines.org
SUMMARY:Meriwether Cider Co – FREE Tuesday Trivia  @Downtown Boise Location
DESCRIPTION:Home / Cidery Event / Page 22\n\n\nMeriwether Cider Co – FREE Tuesday Trivia  @Downtown Boise Location\n\n\n\n\n\n\n\n\nFREE Tuesday Trivia \n\n\n\nWe host a FREE in-house trivia night EVERY Tuesday at the Cider House Downtown. It is socially distant\, always fun\, and gives you a chance to laugh a lot and drink some cider! You could even win some sweet prizes. There is no downside\, come on down and join us!
URL:https://idahowines.org/event/meriwether-cider-co-free-tuesday-trivia-downtown-boise-location/2026-12-22/
CATEGORIES:Cidery Event
ATTACH;FMTTYPE=image/webp:https://idahowines.org/content/uploads/2023/08/events-placeholder-image-1-purple.webp
END:VEVENT
BEGIN:VEVENT
DTSTART;TZID=America/Boise:20261224T160000
DTEND;TZID=America/Boise:20261224T200000
DTSTAMP:20260421T204034
CREATED:20230720T205030Z
LAST-MODIFIED:20230811T131413Z
UID:10001909-1798128000-1798142400@idahowines.org
SUMMARY:Meriwether Cider Company – Growler Fill Thursdays
DESCRIPTION:Home / Cidery Event / Page 22\n\n\nMeriwether Cider Co – FREE Tuesday Trivia  @Downtown Boise Location\n\n\n\n\n\n\n\n\nCome in every Thursday and get $5 off 64oz and $2.50 off 32oz growler fills!
URL:https://idahowines.org/event/meriwether-growler-fill-thursdays-2/2026-12-24/
CATEGORIES:Cidery Event,Happy Hour
ATTACH;FMTTYPE=image/webp:https://idahowines.org/content/uploads/2023/08/events-placeholder-image-1-green.webp
END:VEVENT
BEGIN:VEVENT
DTSTART;TZID=America/Boise:20261229T190000
DTEND;TZID=America/Boise:20261229T203000
DTSTAMP:20260421T204034
CREATED:20230706T192535Z
LAST-MODIFIED:20230811T131625Z
UID:10001649-1798570800-1798576200@idahowines.org
SUMMARY:Meriwether Cider Co – FREE Tuesday Trivia  @Downtown Boise Location
DESCRIPTION:Home / Cidery Event / Page 22\n\n\nMeriwether Cider Co – FREE Tuesday Trivia  @Downtown Boise Location\n\n\n\n\n\n\n\n\nFREE Tuesday Trivia \n\n\n\nWe host a FREE in-house trivia night EVERY Tuesday at the Cider House Downtown. It is socially distant\, always fun\, and gives you a chance to laugh a lot and drink some cider! You could even win some sweet prizes. There is no downside\, come on down and join us!
URL:https://idahowines.org/event/meriwether-cider-co-free-tuesday-trivia-downtown-boise-location/2026-12-29/
CATEGORIES:Cidery Event
ATTACH;FMTTYPE=image/webp:https://idahowines.org/content/uploads/2023/08/events-placeholder-image-1-purple.webp
END:VEVENT
BEGIN:VEVENT
DTSTART;TZID=America/Boise:20261231T160000
DTEND;TZID=America/Boise:20261231T200000
DTSTAMP:20260421T204034
CREATED:20230720T205030Z
LAST-MODIFIED:20230811T131413Z
UID:10001910-1798732800-1798747200@idahowines.org
SUMMARY:Meriwether Cider Company – Growler Fill Thursdays
DESCRIPTION:Home / Cidery Event / Page 22\n\n\nMeriwether Cider Co – FREE Tuesday Trivia  @Downtown Boise Location\n\n\n\n\n\n\n\n\nCome in every Thursday and get $5 off 64oz and $2.50 off 32oz growler fills!
URL:https://idahowines.org/event/meriwether-growler-fill-thursdays-2/2026-12-31/
CATEGORIES:Cidery Event,Happy Hour
ATTACH;FMTTYPE=image/webp:https://idahowines.org/content/uploads/2023/08/events-placeholder-image-1-green.webp
END:VEVENT
BEGIN:VEVENT
DTSTART;TZID=America/Boise:20270105T190000
DTEND;TZID=America/Boise:20270105T203000
DTSTAMP:20260421T204034
CREATED:20230706T192535Z
LAST-MODIFIED:20230811T131625Z
UID:10001650-1799175600-1799181000@idahowines.org
SUMMARY:Meriwether Cider Co – FREE Tuesday Trivia  @Downtown Boise Location
DESCRIPTION:Home / Cidery Event / Page 22\n\n\nMeriwether Cider Co – FREE Tuesday Trivia  @Downtown Boise Location\n\n\n\n\n\n\n\n\nFREE Tuesday Trivia \n\n\n\nWe host a FREE in-house trivia night EVERY Tuesday at the Cider House Downtown. It is socially distant\, always fun\, and gives you a chance to laugh a lot and drink some cider! You could even win some sweet prizes. There is no downside\, come on down and join us!
URL:https://idahowines.org/event/meriwether-cider-co-free-tuesday-trivia-downtown-boise-location/2027-01-05/
CATEGORIES:Cidery Event
ATTACH;FMTTYPE=image/webp:https://idahowines.org/content/uploads/2023/08/events-placeholder-image-1-purple.webp
END:VEVENT
BEGIN:VEVENT
DTSTART;TZID=America/Boise:20270107T160000
DTEND;TZID=America/Boise:20270107T200000
DTSTAMP:20260421T204034
CREATED:20230720T205030Z
LAST-MODIFIED:20230811T131413Z
UID:10001911-1799337600-1799352000@idahowines.org
SUMMARY:Meriwether Cider Company – Growler Fill Thursdays
DESCRIPTION:Home / Cidery Event / Page 22\n\n\nMeriwether Cider Co – FREE Tuesday Trivia  @Downtown Boise Location\n\n\n\n\n\n\n\n\nCome in every Thursday and get $5 off 64oz and $2.50 off 32oz growler fills!
URL:https://idahowines.org/event/meriwether-growler-fill-thursdays-2/2027-01-07/
CATEGORIES:Cidery Event,Happy Hour
ATTACH;FMTTYPE=image/webp:https://idahowines.org/content/uploads/2023/08/events-placeholder-image-1-green.webp
END:VEVENT
BEGIN:VEVENT
DTSTART;TZID=America/Boise:20270112T190000
DTEND;TZID=America/Boise:20270112T203000
DTSTAMP:20260421T204034
CREATED:20230706T192535Z
LAST-MODIFIED:20230811T131625Z
UID:10001651-1799780400-1799785800@idahowines.org
SUMMARY:Meriwether Cider Co – FREE Tuesday Trivia  @Downtown Boise Location
DESCRIPTION:Home / Cidery Event / Page 22\n\n\nMeriwether Cider Co – FREE Tuesday Trivia  @Downtown Boise Location\n\n\n\n\n\n\n\n\nFREE Tuesday Trivia \n\n\n\nWe host a FREE in-house trivia night EVERY Tuesday at the Cider House Downtown. It is socially distant\, always fun\, and gives you a chance to laugh a lot and drink some cider! You could even win some sweet prizes. There is no downside\, come on down and join us!
URL:https://idahowines.org/event/meriwether-cider-co-free-tuesday-trivia-downtown-boise-location/2027-01-12/
CATEGORIES:Cidery Event
ATTACH;FMTTYPE=image/webp:https://idahowines.org/content/uploads/2023/08/events-placeholder-image-1-purple.webp
END:VEVENT
BEGIN:VEVENT
DTSTART;TZID=America/Boise:20270114T160000
DTEND;TZID=America/Boise:20270114T200000
DTSTAMP:20260421T204034
CREATED:20230720T205030Z
LAST-MODIFIED:20230811T131413Z
UID:10001912-1799942400-1799956800@idahowines.org
SUMMARY:Meriwether Cider Company – Growler Fill Thursdays
DESCRIPTION:Home / Cidery Event / Page 22\n\n\nMeriwether Cider Co – FREE Tuesday Trivia  @Downtown Boise Location\n\n\n\n\n\n\n\n\nCome in every Thursday and get $5 off 64oz and $2.50 off 32oz growler fills!
URL:https://idahowines.org/event/meriwether-growler-fill-thursdays-2/2027-01-14/
CATEGORIES:Cidery Event,Happy Hour
ATTACH;FMTTYPE=image/webp:https://idahowines.org/content/uploads/2023/08/events-placeholder-image-1-green.webp
END:VEVENT
BEGIN:VEVENT
DTSTART;TZID=America/Boise:20270119T190000
DTEND;TZID=America/Boise:20270119T203000
DTSTAMP:20260421T204034
CREATED:20230706T192535Z
LAST-MODIFIED:20230811T131625Z
UID:10001652-1800385200-1800390600@idahowines.org
SUMMARY:Meriwether Cider Co – FREE Tuesday Trivia  @Downtown Boise Location
DESCRIPTION:Home / Cidery Event / Page 22\n\n\nMeriwether Cider Co – FREE Tuesday Trivia  @Downtown Boise Location\n\n\n\n\n\n\n\n\nFREE Tuesday Trivia \n\n\n\nWe host a FREE in-house trivia night EVERY Tuesday at the Cider House Downtown. It is socially distant\, always fun\, and gives you a chance to laugh a lot and drink some cider! You could even win some sweet prizes. There is no downside\, come on down and join us!
URL:https://idahowines.org/event/meriwether-cider-co-free-tuesday-trivia-downtown-boise-location/2027-01-19/
CATEGORIES:Cidery Event
ATTACH;FMTTYPE=image/webp:https://idahowines.org/content/uploads/2023/08/events-placeholder-image-1-purple.webp
END:VEVENT
BEGIN:VEVENT
DTSTART;TZID=America/Boise:20270121T160000
DTEND;TZID=America/Boise:20270121T200000
DTSTAMP:20260421T204034
CREATED:20230720T205030Z
LAST-MODIFIED:20230811T131413Z
UID:10001913-1800547200-1800561600@idahowines.org
SUMMARY:Meriwether Cider Company – Growler Fill Thursdays
DESCRIPTION:Home / Cidery Event / Page 22\n\n\nMeriwether Cider Co – FREE Tuesday Trivia  @Downtown Boise Location\n\n\n\n\n\n\n\n\nCome in every Thursday and get $5 off 64oz and $2.50 off 32oz growler fills!
URL:https://idahowines.org/event/meriwether-growler-fill-thursdays-2/2027-01-21/
CATEGORIES:Cidery Event,Happy Hour
ATTACH;FMTTYPE=image/webp:https://idahowines.org/content/uploads/2023/08/events-placeholder-image-1-green.webp
END:VEVENT
END:VCALENDAR