BEGIN:VCALENDAR
VERSION:2.0
PRODID:-//Idaho Wine Commission - ECPv6.15.20//NONSGML v1.0//EN
CALSCALE:GREGORIAN
METHOD:PUBLISH
X-ORIGINAL-URL:https://idahowines.org
X-WR-CALDESC:Events for Idaho Wine Commission
REFRESH-INTERVAL;VALUE=DURATION:PT1H
X-Robots-Tag:noindex
X-PUBLISHED-TTL:PT1H
BEGIN:VTIMEZONE
TZID:America/Boise
BEGIN:DAYLIGHT
TZOFFSETFROM:-0700
TZOFFSETTO:-0600
TZNAME:MDT
DTSTART:20220313T090000
END:DAYLIGHT
BEGIN:STANDARD
TZOFFSETFROM:-0600
TZOFFSETTO:-0700
TZNAME:MST
DTSTART:20221106T080000
END:STANDARD
BEGIN:DAYLIGHT
TZOFFSETFROM:-0700
TZOFFSETTO:-0600
TZNAME:MDT
DTSTART:20230312T090000
END:DAYLIGHT
BEGIN:STANDARD
TZOFFSETFROM:-0600
TZOFFSETTO:-0700
TZNAME:MST
DTSTART:20231105T080000
END:STANDARD
BEGIN:DAYLIGHT
TZOFFSETFROM:-0700
TZOFFSETTO:-0600
TZNAME:MDT
DTSTART:20240310T090000
END:DAYLIGHT
BEGIN:STANDARD
TZOFFSETFROM:-0600
TZOFFSETTO:-0700
TZNAME:MST
DTSTART:20241103T080000
END:STANDARD
END:VTIMEZONE
BEGIN:VEVENT
DTSTART;TZID=America/Boise:20230912T190000
DTEND;TZID=America/Boise:20230912T203000
DTSTAMP:20260425T074932
CREATED:20230706T192535Z
LAST-MODIFIED:20230811T131625Z
UID:10001477-1694545200-1694550600@idahowines.org
SUMMARY:Meriwether Cider Co – FREE Tuesday Trivia  @Downtown Boise Location
DESCRIPTION:Home / Cidery Event / Page 2\n\n\nMeriwether Cider Company – Growler Fill Thursdays\n\n\n\n\n\n\n\n\nFREE Tuesday Trivia \n\n\n\nWe host a FREE in-house trivia night EVERY Tuesday at the Cider House Downtown. It is socially distant\, always fun\, and gives you a chance to laugh a lot and drink some cider! You could even win some sweet prizes. There is no downside\, come on down and join us!
URL:https://idahowines.org/event/meriwether-cider-co-free-tuesday-trivia-downtown-boise-location/2023-09-12/
CATEGORIES:Cidery Event
ATTACH;FMTTYPE=image/webp:https://idahowines.org/content/uploads/2023/08/events-placeholder-image-1-purple.webp
END:VEVENT
BEGIN:VEVENT
DTSTART;TZID=America/Boise:20230914T160000
DTEND;TZID=America/Boise:20230914T200000
DTSTAMP:20260425T074932
CREATED:20230720T205030Z
LAST-MODIFIED:20230811T131413Z
UID:10001739-1694707200-1694721600@idahowines.org
SUMMARY:Meriwether Cider Company – Growler Fill Thursdays
DESCRIPTION:Home / Cidery Event / Page 2\n\n\nMeriwether Cider Company – Growler Fill Thursdays\n\n\n\n\n\n\n\n\nCome in every Thursday and get $5 off 64oz and $2.50 off 32oz growler fills!
URL:https://idahowines.org/event/meriwether-growler-fill-thursdays-2/2023-09-14/
CATEGORIES:Cidery Event,Happy Hour
ATTACH;FMTTYPE=image/webp:https://idahowines.org/content/uploads/2023/08/events-placeholder-image-1-green.webp
END:VEVENT
BEGIN:VEVENT
DTSTART;TZID=America/Boise:20230919T190000
DTEND;TZID=America/Boise:20230919T203000
DTSTAMP:20260425T074932
CREATED:20230706T192535Z
LAST-MODIFIED:20230811T131625Z
UID:10001478-1695150000-1695155400@idahowines.org
SUMMARY:Meriwether Cider Co – FREE Tuesday Trivia  @Downtown Boise Location
DESCRIPTION:Home / Cidery Event / Page 2\n\n\nMeriwether Cider Company – Growler Fill Thursdays\n\n\n\n\n\n\n\n\nFREE Tuesday Trivia \n\n\n\nWe host a FREE in-house trivia night EVERY Tuesday at the Cider House Downtown. It is socially distant\, always fun\, and gives you a chance to laugh a lot and drink some cider! You could even win some sweet prizes. There is no downside\, come on down and join us!
URL:https://idahowines.org/event/meriwether-cider-co-free-tuesday-trivia-downtown-boise-location/2023-09-19/
CATEGORIES:Cidery Event
ATTACH;FMTTYPE=image/webp:https://idahowines.org/content/uploads/2023/08/events-placeholder-image-1-purple.webp
END:VEVENT
BEGIN:VEVENT
DTSTART;TZID=America/Boise:20230921T160000
DTEND;TZID=America/Boise:20230921T200000
DTSTAMP:20260425T074932
CREATED:20230720T205030Z
LAST-MODIFIED:20230811T131413Z
UID:10001740-1695312000-1695326400@idahowines.org
SUMMARY:Meriwether Cider Company – Growler Fill Thursdays
DESCRIPTION:Home / Cidery Event / Page 2\n\n\nMeriwether Cider Company – Growler Fill Thursdays\n\n\n\n\n\n\n\n\nCome in every Thursday and get $5 off 64oz and $2.50 off 32oz growler fills!
URL:https://idahowines.org/event/meriwether-growler-fill-thursdays-2/2023-09-21/
CATEGORIES:Cidery Event,Happy Hour
ATTACH;FMTTYPE=image/webp:https://idahowines.org/content/uploads/2023/08/events-placeholder-image-1-green.webp
END:VEVENT
BEGIN:VEVENT
DTSTART;TZID=America/Boise:20230926T190000
DTEND;TZID=America/Boise:20230926T203000
DTSTAMP:20260425T074932
CREATED:20230706T192535Z
LAST-MODIFIED:20230811T131625Z
UID:10001479-1695754800-1695760200@idahowines.org
SUMMARY:Meriwether Cider Co – FREE Tuesday Trivia  @Downtown Boise Location
DESCRIPTION:Home / Cidery Event / Page 2\n\n\nMeriwether Cider Company – Growler Fill Thursdays\n\n\n\n\n\n\n\n\nFREE Tuesday Trivia \n\n\n\nWe host a FREE in-house trivia night EVERY Tuesday at the Cider House Downtown. It is socially distant\, always fun\, and gives you a chance to laugh a lot and drink some cider! You could even win some sweet prizes. There is no downside\, come on down and join us!
URL:https://idahowines.org/event/meriwether-cider-co-free-tuesday-trivia-downtown-boise-location/2023-09-26/
CATEGORIES:Cidery Event
ATTACH;FMTTYPE=image/webp:https://idahowines.org/content/uploads/2023/08/events-placeholder-image-1-purple.webp
END:VEVENT
BEGIN:VEVENT
DTSTART;TZID=America/Boise:20230928T160000
DTEND;TZID=America/Boise:20230928T200000
DTSTAMP:20260425T074932
CREATED:20230720T205030Z
LAST-MODIFIED:20230811T131413Z
UID:10001741-1695916800-1695931200@idahowines.org
SUMMARY:Meriwether Cider Company – Growler Fill Thursdays
DESCRIPTION:Home / Cidery Event / Page 2\n\n\nMeriwether Cider Company – Growler Fill Thursdays\n\n\n\n\n\n\n\n\nCome in every Thursday and get $5 off 64oz and $2.50 off 32oz growler fills!
URL:https://idahowines.org/event/meriwether-growler-fill-thursdays-2/2023-09-28/
CATEGORIES:Cidery Event,Happy Hour
ATTACH;FMTTYPE=image/webp:https://idahowines.org/content/uploads/2023/08/events-placeholder-image-1-green.webp
END:VEVENT
BEGIN:VEVENT
DTSTART;TZID=America/Boise:20231003T190000
DTEND;TZID=America/Boise:20231003T203000
DTSTAMP:20260425T074932
CREATED:20230706T192535Z
LAST-MODIFIED:20230811T131625Z
UID:10001480-1696359600-1696365000@idahowines.org
SUMMARY:Meriwether Cider Co – FREE Tuesday Trivia  @Downtown Boise Location
DESCRIPTION:Home / Cidery Event / Page 2\n\n\nMeriwether Cider Company – Growler Fill Thursdays\n\n\n\n\n\n\n\n\nFREE Tuesday Trivia \n\n\n\nWe host a FREE in-house trivia night EVERY Tuesday at the Cider House Downtown. It is socially distant\, always fun\, and gives you a chance to laugh a lot and drink some cider! You could even win some sweet prizes. There is no downside\, come on down and join us!
URL:https://idahowines.org/event/meriwether-cider-co-free-tuesday-trivia-downtown-boise-location/2023-10-03/
CATEGORIES:Cidery Event
ATTACH;FMTTYPE=image/webp:https://idahowines.org/content/uploads/2023/08/events-placeholder-image-1-purple.webp
END:VEVENT
BEGIN:VEVENT
DTSTART;TZID=America/Boise:20231005T160000
DTEND;TZID=America/Boise:20231005T200000
DTSTAMP:20260425T074932
CREATED:20230720T205030Z
LAST-MODIFIED:20230811T131413Z
UID:10001742-1696521600-1696536000@idahowines.org
SUMMARY:Meriwether Cider Company – Growler Fill Thursdays
DESCRIPTION:Home / Cidery Event / Page 2\n\n\nMeriwether Cider Company – Growler Fill Thursdays\n\n\n\n\n\n\n\n\nCome in every Thursday and get $5 off 64oz and $2.50 off 32oz growler fills!
URL:https://idahowines.org/event/meriwether-growler-fill-thursdays-2/2023-10-05/
CATEGORIES:Cidery Event,Happy Hour
ATTACH;FMTTYPE=image/webp:https://idahowines.org/content/uploads/2023/08/events-placeholder-image-1-green.webp
END:VEVENT
BEGIN:VEVENT
DTSTART;TZID=America/Boise:20231010T190000
DTEND;TZID=America/Boise:20231010T203000
DTSTAMP:20260425T074932
CREATED:20230706T192535Z
LAST-MODIFIED:20230811T131625Z
UID:10001481-1696964400-1696969800@idahowines.org
SUMMARY:Meriwether Cider Co – FREE Tuesday Trivia  @Downtown Boise Location
DESCRIPTION:Home / Cidery Event / Page 2\n\n\nMeriwether Cider Company – Growler Fill Thursdays\n\n\n\n\n\n\n\n\nFREE Tuesday Trivia \n\n\n\nWe host a FREE in-house trivia night EVERY Tuesday at the Cider House Downtown. It is socially distant\, always fun\, and gives you a chance to laugh a lot and drink some cider! You could even win some sweet prizes. There is no downside\, come on down and join us!
URL:https://idahowines.org/event/meriwether-cider-co-free-tuesday-trivia-downtown-boise-location/2023-10-10/
CATEGORIES:Cidery Event
ATTACH;FMTTYPE=image/webp:https://idahowines.org/content/uploads/2023/08/events-placeholder-image-1-purple.webp
END:VEVENT
BEGIN:VEVENT
DTSTART;TZID=America/Boise:20231012T160000
DTEND;TZID=America/Boise:20231012T200000
DTSTAMP:20260425T074933
CREATED:20230720T205030Z
LAST-MODIFIED:20230811T131413Z
UID:10001743-1697126400-1697140800@idahowines.org
SUMMARY:Meriwether Cider Company – Growler Fill Thursdays
DESCRIPTION:Home / Cidery Event / Page 2\n\n\nMeriwether Cider Company – Growler Fill Thursdays\n\n\n\n\n\n\n\n\nCome in every Thursday and get $5 off 64oz and $2.50 off 32oz growler fills!
URL:https://idahowines.org/event/meriwether-growler-fill-thursdays-2/2023-10-12/
CATEGORIES:Cidery Event,Happy Hour
ATTACH;FMTTYPE=image/webp:https://idahowines.org/content/uploads/2023/08/events-placeholder-image-1-green.webp
END:VEVENT
BEGIN:VEVENT
DTSTART;TZID=America/Boise:20231017T190000
DTEND;TZID=America/Boise:20231017T203000
DTSTAMP:20260425T074933
CREATED:20230706T192535Z
LAST-MODIFIED:20230811T131625Z
UID:10001482-1697569200-1697574600@idahowines.org
SUMMARY:Meriwether Cider Co – FREE Tuesday Trivia  @Downtown Boise Location
DESCRIPTION:Home / Cidery Event / Page 2\n\n\nMeriwether Cider Company – Growler Fill Thursdays\n\n\n\n\n\n\n\n\nFREE Tuesday Trivia \n\n\n\nWe host a FREE in-house trivia night EVERY Tuesday at the Cider House Downtown. It is socially distant\, always fun\, and gives you a chance to laugh a lot and drink some cider! You could even win some sweet prizes. There is no downside\, come on down and join us!
URL:https://idahowines.org/event/meriwether-cider-co-free-tuesday-trivia-downtown-boise-location/2023-10-17/
CATEGORIES:Cidery Event
ATTACH;FMTTYPE=image/webp:https://idahowines.org/content/uploads/2023/08/events-placeholder-image-1-purple.webp
END:VEVENT
BEGIN:VEVENT
DTSTART;TZID=America/Boise:20231018T170000
DTEND;TZID=America/Boise:20231018T200000
DTSTAMP:20260425T074933
CREATED:20231017T021411Z
LAST-MODIFIED:20231017T021412Z
UID:10004052-1697648400-1697659200@idahowines.org
SUMMARY:Meriwether Cider Co. - Grilled Cheese Night
DESCRIPTION:Home / Cidery Event / Page 2\n\n\nMeriwether Cider Company – Growler Fill Thursdays\n\n\n\n\n\n\n\n\nWe can all use some ooey-gooey cheesy goodness accompanied with a cold cider!Bistro Babe will be providing multiple varieties of grilled goodness and Meriwether will be freely pouring all the cidery gold!
URL:https://idahowines.org/event/meriwether-cider-co-grilled-cheese-night/
LOCATION:Meriwether Cider Co.\, 5242 W Chinden Blvd\, Garden City\, ID\, 83714\, United States
CATEGORIES:Cidery Event
ATTACH;FMTTYPE=image/png:https://idahowines.org/content/uploads/2023/10/download.png
END:VEVENT
BEGIN:VEVENT
DTSTART;TZID=America/Boise:20231019T160000
DTEND;TZID=America/Boise:20231019T200000
DTSTAMP:20260425T074933
CREATED:20230720T205030Z
LAST-MODIFIED:20230811T131413Z
UID:10001744-1697731200-1697745600@idahowines.org
SUMMARY:Meriwether Cider Company – Growler Fill Thursdays
DESCRIPTION:Home / Cidery Event / Page 2\n\n\nMeriwether Cider Company – Growler Fill Thursdays\n\n\n\n\n\n\n\n\nCome in every Thursday and get $5 off 64oz and $2.50 off 32oz growler fills!
URL:https://idahowines.org/event/meriwether-growler-fill-thursdays-2/2023-10-19/
CATEGORIES:Cidery Event,Happy Hour
ATTACH;FMTTYPE=image/webp:https://idahowines.org/content/uploads/2023/08/events-placeholder-image-1-green.webp
END:VEVENT
BEGIN:VEVENT
DTSTART;TZID=America/Boise:20231024T190000
DTEND;TZID=America/Boise:20231024T203000
DTSTAMP:20260425T074933
CREATED:20230706T192535Z
LAST-MODIFIED:20230811T131625Z
UID:10001483-1698174000-1698179400@idahowines.org
SUMMARY:Meriwether Cider Co – FREE Tuesday Trivia  @Downtown Boise Location
DESCRIPTION:Home / Cidery Event / Page 2\n\n\nMeriwether Cider Company – Growler Fill Thursdays\n\n\n\n\n\n\n\n\nFREE Tuesday Trivia \n\n\n\nWe host a FREE in-house trivia night EVERY Tuesday at the Cider House Downtown. It is socially distant\, always fun\, and gives you a chance to laugh a lot and drink some cider! You could even win some sweet prizes. There is no downside\, come on down and join us!
URL:https://idahowines.org/event/meriwether-cider-co-free-tuesday-trivia-downtown-boise-location/2023-10-24/
CATEGORIES:Cidery Event
ATTACH;FMTTYPE=image/webp:https://idahowines.org/content/uploads/2023/08/events-placeholder-image-1-purple.webp
END:VEVENT
BEGIN:VEVENT
DTSTART;TZID=America/Boise:20231026T160000
DTEND;TZID=America/Boise:20231026T200000
DTSTAMP:20260425T074933
CREATED:20230720T205030Z
LAST-MODIFIED:20230811T131413Z
UID:10001745-1698336000-1698350400@idahowines.org
SUMMARY:Meriwether Cider Company – Growler Fill Thursdays
DESCRIPTION:Home / Cidery Event / Page 2\n\n\nMeriwether Cider Company – Growler Fill Thursdays\n\n\n\n\n\n\n\n\nCome in every Thursday and get $5 off 64oz and $2.50 off 32oz growler fills!
URL:https://idahowines.org/event/meriwether-growler-fill-thursdays-2/2023-10-26/
CATEGORIES:Cidery Event,Happy Hour
ATTACH;FMTTYPE=image/webp:https://idahowines.org/content/uploads/2023/08/events-placeholder-image-1-green.webp
END:VEVENT
BEGIN:VEVENT
DTSTART;TZID=America/Boise:20231031T190000
DTEND;TZID=America/Boise:20231031T203000
DTSTAMP:20260425T074933
CREATED:20230706T192535Z
LAST-MODIFIED:20230811T131625Z
UID:10001484-1698778800-1698784200@idahowines.org
SUMMARY:Meriwether Cider Co – FREE Tuesday Trivia  @Downtown Boise Location
DESCRIPTION:Home / Cidery Event / Page 2\n\n\nMeriwether Cider Company – Growler Fill Thursdays\n\n\n\n\n\n\n\n\nFREE Tuesday Trivia \n\n\n\nWe host a FREE in-house trivia night EVERY Tuesday at the Cider House Downtown. It is socially distant\, always fun\, and gives you a chance to laugh a lot and drink some cider! You could even win some sweet prizes. There is no downside\, come on down and join us!
URL:https://idahowines.org/event/meriwether-cider-co-free-tuesday-trivia-downtown-boise-location/2023-10-31/
CATEGORIES:Cidery Event
ATTACH;FMTTYPE=image/webp:https://idahowines.org/content/uploads/2023/08/events-placeholder-image-1-purple.webp
END:VEVENT
BEGIN:VEVENT
DTSTART;TZID=America/Boise:20231102T160000
DTEND;TZID=America/Boise:20231102T200000
DTSTAMP:20260425T074933
CREATED:20230720T205030Z
LAST-MODIFIED:20230811T131413Z
UID:10001746-1698940800-1698955200@idahowines.org
SUMMARY:Meriwether Cider Company – Growler Fill Thursdays
DESCRIPTION:Home / Cidery Event / Page 2\n\n\nMeriwether Cider Company – Growler Fill Thursdays\n\n\n\n\n\n\n\n\nCome in every Thursday and get $5 off 64oz and $2.50 off 32oz growler fills!
URL:https://idahowines.org/event/meriwether-growler-fill-thursdays-2/2023-11-02/
CATEGORIES:Cidery Event,Happy Hour
ATTACH;FMTTYPE=image/webp:https://idahowines.org/content/uploads/2023/08/events-placeholder-image-1-green.webp
END:VEVENT
BEGIN:VEVENT
DTSTART;TZID=America/Boise:20231107T190000
DTEND;TZID=America/Boise:20231107T203000
DTSTAMP:20260425T074933
CREATED:20230706T192535Z
LAST-MODIFIED:20230811T131625Z
UID:10001485-1699383600-1699389000@idahowines.org
SUMMARY:Meriwether Cider Co – FREE Tuesday Trivia  @Downtown Boise Location
DESCRIPTION:Home / Cidery Event / Page 2\n\n\nMeriwether Cider Company – Growler Fill Thursdays\n\n\n\n\n\n\n\n\nFREE Tuesday Trivia \n\n\n\nWe host a FREE in-house trivia night EVERY Tuesday at the Cider House Downtown. It is socially distant\, always fun\, and gives you a chance to laugh a lot and drink some cider! You could even win some sweet prizes. There is no downside\, come on down and join us!
URL:https://idahowines.org/event/meriwether-cider-co-free-tuesday-trivia-downtown-boise-location/2023-11-07/
CATEGORIES:Cidery Event
ATTACH;FMTTYPE=image/webp:https://idahowines.org/content/uploads/2023/08/events-placeholder-image-1-purple.webp
END:VEVENT
BEGIN:VEVENT
DTSTART;TZID=America/Boise:20231109T160000
DTEND;TZID=America/Boise:20231109T200000
DTSTAMP:20260425T074933
CREATED:20230720T205030Z
LAST-MODIFIED:20230811T131413Z
UID:10001747-1699545600-1699560000@idahowines.org
SUMMARY:Meriwether Cider Company – Growler Fill Thursdays
DESCRIPTION:Home / Cidery Event / Page 2\n\n\nMeriwether Cider Company – Growler Fill Thursdays\n\n\n\n\n\n\n\n\nCome in every Thursday and get $5 off 64oz and $2.50 off 32oz growler fills!
URL:https://idahowines.org/event/meriwether-growler-fill-thursdays-2/2023-11-09/
CATEGORIES:Cidery Event,Happy Hour
ATTACH;FMTTYPE=image/webp:https://idahowines.org/content/uploads/2023/08/events-placeholder-image-1-green.webp
END:VEVENT
BEGIN:VEVENT
DTSTART;TZID=America/Boise:20231114T190000
DTEND;TZID=America/Boise:20231114T203000
DTSTAMP:20260425T074933
CREATED:20230706T192535Z
LAST-MODIFIED:20230811T131625Z
UID:10001486-1699988400-1699993800@idahowines.org
SUMMARY:Meriwether Cider Co – FREE Tuesday Trivia  @Downtown Boise Location
DESCRIPTION:Home / Cidery Event / Page 2\n\n\nMeriwether Cider Company – Growler Fill Thursdays\n\n\n\n\n\n\n\n\nFREE Tuesday Trivia \n\n\n\nWe host a FREE in-house trivia night EVERY Tuesday at the Cider House Downtown. It is socially distant\, always fun\, and gives you a chance to laugh a lot and drink some cider! You could even win some sweet prizes. There is no downside\, come on down and join us!
URL:https://idahowines.org/event/meriwether-cider-co-free-tuesday-trivia-downtown-boise-location/2023-11-14/
CATEGORIES:Cidery Event
ATTACH;FMTTYPE=image/webp:https://idahowines.org/content/uploads/2023/08/events-placeholder-image-1-purple.webp
END:VEVENT
BEGIN:VEVENT
DTSTART;TZID=America/Boise:20231116T160000
DTEND;TZID=America/Boise:20231116T200000
DTSTAMP:20260425T074933
CREATED:20230720T205030Z
LAST-MODIFIED:20230811T131413Z
UID:10001748-1700150400-1700164800@idahowines.org
SUMMARY:Meriwether Cider Company – Growler Fill Thursdays
DESCRIPTION:Home / Cidery Event / Page 2\n\n\nMeriwether Cider Company – Growler Fill Thursdays\n\n\n\n\n\n\n\n\nCome in every Thursday and get $5 off 64oz and $2.50 off 32oz growler fills!
URL:https://idahowines.org/event/meriwether-growler-fill-thursdays-2/2023-11-16/
CATEGORIES:Cidery Event,Happy Hour
ATTACH;FMTTYPE=image/webp:https://idahowines.org/content/uploads/2023/08/events-placeholder-image-1-green.webp
END:VEVENT
BEGIN:VEVENT
DTSTART;TZID=America/Boise:20231121T190000
DTEND;TZID=America/Boise:20231121T203000
DTSTAMP:20260425T074933
CREATED:20230706T192535Z
LAST-MODIFIED:20230811T131625Z
UID:10001487-1700593200-1700598600@idahowines.org
SUMMARY:Meriwether Cider Co – FREE Tuesday Trivia  @Downtown Boise Location
DESCRIPTION:Home / Cidery Event / Page 2\n\n\nMeriwether Cider Company – Growler Fill Thursdays\n\n\n\n\n\n\n\n\nFREE Tuesday Trivia \n\n\n\nWe host a FREE in-house trivia night EVERY Tuesday at the Cider House Downtown. It is socially distant\, always fun\, and gives you a chance to laugh a lot and drink some cider! You could even win some sweet prizes. There is no downside\, come on down and join us!
URL:https://idahowines.org/event/meriwether-cider-co-free-tuesday-trivia-downtown-boise-location/2023-11-21/
CATEGORIES:Cidery Event
ATTACH;FMTTYPE=image/webp:https://idahowines.org/content/uploads/2023/08/events-placeholder-image-1-purple.webp
END:VEVENT
BEGIN:VEVENT
DTSTART;TZID=America/Boise:20231123T160000
DTEND;TZID=America/Boise:20231123T200000
DTSTAMP:20260425T074933
CREATED:20230720T205030Z
LAST-MODIFIED:20230811T131413Z
UID:10001749-1700755200-1700769600@idahowines.org
SUMMARY:Meriwether Cider Company – Growler Fill Thursdays
DESCRIPTION:Home / Cidery Event / Page 2\n\n\nMeriwether Cider Company – Growler Fill Thursdays\n\n\n\n\n\n\n\n\nCome in every Thursday and get $5 off 64oz and $2.50 off 32oz growler fills!
URL:https://idahowines.org/event/meriwether-growler-fill-thursdays-2/2023-11-23/
CATEGORIES:Cidery Event,Happy Hour
ATTACH;FMTTYPE=image/webp:https://idahowines.org/content/uploads/2023/08/events-placeholder-image-1-green.webp
END:VEVENT
BEGIN:VEVENT
DTSTART;TZID=America/Boise:20231128T190000
DTEND;TZID=America/Boise:20231128T203000
DTSTAMP:20260425T074933
CREATED:20230706T192535Z
LAST-MODIFIED:20230811T131625Z
UID:10001488-1701198000-1701203400@idahowines.org
SUMMARY:Meriwether Cider Co – FREE Tuesday Trivia  @Downtown Boise Location
DESCRIPTION:Home / Cidery Event / Page 2\n\n\nMeriwether Cider Company – Growler Fill Thursdays\n\n\n\n\n\n\n\n\nFREE Tuesday Trivia \n\n\n\nWe host a FREE in-house trivia night EVERY Tuesday at the Cider House Downtown. It is socially distant\, always fun\, and gives you a chance to laugh a lot and drink some cider! You could even win some sweet prizes. There is no downside\, come on down and join us!
URL:https://idahowines.org/event/meriwether-cider-co-free-tuesday-trivia-downtown-boise-location/2023-11-28/
CATEGORIES:Cidery Event
ATTACH;FMTTYPE=image/webp:https://idahowines.org/content/uploads/2023/08/events-placeholder-image-1-purple.webp
END:VEVENT
BEGIN:VEVENT
DTSTART;TZID=America/Boise:20231130T160000
DTEND;TZID=America/Boise:20231130T200000
DTSTAMP:20260425T074933
CREATED:20230720T205030Z
LAST-MODIFIED:20230811T131413Z
UID:10001750-1701360000-1701374400@idahowines.org
SUMMARY:Meriwether Cider Company – Growler Fill Thursdays
DESCRIPTION:Home / Cidery Event / Page 2\n\n\nMeriwether Cider Company – Growler Fill Thursdays\n\n\n\n\n\n\n\n\nCome in every Thursday and get $5 off 64oz and $2.50 off 32oz growler fills!
URL:https://idahowines.org/event/meriwether-growler-fill-thursdays-2/2023-11-30/
CATEGORIES:Cidery Event,Happy Hour
ATTACH;FMTTYPE=image/webp:https://idahowines.org/content/uploads/2023/08/events-placeholder-image-1-green.webp
END:VEVENT
BEGIN:VEVENT
DTSTART;TZID=America/Boise:20231205T190000
DTEND;TZID=America/Boise:20231205T203000
DTSTAMP:20260425T074933
CREATED:20230706T192535Z
LAST-MODIFIED:20230811T131625Z
UID:10001489-1701802800-1701808200@idahowines.org
SUMMARY:Meriwether Cider Co – FREE Tuesday Trivia  @Downtown Boise Location
DESCRIPTION:Home / Cidery Event / Page 2\n\n\nMeriwether Cider Company – Growler Fill Thursdays\n\n\n\n\n\n\n\n\nFREE Tuesday Trivia \n\n\n\nWe host a FREE in-house trivia night EVERY Tuesday at the Cider House Downtown. It is socially distant\, always fun\, and gives you a chance to laugh a lot and drink some cider! You could even win some sweet prizes. There is no downside\, come on down and join us!
URL:https://idahowines.org/event/meriwether-cider-co-free-tuesday-trivia-downtown-boise-location/2023-12-05/
CATEGORIES:Cidery Event
ATTACH;FMTTYPE=image/webp:https://idahowines.org/content/uploads/2023/08/events-placeholder-image-1-purple.webp
END:VEVENT
BEGIN:VEVENT
DTSTART;TZID=America/Boise:20231207T160000
DTEND;TZID=America/Boise:20231207T200000
DTSTAMP:20260425T074933
CREATED:20230720T205030Z
LAST-MODIFIED:20230811T131413Z
UID:10001751-1701964800-1701979200@idahowines.org
SUMMARY:Meriwether Cider Company – Growler Fill Thursdays
DESCRIPTION:Home / Cidery Event / Page 2\n\n\nMeriwether Cider Company – Growler Fill Thursdays\n\n\n\n\n\n\n\n\nCome in every Thursday and get $5 off 64oz and $2.50 off 32oz growler fills!
URL:https://idahowines.org/event/meriwether-growler-fill-thursdays-2/2023-12-07/
CATEGORIES:Cidery Event,Happy Hour
ATTACH;FMTTYPE=image/webp:https://idahowines.org/content/uploads/2023/08/events-placeholder-image-1-green.webp
END:VEVENT
BEGIN:VEVENT
DTSTART;TZID=America/Boise:20231212T190000
DTEND;TZID=America/Boise:20231212T203000
DTSTAMP:20260425T074933
CREATED:20230706T192535Z
LAST-MODIFIED:20230811T131625Z
UID:10001490-1702407600-1702413000@idahowines.org
SUMMARY:Meriwether Cider Co – FREE Tuesday Trivia  @Downtown Boise Location
DESCRIPTION:Home / Cidery Event / Page 2\n\n\nMeriwether Cider Company – Growler Fill Thursdays\n\n\n\n\n\n\n\n\nFREE Tuesday Trivia \n\n\n\nWe host a FREE in-house trivia night EVERY Tuesday at the Cider House Downtown. It is socially distant\, always fun\, and gives you a chance to laugh a lot and drink some cider! You could even win some sweet prizes. There is no downside\, come on down and join us!
URL:https://idahowines.org/event/meriwether-cider-co-free-tuesday-trivia-downtown-boise-location/2023-12-12/
CATEGORIES:Cidery Event
ATTACH;FMTTYPE=image/webp:https://idahowines.org/content/uploads/2023/08/events-placeholder-image-1-purple.webp
END:VEVENT
BEGIN:VEVENT
DTSTART;TZID=America/Boise:20231214T160000
DTEND;TZID=America/Boise:20231214T200000
DTSTAMP:20260425T074933
CREATED:20230720T205030Z
LAST-MODIFIED:20230811T131413Z
UID:10001752-1702569600-1702584000@idahowines.org
SUMMARY:Meriwether Cider Company – Growler Fill Thursdays
DESCRIPTION:Home / Cidery Event / Page 2\n\n\nMeriwether Cider Company – Growler Fill Thursdays\n\n\n\n\n\n\n\n\nCome in every Thursday and get $5 off 64oz and $2.50 off 32oz growler fills!
URL:https://idahowines.org/event/meriwether-growler-fill-thursdays-2/2023-12-14/
CATEGORIES:Cidery Event,Happy Hour
ATTACH;FMTTYPE=image/webp:https://idahowines.org/content/uploads/2023/08/events-placeholder-image-1-green.webp
END:VEVENT
BEGIN:VEVENT
DTSTART;TZID=America/Boise:20231216T143000
DTEND;TZID=America/Boise:20231216T193000
DTSTAMP:20260425T074933
CREATED:20231129T185237Z
LAST-MODIFIED:20231129T185238Z
UID:10004134-1702737000-1702755000@idahowines.org
SUMMARY:High Country Cider - Barrel 33 Holiday Cider Extravaganza
DESCRIPTION:Home / Cidery Event / Page 2\n\n\nMeriwether Cider Company – Growler Fill Thursdays\n\n\n\n\n\n\n\n\nBeing held at Barrel 33 in Downtown Sandpoint. The “Barrel 33 Holiday Cider Extravaganza”. Cider tastings with live music as well.
URL:https://idahowines.org/event/high-country-cider-barrel-33-holiday-cider-extravaganza/
LOCATION:Barrel 33\, 100 N 1st Ave\, Sandpoint\, ID\, 83864\, United States
CATEGORIES:Cidery Event
ATTACH;FMTTYPE=image/webp:https://idahowines.org/content/uploads/2023/11/rsw_1000cg_truem.webp
END:VEVENT
END:VCALENDAR