BEGIN:VCALENDAR
VERSION:2.0
PRODID:-//Idaho Wine Commission - ECPv6.15.17//NONSGML v1.0//EN
CALSCALE:GREGORIAN
METHOD:PUBLISH
X-WR-CALNAME:Idaho Wine Commission
X-ORIGINAL-URL:https://idahowines.org
X-WR-CALDESC:Events for Idaho Wine Commission
REFRESH-INTERVAL;VALUE=DURATION:PT1H
X-Robots-Tag:noindex
X-PUBLISHED-TTL:PT1H
BEGIN:VTIMEZONE
TZID:America/Boise
BEGIN:DAYLIGHT
TZOFFSETFROM:-0700
TZOFFSETTO:-0600
TZNAME:MDT
DTSTART:20250309T090000
END:DAYLIGHT
BEGIN:STANDARD
TZOFFSETFROM:-0600
TZOFFSETTO:-0700
TZNAME:MST
DTSTART:20251102T080000
END:STANDARD
BEGIN:DAYLIGHT
TZOFFSETFROM:-0700
TZOFFSETTO:-0600
TZNAME:MDT
DTSTART:20260308T090000
END:DAYLIGHT
BEGIN:STANDARD
TZOFFSETFROM:-0600
TZOFFSETTO:-0700
TZNAME:MST
DTSTART:20261101T080000
END:STANDARD
BEGIN:DAYLIGHT
TZOFFSETFROM:-0700
TZOFFSETTO:-0600
TZNAME:MDT
DTSTART:20270314T090000
END:DAYLIGHT
BEGIN:STANDARD
TZOFFSETFROM:-0600
TZOFFSETTO:-0700
TZNAME:MST
DTSTART:20271107T080000
END:STANDARD
END:VTIMEZONE
BEGIN:VEVENT
DTSTART;TZID=America/Boise:20260224T190000
DTEND;TZID=America/Boise:20260224T203000
DTSTAMP:20260421T110901
CREATED:20230706T192535Z
LAST-MODIFIED:20230811T131625Z
UID:10001605-1771959600-1771965000@idahowines.org
SUMMARY:Meriwether Cider Co – FREE Tuesday Trivia  @Downtown Boise Location
DESCRIPTION:Home / Cidery Event / Page 17\n\n\nMeriwether Cider Co – FREE Tuesday Trivia  @Downtown Boise Location\n\n\n\n\n\n\n\n\nFREE Tuesday Trivia \n\n\n\nWe host a FREE in-house trivia night EVERY Tuesday at the Cider House Downtown. It is socially distant\, always fun\, and gives you a chance to laugh a lot and drink some cider! You could even win some sweet prizes. There is no downside\, come on down and join us!
URL:https://idahowines.org/event/meriwether-cider-co-free-tuesday-trivia-downtown-boise-location/2026-02-24/
CATEGORIES:Cidery Event
ATTACH;FMTTYPE=image/webp:https://idahowines.org/content/uploads/2023/08/events-placeholder-image-1-purple.webp
END:VEVENT
BEGIN:VEVENT
DTSTART;TZID=America/Boise:20260226T160000
DTEND;TZID=America/Boise:20260226T200000
DTSTAMP:20260421T110901
CREATED:20230720T205030Z
LAST-MODIFIED:20230811T131413Z
UID:10001866-1772121600-1772136000@idahowines.org
SUMMARY:Meriwether Cider Company – Growler Fill Thursdays
DESCRIPTION:Home / Cidery Event / Page 17\n\n\nMeriwether Cider Co – FREE Tuesday Trivia  @Downtown Boise Location\n\n\n\n\n\n\n\n\nCome in every Thursday and get $5 off 64oz and $2.50 off 32oz growler fills!
URL:https://idahowines.org/event/meriwether-growler-fill-thursdays-2/2026-02-26/
CATEGORIES:Cidery Event,Happy Hour
ATTACH;FMTTYPE=image/webp:https://idahowines.org/content/uploads/2023/08/events-placeholder-image-1-green.webp
END:VEVENT
BEGIN:VEVENT
DTSTART;TZID=America/Boise:20260303T190000
DTEND;TZID=America/Boise:20260303T203000
DTSTAMP:20260421T110901
CREATED:20230706T192535Z
LAST-MODIFIED:20230811T131625Z
UID:10001606-1772564400-1772569800@idahowines.org
SUMMARY:Meriwether Cider Co – FREE Tuesday Trivia  @Downtown Boise Location
DESCRIPTION:Home / Cidery Event / Page 17\n\n\nMeriwether Cider Co – FREE Tuesday Trivia  @Downtown Boise Location\n\n\n\n\n\n\n\n\nFREE Tuesday Trivia \n\n\n\nWe host a FREE in-house trivia night EVERY Tuesday at the Cider House Downtown. It is socially distant\, always fun\, and gives you a chance to laugh a lot and drink some cider! You could even win some sweet prizes. There is no downside\, come on down and join us!
URL:https://idahowines.org/event/meriwether-cider-co-free-tuesday-trivia-downtown-boise-location/2026-03-03/
CATEGORIES:Cidery Event
ATTACH;FMTTYPE=image/webp:https://idahowines.org/content/uploads/2023/08/events-placeholder-image-1-purple.webp
END:VEVENT
BEGIN:VEVENT
DTSTART;TZID=America/Boise:20260305T160000
DTEND;TZID=America/Boise:20260305T200000
DTSTAMP:20260421T110901
CREATED:20230720T205030Z
LAST-MODIFIED:20230811T131413Z
UID:10001867-1772726400-1772740800@idahowines.org
SUMMARY:Meriwether Cider Company – Growler Fill Thursdays
DESCRIPTION:Home / Cidery Event / Page 17\n\n\nMeriwether Cider Co – FREE Tuesday Trivia  @Downtown Boise Location\n\n\n\n\n\n\n\n\nCome in every Thursday and get $5 off 64oz and $2.50 off 32oz growler fills!
URL:https://idahowines.org/event/meriwether-growler-fill-thursdays-2/2026-03-05/
CATEGORIES:Cidery Event,Happy Hour
ATTACH;FMTTYPE=image/webp:https://idahowines.org/content/uploads/2023/08/events-placeholder-image-1-green.webp
END:VEVENT
BEGIN:VEVENT
DTSTART;TZID=America/Boise:20260310T190000
DTEND;TZID=America/Boise:20260310T203000
DTSTAMP:20260421T110901
CREATED:20230706T192535Z
LAST-MODIFIED:20230811T131625Z
UID:10001607-1773169200-1773174600@idahowines.org
SUMMARY:Meriwether Cider Co – FREE Tuesday Trivia  @Downtown Boise Location
DESCRIPTION:Home / Cidery Event / Page 17\n\n\nMeriwether Cider Co – FREE Tuesday Trivia  @Downtown Boise Location\n\n\n\n\n\n\n\n\nFREE Tuesday Trivia \n\n\n\nWe host a FREE in-house trivia night EVERY Tuesday at the Cider House Downtown. It is socially distant\, always fun\, and gives you a chance to laugh a lot and drink some cider! You could even win some sweet prizes. There is no downside\, come on down and join us!
URL:https://idahowines.org/event/meriwether-cider-co-free-tuesday-trivia-downtown-boise-location/2026-03-10/
CATEGORIES:Cidery Event
ATTACH;FMTTYPE=image/webp:https://idahowines.org/content/uploads/2023/08/events-placeholder-image-1-purple.webp
END:VEVENT
BEGIN:VEVENT
DTSTART;TZID=America/Boise:20260312T160000
DTEND;TZID=America/Boise:20260312T200000
DTSTAMP:20260421T110901
CREATED:20230720T205030Z
LAST-MODIFIED:20230811T131413Z
UID:10001868-1773331200-1773345600@idahowines.org
SUMMARY:Meriwether Cider Company – Growler Fill Thursdays
DESCRIPTION:Home / Cidery Event / Page 17\n\n\nMeriwether Cider Co – FREE Tuesday Trivia  @Downtown Boise Location\n\n\n\n\n\n\n\n\nCome in every Thursday and get $5 off 64oz and $2.50 off 32oz growler fills!
URL:https://idahowines.org/event/meriwether-growler-fill-thursdays-2/2026-03-12/
CATEGORIES:Cidery Event,Happy Hour
ATTACH;FMTTYPE=image/webp:https://idahowines.org/content/uploads/2023/08/events-placeholder-image-1-green.webp
END:VEVENT
BEGIN:VEVENT
DTSTART;TZID=America/Boise:20260317T190000
DTEND;TZID=America/Boise:20260317T203000
DTSTAMP:20260421T110901
CREATED:20230706T192535Z
LAST-MODIFIED:20230811T131625Z
UID:10001608-1773774000-1773779400@idahowines.org
SUMMARY:Meriwether Cider Co – FREE Tuesday Trivia  @Downtown Boise Location
DESCRIPTION:Home / Cidery Event / Page 17\n\n\nMeriwether Cider Co – FREE Tuesday Trivia  @Downtown Boise Location\n\n\n\n\n\n\n\n\nFREE Tuesday Trivia \n\n\n\nWe host a FREE in-house trivia night EVERY Tuesday at the Cider House Downtown. It is socially distant\, always fun\, and gives you a chance to laugh a lot and drink some cider! You could even win some sweet prizes. There is no downside\, come on down and join us!
URL:https://idahowines.org/event/meriwether-cider-co-free-tuesday-trivia-downtown-boise-location/2026-03-17/
CATEGORIES:Cidery Event
ATTACH;FMTTYPE=image/webp:https://idahowines.org/content/uploads/2023/08/events-placeholder-image-1-purple.webp
END:VEVENT
BEGIN:VEVENT
DTSTART;TZID=America/Boise:20260319T160000
DTEND;TZID=America/Boise:20260319T200000
DTSTAMP:20260421T110901
CREATED:20230720T205030Z
LAST-MODIFIED:20230811T131413Z
UID:10001869-1773936000-1773950400@idahowines.org
SUMMARY:Meriwether Cider Company – Growler Fill Thursdays
DESCRIPTION:Home / Cidery Event / Page 17\n\n\nMeriwether Cider Co – FREE Tuesday Trivia  @Downtown Boise Location\n\n\n\n\n\n\n\n\nCome in every Thursday and get $5 off 64oz and $2.50 off 32oz growler fills!
URL:https://idahowines.org/event/meriwether-growler-fill-thursdays-2/2026-03-19/
CATEGORIES:Cidery Event,Happy Hour
ATTACH;FMTTYPE=image/webp:https://idahowines.org/content/uploads/2023/08/events-placeholder-image-1-green.webp
END:VEVENT
BEGIN:VEVENT
DTSTART;TZID=America/Boise:20260324T190000
DTEND;TZID=America/Boise:20260324T203000
DTSTAMP:20260421T110901
CREATED:20230706T192535Z
LAST-MODIFIED:20230811T131625Z
UID:10001609-1774378800-1774384200@idahowines.org
SUMMARY:Meriwether Cider Co – FREE Tuesday Trivia  @Downtown Boise Location
DESCRIPTION:Home / Cidery Event / Page 17\n\n\nMeriwether Cider Co – FREE Tuesday Trivia  @Downtown Boise Location\n\n\n\n\n\n\n\n\nFREE Tuesday Trivia \n\n\n\nWe host a FREE in-house trivia night EVERY Tuesday at the Cider House Downtown. It is socially distant\, always fun\, and gives you a chance to laugh a lot and drink some cider! You could even win some sweet prizes. There is no downside\, come on down and join us!
URL:https://idahowines.org/event/meriwether-cider-co-free-tuesday-trivia-downtown-boise-location/2026-03-24/
CATEGORIES:Cidery Event
ATTACH;FMTTYPE=image/webp:https://idahowines.org/content/uploads/2023/08/events-placeholder-image-1-purple.webp
END:VEVENT
BEGIN:VEVENT
DTSTART;TZID=America/Boise:20260326T160000
DTEND;TZID=America/Boise:20260326T200000
DTSTAMP:20260421T110901
CREATED:20230720T205030Z
LAST-MODIFIED:20230811T131413Z
UID:10001870-1774540800-1774555200@idahowines.org
SUMMARY:Meriwether Cider Company – Growler Fill Thursdays
DESCRIPTION:Home / Cidery Event / Page 17\n\n\nMeriwether Cider Co – FREE Tuesday Trivia  @Downtown Boise Location\n\n\n\n\n\n\n\n\nCome in every Thursday and get $5 off 64oz and $2.50 off 32oz growler fills!
URL:https://idahowines.org/event/meriwether-growler-fill-thursdays-2/2026-03-26/
CATEGORIES:Cidery Event,Happy Hour
ATTACH;FMTTYPE=image/webp:https://idahowines.org/content/uploads/2023/08/events-placeholder-image-1-green.webp
END:VEVENT
BEGIN:VEVENT
DTSTART;TZID=America/Boise:20260331T190000
DTEND;TZID=America/Boise:20260331T203000
DTSTAMP:20260421T110901
CREATED:20230706T192535Z
LAST-MODIFIED:20230811T131625Z
UID:10001610-1774983600-1774989000@idahowines.org
SUMMARY:Meriwether Cider Co – FREE Tuesday Trivia  @Downtown Boise Location
DESCRIPTION:Home / Cidery Event / Page 17\n\n\nMeriwether Cider Co – FREE Tuesday Trivia  @Downtown Boise Location\n\n\n\n\n\n\n\n\nFREE Tuesday Trivia \n\n\n\nWe host a FREE in-house trivia night EVERY Tuesday at the Cider House Downtown. It is socially distant\, always fun\, and gives you a chance to laugh a lot and drink some cider! You could even win some sweet prizes. There is no downside\, come on down and join us!
URL:https://idahowines.org/event/meriwether-cider-co-free-tuesday-trivia-downtown-boise-location/2026-03-31/
CATEGORIES:Cidery Event
ATTACH;FMTTYPE=image/webp:https://idahowines.org/content/uploads/2023/08/events-placeholder-image-1-purple.webp
END:VEVENT
BEGIN:VEVENT
DTSTART;TZID=America/Boise:20260402T160000
DTEND;TZID=America/Boise:20260402T200000
DTSTAMP:20260421T110901
CREATED:20230720T205030Z
LAST-MODIFIED:20230811T131413Z
UID:10001871-1775145600-1775160000@idahowines.org
SUMMARY:Meriwether Cider Company – Growler Fill Thursdays
DESCRIPTION:Home / Cidery Event / Page 17\n\n\nMeriwether Cider Co – FREE Tuesday Trivia  @Downtown Boise Location\n\n\n\n\n\n\n\n\nCome in every Thursday and get $5 off 64oz and $2.50 off 32oz growler fills!
URL:https://idahowines.org/event/meriwether-growler-fill-thursdays-2/2026-04-02/
CATEGORIES:Cidery Event,Happy Hour
ATTACH;FMTTYPE=image/webp:https://idahowines.org/content/uploads/2023/08/events-placeholder-image-1-green.webp
END:VEVENT
BEGIN:VEVENT
DTSTART;TZID=America/Boise:20260407T190000
DTEND;TZID=America/Boise:20260407T203000
DTSTAMP:20260421T110901
CREATED:20230706T192535Z
LAST-MODIFIED:20230811T131625Z
UID:10001611-1775588400-1775593800@idahowines.org
SUMMARY:Meriwether Cider Co – FREE Tuesday Trivia  @Downtown Boise Location
DESCRIPTION:Home / Cidery Event / Page 17\n\n\nMeriwether Cider Co – FREE Tuesday Trivia  @Downtown Boise Location\n\n\n\n\n\n\n\n\nFREE Tuesday Trivia \n\n\n\nWe host a FREE in-house trivia night EVERY Tuesday at the Cider House Downtown. It is socially distant\, always fun\, and gives you a chance to laugh a lot and drink some cider! You could even win some sweet prizes. There is no downside\, come on down and join us!
URL:https://idahowines.org/event/meriwether-cider-co-free-tuesday-trivia-downtown-boise-location/2026-04-07/
CATEGORIES:Cidery Event
ATTACH;FMTTYPE=image/webp:https://idahowines.org/content/uploads/2023/08/events-placeholder-image-1-purple.webp
END:VEVENT
BEGIN:VEVENT
DTSTART;TZID=America/Boise:20260409T160000
DTEND;TZID=America/Boise:20260409T200000
DTSTAMP:20260421T110901
CREATED:20230720T205030Z
LAST-MODIFIED:20230811T131413Z
UID:10001872-1775750400-1775764800@idahowines.org
SUMMARY:Meriwether Cider Company – Growler Fill Thursdays
DESCRIPTION:Home / Cidery Event / Page 17\n\n\nMeriwether Cider Co – FREE Tuesday Trivia  @Downtown Boise Location\n\n\n\n\n\n\n\n\nCome in every Thursday and get $5 off 64oz and $2.50 off 32oz growler fills!
URL:https://idahowines.org/event/meriwether-growler-fill-thursdays-2/2026-04-09/
CATEGORIES:Cidery Event,Happy Hour
ATTACH;FMTTYPE=image/webp:https://idahowines.org/content/uploads/2023/08/events-placeholder-image-1-green.webp
END:VEVENT
BEGIN:VEVENT
DTSTART;TZID=America/Boise:20260414T190000
DTEND;TZID=America/Boise:20260414T203000
DTSTAMP:20260421T110901
CREATED:20230706T192535Z
LAST-MODIFIED:20230811T131625Z
UID:10001612-1776193200-1776198600@idahowines.org
SUMMARY:Meriwether Cider Co – FREE Tuesday Trivia  @Downtown Boise Location
DESCRIPTION:Home / Cidery Event / Page 17\n\n\nMeriwether Cider Co – FREE Tuesday Trivia  @Downtown Boise Location\n\n\n\n\n\n\n\n\nFREE Tuesday Trivia \n\n\n\nWe host a FREE in-house trivia night EVERY Tuesday at the Cider House Downtown. It is socially distant\, always fun\, and gives you a chance to laugh a lot and drink some cider! You could even win some sweet prizes. There is no downside\, come on down and join us!
URL:https://idahowines.org/event/meriwether-cider-co-free-tuesday-trivia-downtown-boise-location/2026-04-14/
CATEGORIES:Cidery Event
ATTACH;FMTTYPE=image/webp:https://idahowines.org/content/uploads/2023/08/events-placeholder-image-1-purple.webp
END:VEVENT
BEGIN:VEVENT
DTSTART;TZID=America/Boise:20260416T160000
DTEND;TZID=America/Boise:20260416T200000
DTSTAMP:20260421T110901
CREATED:20230720T205030Z
LAST-MODIFIED:20230811T131413Z
UID:10001873-1776355200-1776369600@idahowines.org
SUMMARY:Meriwether Cider Company – Growler Fill Thursdays
DESCRIPTION:Home / Cidery Event / Page 17\n\n\nMeriwether Cider Co – FREE Tuesday Trivia  @Downtown Boise Location\n\n\n\n\n\n\n\n\nCome in every Thursday and get $5 off 64oz and $2.50 off 32oz growler fills!
URL:https://idahowines.org/event/meriwether-growler-fill-thursdays-2/2026-04-16/
CATEGORIES:Cidery Event,Happy Hour
ATTACH;FMTTYPE=image/webp:https://idahowines.org/content/uploads/2023/08/events-placeholder-image-1-green.webp
END:VEVENT
BEGIN:VEVENT
DTSTART;TZID=America/Boise:20260421T190000
DTEND;TZID=America/Boise:20260421T203000
DTSTAMP:20260421T110901
CREATED:20230706T192535Z
LAST-MODIFIED:20230811T131625Z
UID:10001613-1776798000-1776803400@idahowines.org
SUMMARY:Meriwether Cider Co – FREE Tuesday Trivia  @Downtown Boise Location
DESCRIPTION:Home / Cidery Event / Page 17\n\n\nMeriwether Cider Co – FREE Tuesday Trivia  @Downtown Boise Location\n\n\n\n\n\n\n\n\nFREE Tuesday Trivia \n\n\n\nWe host a FREE in-house trivia night EVERY Tuesday at the Cider House Downtown. It is socially distant\, always fun\, and gives you a chance to laugh a lot and drink some cider! You could even win some sweet prizes. There is no downside\, come on down and join us!
URL:https://idahowines.org/event/meriwether-cider-co-free-tuesday-trivia-downtown-boise-location/2026-04-21/
CATEGORIES:Cidery Event
ATTACH;FMTTYPE=image/webp:https://idahowines.org/content/uploads/2023/08/events-placeholder-image-1-purple.webp
END:VEVENT
BEGIN:VEVENT
DTSTART;TZID=America/Boise:20260423T160000
DTEND;TZID=America/Boise:20260423T200000
DTSTAMP:20260421T110901
CREATED:20230720T205030Z
LAST-MODIFIED:20230811T131413Z
UID:10001874-1776960000-1776974400@idahowines.org
SUMMARY:Meriwether Cider Company – Growler Fill Thursdays
DESCRIPTION:Home / Cidery Event / Page 17\n\n\nMeriwether Cider Co – FREE Tuesday Trivia  @Downtown Boise Location\n\n\n\n\n\n\n\n\nCome in every Thursday and get $5 off 64oz and $2.50 off 32oz growler fills!
URL:https://idahowines.org/event/meriwether-growler-fill-thursdays-2/2026-04-23/
CATEGORIES:Cidery Event,Happy Hour
ATTACH;FMTTYPE=image/webp:https://idahowines.org/content/uploads/2023/08/events-placeholder-image-1-green.webp
END:VEVENT
BEGIN:VEVENT
DTSTART;TZID=America/Boise:20260428T190000
DTEND;TZID=America/Boise:20260428T203000
DTSTAMP:20260421T110901
CREATED:20230706T192535Z
LAST-MODIFIED:20230811T131625Z
UID:10001614-1777402800-1777408200@idahowines.org
SUMMARY:Meriwether Cider Co – FREE Tuesday Trivia  @Downtown Boise Location
DESCRIPTION:Home / Cidery Event / Page 17\n\n\nMeriwether Cider Co – FREE Tuesday Trivia  @Downtown Boise Location\n\n\n\n\n\n\n\n\nFREE Tuesday Trivia \n\n\n\nWe host a FREE in-house trivia night EVERY Tuesday at the Cider House Downtown. It is socially distant\, always fun\, and gives you a chance to laugh a lot and drink some cider! You could even win some sweet prizes. There is no downside\, come on down and join us!
URL:https://idahowines.org/event/meriwether-cider-co-free-tuesday-trivia-downtown-boise-location/2026-04-28/
CATEGORIES:Cidery Event
ATTACH;FMTTYPE=image/webp:https://idahowines.org/content/uploads/2023/08/events-placeholder-image-1-purple.webp
END:VEVENT
BEGIN:VEVENT
DTSTART;TZID=America/Boise:20260430T160000
DTEND;TZID=America/Boise:20260430T200000
DTSTAMP:20260421T110901
CREATED:20230720T205030Z
LAST-MODIFIED:20230811T131413Z
UID:10001875-1777564800-1777579200@idahowines.org
SUMMARY:Meriwether Cider Company – Growler Fill Thursdays
DESCRIPTION:Home / Cidery Event / Page 17\n\n\nMeriwether Cider Co – FREE Tuesday Trivia  @Downtown Boise Location\n\n\n\n\n\n\n\n\nCome in every Thursday and get $5 off 64oz and $2.50 off 32oz growler fills!
URL:https://idahowines.org/event/meriwether-growler-fill-thursdays-2/2026-04-30/
CATEGORIES:Cidery Event,Happy Hour
ATTACH;FMTTYPE=image/webp:https://idahowines.org/content/uploads/2023/08/events-placeholder-image-1-green.webp
END:VEVENT
BEGIN:VEVENT
DTSTART;TZID=America/Boise:20260505T190000
DTEND;TZID=America/Boise:20260505T203000
DTSTAMP:20260421T110901
CREATED:20230706T192535Z
LAST-MODIFIED:20230811T131625Z
UID:10001615-1778007600-1778013000@idahowines.org
SUMMARY:Meriwether Cider Co – FREE Tuesday Trivia  @Downtown Boise Location
DESCRIPTION:Home / Cidery Event / Page 17\n\n\nMeriwether Cider Co – FREE Tuesday Trivia  @Downtown Boise Location\n\n\n\n\n\n\n\n\nFREE Tuesday Trivia \n\n\n\nWe host a FREE in-house trivia night EVERY Tuesday at the Cider House Downtown. It is socially distant\, always fun\, and gives you a chance to laugh a lot and drink some cider! You could even win some sweet prizes. There is no downside\, come on down and join us!
URL:https://idahowines.org/event/meriwether-cider-co-free-tuesday-trivia-downtown-boise-location/2026-05-05/
CATEGORIES:Cidery Event
ATTACH;FMTTYPE=image/webp:https://idahowines.org/content/uploads/2023/08/events-placeholder-image-1-purple.webp
END:VEVENT
BEGIN:VEVENT
DTSTART;TZID=America/Boise:20260507T160000
DTEND;TZID=America/Boise:20260507T200000
DTSTAMP:20260421T110901
CREATED:20230720T205030Z
LAST-MODIFIED:20230811T131413Z
UID:10001876-1778169600-1778184000@idahowines.org
SUMMARY:Meriwether Cider Company – Growler Fill Thursdays
DESCRIPTION:Home / Cidery Event / Page 17\n\n\nMeriwether Cider Co – FREE Tuesday Trivia  @Downtown Boise Location\n\n\n\n\n\n\n\n\nCome in every Thursday and get $5 off 64oz and $2.50 off 32oz growler fills!
URL:https://idahowines.org/event/meriwether-growler-fill-thursdays-2/2026-05-07/
CATEGORIES:Cidery Event,Happy Hour
ATTACH;FMTTYPE=image/webp:https://idahowines.org/content/uploads/2023/08/events-placeholder-image-1-green.webp
END:VEVENT
BEGIN:VEVENT
DTSTART;TZID=America/Boise:20260512T190000
DTEND;TZID=America/Boise:20260512T203000
DTSTAMP:20260421T110901
CREATED:20230706T192535Z
LAST-MODIFIED:20230811T131625Z
UID:10001616-1778612400-1778617800@idahowines.org
SUMMARY:Meriwether Cider Co – FREE Tuesday Trivia  @Downtown Boise Location
DESCRIPTION:Home / Cidery Event / Page 17\n\n\nMeriwether Cider Co – FREE Tuesday Trivia  @Downtown Boise Location\n\n\n\n\n\n\n\n\nFREE Tuesday Trivia \n\n\n\nWe host a FREE in-house trivia night EVERY Tuesday at the Cider House Downtown. It is socially distant\, always fun\, and gives you a chance to laugh a lot and drink some cider! You could even win some sweet prizes. There is no downside\, come on down and join us!
URL:https://idahowines.org/event/meriwether-cider-co-free-tuesday-trivia-downtown-boise-location/2026-05-12/
CATEGORIES:Cidery Event
ATTACH;FMTTYPE=image/webp:https://idahowines.org/content/uploads/2023/08/events-placeholder-image-1-purple.webp
END:VEVENT
BEGIN:VEVENT
DTSTART;TZID=America/Boise:20260514T160000
DTEND;TZID=America/Boise:20260514T200000
DTSTAMP:20260421T110901
CREATED:20230720T205030Z
LAST-MODIFIED:20230811T131413Z
UID:10001877-1778774400-1778788800@idahowines.org
SUMMARY:Meriwether Cider Company – Growler Fill Thursdays
DESCRIPTION:Home / Cidery Event / Page 17\n\n\nMeriwether Cider Co – FREE Tuesday Trivia  @Downtown Boise Location\n\n\n\n\n\n\n\n\nCome in every Thursday and get $5 off 64oz and $2.50 off 32oz growler fills!
URL:https://idahowines.org/event/meriwether-growler-fill-thursdays-2/2026-05-14/
CATEGORIES:Cidery Event,Happy Hour
ATTACH;FMTTYPE=image/webp:https://idahowines.org/content/uploads/2023/08/events-placeholder-image-1-green.webp
END:VEVENT
BEGIN:VEVENT
DTSTART;TZID=America/Boise:20260519T190000
DTEND;TZID=America/Boise:20260519T203000
DTSTAMP:20260421T110902
CREATED:20230706T192535Z
LAST-MODIFIED:20230811T131625Z
UID:10001617-1779217200-1779222600@idahowines.org
SUMMARY:Meriwether Cider Co – FREE Tuesday Trivia  @Downtown Boise Location
DESCRIPTION:Home / Cidery Event / Page 17\n\n\nMeriwether Cider Co – FREE Tuesday Trivia  @Downtown Boise Location\n\n\n\n\n\n\n\n\nFREE Tuesday Trivia \n\n\n\nWe host a FREE in-house trivia night EVERY Tuesday at the Cider House Downtown. It is socially distant\, always fun\, and gives you a chance to laugh a lot and drink some cider! You could even win some sweet prizes. There is no downside\, come on down and join us!
URL:https://idahowines.org/event/meriwether-cider-co-free-tuesday-trivia-downtown-boise-location/2026-05-19/
CATEGORIES:Cidery Event
ATTACH;FMTTYPE=image/webp:https://idahowines.org/content/uploads/2023/08/events-placeholder-image-1-purple.webp
END:VEVENT
BEGIN:VEVENT
DTSTART;TZID=America/Boise:20260521T160000
DTEND;TZID=America/Boise:20260521T200000
DTSTAMP:20260421T110902
CREATED:20230720T205030Z
LAST-MODIFIED:20230811T131413Z
UID:10001878-1779379200-1779393600@idahowines.org
SUMMARY:Meriwether Cider Company – Growler Fill Thursdays
DESCRIPTION:Home / Cidery Event / Page 17\n\n\nMeriwether Cider Co – FREE Tuesday Trivia  @Downtown Boise Location\n\n\n\n\n\n\n\n\nCome in every Thursday and get $5 off 64oz and $2.50 off 32oz growler fills!
URL:https://idahowines.org/event/meriwether-growler-fill-thursdays-2/2026-05-21/
CATEGORIES:Cidery Event,Happy Hour
ATTACH;FMTTYPE=image/webp:https://idahowines.org/content/uploads/2023/08/events-placeholder-image-1-green.webp
END:VEVENT
BEGIN:VEVENT
DTSTART;TZID=America/Boise:20260526T190000
DTEND;TZID=America/Boise:20260526T203000
DTSTAMP:20260421T110902
CREATED:20230706T192535Z
LAST-MODIFIED:20230811T131625Z
UID:10001618-1779822000-1779827400@idahowines.org
SUMMARY:Meriwether Cider Co – FREE Tuesday Trivia  @Downtown Boise Location
DESCRIPTION:Home / Cidery Event / Page 17\n\n\nMeriwether Cider Co – FREE Tuesday Trivia  @Downtown Boise Location\n\n\n\n\n\n\n\n\nFREE Tuesday Trivia \n\n\n\nWe host a FREE in-house trivia night EVERY Tuesday at the Cider House Downtown. It is socially distant\, always fun\, and gives you a chance to laugh a lot and drink some cider! You could even win some sweet prizes. There is no downside\, come on down and join us!
URL:https://idahowines.org/event/meriwether-cider-co-free-tuesday-trivia-downtown-boise-location/2026-05-26/
CATEGORIES:Cidery Event
ATTACH;FMTTYPE=image/webp:https://idahowines.org/content/uploads/2023/08/events-placeholder-image-1-purple.webp
END:VEVENT
BEGIN:VEVENT
DTSTART;TZID=America/Boise:20260528T160000
DTEND;TZID=America/Boise:20260528T200000
DTSTAMP:20260421T110902
CREATED:20230720T205030Z
LAST-MODIFIED:20230811T131413Z
UID:10001879-1779984000-1779998400@idahowines.org
SUMMARY:Meriwether Cider Company – Growler Fill Thursdays
DESCRIPTION:Home / Cidery Event / Page 17\n\n\nMeriwether Cider Co – FREE Tuesday Trivia  @Downtown Boise Location\n\n\n\n\n\n\n\n\nCome in every Thursday and get $5 off 64oz and $2.50 off 32oz growler fills!
URL:https://idahowines.org/event/meriwether-growler-fill-thursdays-2/2026-05-28/
CATEGORIES:Cidery Event,Happy Hour
ATTACH;FMTTYPE=image/webp:https://idahowines.org/content/uploads/2023/08/events-placeholder-image-1-green.webp
END:VEVENT
BEGIN:VEVENT
DTSTART;TZID=America/Boise:20260601T000000
DTEND;TZID=America/Boise:20260630T235959
DTSTAMP:20260421T110902
CREATED:20260202T192339Z
LAST-MODIFIED:20260203T172258Z
UID:10006473-1780272000-1782863999@idahowines.org
SUMMARY:Wine and Cider Month
DESCRIPTION:June is Idaho Wine and Cider Month! \n\n\n\n\nHome / Cidery Event / Page 17\n\n\nMeriwether Cider Co – FREE Tuesday Trivia  @Downtown Boise Location\n\n\n\n\n\n\nSip\, Savor and Celebrate Idaho Wines and Ciders \n\n\n\nIn June we proudly celebrate Idaho as a rapidly growing and nationally recognized wine and cider region. Our warm days\, cool nights and rich soil allow us to grow great grapes that produce exceptional wines. Delectable ciders from across the state are handcrafted from the tastiest apples\, plums\, pears and other high-quality local ingredients.  \n\n\n\nEarly summer is the ideal time to explore Idaho’s unique award-winning wine and cider flavors. So look for special events and promotions throughout the month to help you sip\, savor\, and celebrate the wines and ciders made in the Gem State. \n\n\n\nSavor Idaho. The crown jewel of Idaho Wine & Cider Month takes place on June 8th at the Idaho Botanical Garden in Boise. Don’t miss it! \n\n\n\nSavings and Promotions. All month long\, enjoy events and activities around Idaho\, including onsite tastings\, patio gatherings\, festivals\, wine club events\, tours\, special offers\, discounts\, promotions and more. Be sure to check with club and event organizers to confirm details! \n\n\n\nIdaho’s amazing wine and ciders are for everyone who is ready to taste and experience something new or savor your tried and true.  \n\n\n\nWINE & CIDER FUN FACTS:  \n\n\n\n\nEnjoy events all month long!\n\n\n\nThe tradition of winemaking in Idaho dates back to 1865.\n\n\n\nThe Eagle Foothills AVA boasts the only Idaho winery devoted exclusively to producing sparkling wine.\n\n\n\nMolly Leadbetter\, of Meriwether Cider\, is Idaho’s first and only Certified Pommelier – one of only 97 pommeliers in the world. \n\n\n\nCider apple trees are being re-established in Idaho and Gem State cideries have grown from one to eight in just the last five years.
URL:https://idahowines.org/event/wine-and-cider-month-3/
CATEGORIES:Cidery Event,Community Event,Idaho Wine Commission Event,Idaho Wine Month,Wine Tasting,Winery Event
ATTACH;FMTTYPE=image/webp:https://idahowines.org/content/uploads/2023/10/hdr-event-wine-cider-month-2.webp
END:VEVENT
BEGIN:VEVENT
DTSTART;TZID=America/Boise:20260602T190000
DTEND;TZID=America/Boise:20260602T203000
DTSTAMP:20260421T110902
CREATED:20230706T192535Z
LAST-MODIFIED:20230811T131625Z
UID:10001619-1780426800-1780432200@idahowines.org
SUMMARY:Meriwether Cider Co – FREE Tuesday Trivia  @Downtown Boise Location
DESCRIPTION:Home / Cidery Event / Page 17\n\n\nMeriwether Cider Co – FREE Tuesday Trivia  @Downtown Boise Location\n\n\n\n\n\n\n\n\nFREE Tuesday Trivia \n\n\n\nWe host a FREE in-house trivia night EVERY Tuesday at the Cider House Downtown. It is socially distant\, always fun\, and gives you a chance to laugh a lot and drink some cider! You could even win some sweet prizes. There is no downside\, come on down and join us!
URL:https://idahowines.org/event/meriwether-cider-co-free-tuesday-trivia-downtown-boise-location/2026-06-02/
CATEGORIES:Cidery Event
ATTACH;FMTTYPE=image/webp:https://idahowines.org/content/uploads/2023/08/events-placeholder-image-1-purple.webp
END:VEVENT
END:VCALENDAR