BEGIN:VCALENDAR
VERSION:2.0
PRODID:-//Idaho Wine Commission - ECPv6.15.17//NONSGML v1.0//EN
CALSCALE:GREGORIAN
METHOD:PUBLISH
X-WR-CALNAME:Idaho Wine Commission
X-ORIGINAL-URL:https://idahowines.org
X-WR-CALDESC:Events for Idaho Wine Commission
REFRESH-INTERVAL;VALUE=DURATION:PT1H
X-Robots-Tag:noindex
X-PUBLISHED-TTL:PT1H
BEGIN:VTIMEZONE
TZID:America/Boise
BEGIN:DAYLIGHT
TZOFFSETFROM:-0700
TZOFFSETTO:-0600
TZNAME:MDT
DTSTART:20230312T090000
END:DAYLIGHT
BEGIN:STANDARD
TZOFFSETFROM:-0600
TZOFFSETTO:-0700
TZNAME:MST
DTSTART:20231105T080000
END:STANDARD
BEGIN:DAYLIGHT
TZOFFSETFROM:-0700
TZOFFSETTO:-0600
TZNAME:MDT
DTSTART:20240310T090000
END:DAYLIGHT
BEGIN:STANDARD
TZOFFSETFROM:-0600
TZOFFSETTO:-0700
TZNAME:MST
DTSTART:20241103T080000
END:STANDARD
BEGIN:DAYLIGHT
TZOFFSETFROM:-0700
TZOFFSETTO:-0600
TZNAME:MDT
DTSTART:20250309T090000
END:DAYLIGHT
BEGIN:STANDARD
TZOFFSETFROM:-0600
TZOFFSETTO:-0700
TZNAME:MST
DTSTART:20251102T080000
END:STANDARD
END:VTIMEZONE
BEGIN:VEVENT
DTSTART;TZID=America/Boise:20240730T000000
DTEND;TZID=America/Boise:20240812T235959
DTSTAMP:20260421T043659
CREATED:20240730T151446Z
LAST-MODIFIED:20240730T151448Z
UID:10005556-1722297600-1723507199@idahowines.org
SUMMARY:Meriwether Cider Co - It's HUCKLEBERRY Season!
DESCRIPTION:Home / Cidery Event\n\n\nWine and Cider Month\n\n\n\n\n\n\n\n\nIf you’ve got ’em we want ’em!For every 1lb of huckleberries you bring to our Taproom in Garden city you’ll receive a FREE 500mL bottle of our extremely limited fresh huckleberry cider when it comes out this Fall.*This is the ONLY way to get the huckleberry cider in bottles\, the rest of it will be on tap for glasses only* \n\n\n\nBring your huckleberries to the Taproom in Garden City anytime between now and when we have enough to make the cider (we’ll let you know when that’s happening!)
URL:https://idahowines.org/event/meriwether-cider-co-its-huckleberry-season/
CATEGORIES:Cidery Event
ATTACH;FMTTYPE=image/jpeg:https://idahowines.org/content/uploads/2024/07/HuckleberryRelease2017sqr-01.jpg
END:VEVENT
END:VCALENDAR