BEGIN:VCALENDAR
VERSION:2.0
PRODID:-//Idaho Wine Commission - ECPv6.15.17//NONSGML v1.0//EN
CALSCALE:GREGORIAN
METHOD:PUBLISH
X-ORIGINAL-URL:https://idahowines.org
X-WR-CALDESC:Events for Idaho Wine Commission
REFRESH-INTERVAL;VALUE=DURATION:PT1H
X-Robots-Tag:noindex
X-PUBLISHED-TTL:PT1H
BEGIN:VTIMEZONE
TZID:America/Boise
BEGIN:DAYLIGHT
TZOFFSETFROM:-0700
TZOFFSETTO:-0600
TZNAME:MDT
DTSTART:20230312T090000
END:DAYLIGHT
BEGIN:STANDARD
TZOFFSETFROM:-0600
TZOFFSETTO:-0700
TZNAME:MST
DTSTART:20231105T080000
END:STANDARD
BEGIN:DAYLIGHT
TZOFFSETFROM:-0700
TZOFFSETTO:-0600
TZNAME:MDT
DTSTART:20240310T090000
END:DAYLIGHT
BEGIN:STANDARD
TZOFFSETFROM:-0600
TZOFFSETTO:-0700
TZNAME:MST
DTSTART:20241103T080000
END:STANDARD
BEGIN:DAYLIGHT
TZOFFSETFROM:-0700
TZOFFSETTO:-0600
TZNAME:MDT
DTSTART:20250309T090000
END:DAYLIGHT
BEGIN:STANDARD
TZOFFSETFROM:-0600
TZOFFSETTO:-0700
TZNAME:MST
DTSTART:20251102T080000
END:STANDARD
END:VTIMEZONE
BEGIN:VEVENT
DTSTART;TZID=America/Boise:20240402T190000
DTEND;TZID=America/Boise:20240402T203000
DTSTAMP:20260422T042638
CREATED:20230706T192535Z
LAST-MODIFIED:20230811T131625Z
UID:10001506-1712084400-1712089800@idahowines.org
SUMMARY:Meriwether Cider Co – FREE Tuesday Trivia  @Downtown Boise Location
DESCRIPTION:Home / Cidery Event\n\n\nWine and Cider Month\n\n\n\n\n\n\n\n\nFREE Tuesday Trivia \n\n\n\nWe host a FREE in-house trivia night EVERY Tuesday at the Cider House Downtown. It is socially distant\, always fun\, and gives you a chance to laugh a lot and drink some cider! You could even win some sweet prizes. There is no downside\, come on down and join us!
URL:https://idahowines.org/event/meriwether-cider-co-free-tuesday-trivia-downtown-boise-location/2024-04-02/
CATEGORIES:Cidery Event
ATTACH;FMTTYPE=image/webp:https://idahowines.org/content/uploads/2023/08/events-placeholder-image-1-purple.webp
END:VEVENT
BEGIN:VEVENT
DTSTART;TZID=America/Boise:20240404T160000
DTEND;TZID=America/Boise:20240404T200000
DTSTAMP:20260422T042638
CREATED:20230720T205030Z
LAST-MODIFIED:20230811T131413Z
UID:10001767-1712246400-1712260800@idahowines.org
SUMMARY:Meriwether Cider Company – Growler Fill Thursdays
DESCRIPTION:Home / Cidery Event\n\n\nWine and Cider Month\n\n\n\n\n\n\n\n\nCome in every Thursday and get $5 off 64oz and $2.50 off 32oz growler fills!
URL:https://idahowines.org/event/meriwether-growler-fill-thursdays-2/2024-04-04/
CATEGORIES:Cidery Event,Happy Hour
ATTACH;FMTTYPE=image/webp:https://idahowines.org/content/uploads/2023/08/events-placeholder-image-1-green.webp
END:VEVENT
BEGIN:VEVENT
DTSTART;TZID=America/Boise:20240409T190000
DTEND;TZID=America/Boise:20240409T203000
DTSTAMP:20260422T042638
CREATED:20230706T192535Z
LAST-MODIFIED:20230811T131625Z
UID:10001507-1712689200-1712694600@idahowines.org
SUMMARY:Meriwether Cider Co – FREE Tuesday Trivia  @Downtown Boise Location
DESCRIPTION:Home / Cidery Event\n\n\nWine and Cider Month\n\n\n\n\n\n\n\n\nFREE Tuesday Trivia \n\n\n\nWe host a FREE in-house trivia night EVERY Tuesday at the Cider House Downtown. It is socially distant\, always fun\, and gives you a chance to laugh a lot and drink some cider! You could even win some sweet prizes. There is no downside\, come on down and join us!
URL:https://idahowines.org/event/meriwether-cider-co-free-tuesday-trivia-downtown-boise-location/2024-04-09/
CATEGORIES:Cidery Event
ATTACH;FMTTYPE=image/webp:https://idahowines.org/content/uploads/2023/08/events-placeholder-image-1-purple.webp
END:VEVENT
BEGIN:VEVENT
DTSTART;TZID=America/Boise:20240411T160000
DTEND;TZID=America/Boise:20240411T200000
DTSTAMP:20260422T042638
CREATED:20230720T205030Z
LAST-MODIFIED:20230811T131413Z
UID:10001768-1712851200-1712865600@idahowines.org
SUMMARY:Meriwether Cider Company – Growler Fill Thursdays
DESCRIPTION:Home / Cidery Event\n\n\nWine and Cider Month\n\n\n\n\n\n\n\n\nCome in every Thursday and get $5 off 64oz and $2.50 off 32oz growler fills!
URL:https://idahowines.org/event/meriwether-growler-fill-thursdays-2/2024-04-11/
CATEGORIES:Cidery Event,Happy Hour
ATTACH;FMTTYPE=image/webp:https://idahowines.org/content/uploads/2023/08/events-placeholder-image-1-green.webp
END:VEVENT
BEGIN:VEVENT
DTSTART;TZID=America/Boise:20240416T190000
DTEND;TZID=America/Boise:20240416T203000
DTSTAMP:20260422T042638
CREATED:20230706T192535Z
LAST-MODIFIED:20230811T131625Z
UID:10001508-1713294000-1713299400@idahowines.org
SUMMARY:Meriwether Cider Co – FREE Tuesday Trivia  @Downtown Boise Location
DESCRIPTION:Home / Cidery Event\n\n\nWine and Cider Month\n\n\n\n\n\n\n\n\nFREE Tuesday Trivia \n\n\n\nWe host a FREE in-house trivia night EVERY Tuesday at the Cider House Downtown. It is socially distant\, always fun\, and gives you a chance to laugh a lot and drink some cider! You could even win some sweet prizes. There is no downside\, come on down and join us!
URL:https://idahowines.org/event/meriwether-cider-co-free-tuesday-trivia-downtown-boise-location/2024-04-16/
CATEGORIES:Cidery Event
ATTACH;FMTTYPE=image/webp:https://idahowines.org/content/uploads/2023/08/events-placeholder-image-1-purple.webp
END:VEVENT
BEGIN:VEVENT
DTSTART;TZID=America/Boise:20240418T160000
DTEND;TZID=America/Boise:20240418T200000
DTSTAMP:20260422T042638
CREATED:20230720T205030Z
LAST-MODIFIED:20230811T131413Z
UID:10001769-1713456000-1713470400@idahowines.org
SUMMARY:Meriwether Cider Company – Growler Fill Thursdays
DESCRIPTION:Home / Cidery Event\n\n\nWine and Cider Month\n\n\n\n\n\n\n\n\nCome in every Thursday and get $5 off 64oz and $2.50 off 32oz growler fills!
URL:https://idahowines.org/event/meriwether-growler-fill-thursdays-2/2024-04-18/
CATEGORIES:Cidery Event,Happy Hour
ATTACH;FMTTYPE=image/webp:https://idahowines.org/content/uploads/2023/08/events-placeholder-image-1-green.webp
END:VEVENT
BEGIN:VEVENT
DTSTART;TZID=America/Boise:20240423T190000
DTEND;TZID=America/Boise:20240423T203000
DTSTAMP:20260422T042638
CREATED:20230706T192535Z
LAST-MODIFIED:20230811T131625Z
UID:10001509-1713898800-1713904200@idahowines.org
SUMMARY:Meriwether Cider Co – FREE Tuesday Trivia  @Downtown Boise Location
DESCRIPTION:Home / Cidery Event\n\n\nWine and Cider Month\n\n\n\n\n\n\n\n\nFREE Tuesday Trivia \n\n\n\nWe host a FREE in-house trivia night EVERY Tuesday at the Cider House Downtown. It is socially distant\, always fun\, and gives you a chance to laugh a lot and drink some cider! You could even win some sweet prizes. There is no downside\, come on down and join us!
URL:https://idahowines.org/event/meriwether-cider-co-free-tuesday-trivia-downtown-boise-location/2024-04-23/
CATEGORIES:Cidery Event
ATTACH;FMTTYPE=image/webp:https://idahowines.org/content/uploads/2023/08/events-placeholder-image-1-purple.webp
END:VEVENT
BEGIN:VEVENT
DTSTART;TZID=America/Boise:20240425T160000
DTEND;TZID=America/Boise:20240425T200000
DTSTAMP:20260422T042638
CREATED:20230720T205030Z
LAST-MODIFIED:20230811T131413Z
UID:10001770-1714060800-1714075200@idahowines.org
SUMMARY:Meriwether Cider Company – Growler Fill Thursdays
DESCRIPTION:Home / Cidery Event\n\n\nWine and Cider Month\n\n\n\n\n\n\n\n\nCome in every Thursday and get $5 off 64oz and $2.50 off 32oz growler fills!
URL:https://idahowines.org/event/meriwether-growler-fill-thursdays-2/2024-04-25/
CATEGORIES:Cidery Event,Happy Hour
ATTACH;FMTTYPE=image/webp:https://idahowines.org/content/uploads/2023/08/events-placeholder-image-1-green.webp
END:VEVENT
BEGIN:VEVENT
DTSTART;TZID=America/Boise:20240430T190000
DTEND;TZID=America/Boise:20240430T203000
DTSTAMP:20260422T042638
CREATED:20230706T192535Z
LAST-MODIFIED:20230811T131625Z
UID:10001510-1714503600-1714509000@idahowines.org
SUMMARY:Meriwether Cider Co – FREE Tuesday Trivia  @Downtown Boise Location
DESCRIPTION:Home / Cidery Event\n\n\nWine and Cider Month\n\n\n\n\n\n\n\n\nFREE Tuesday Trivia \n\n\n\nWe host a FREE in-house trivia night EVERY Tuesday at the Cider House Downtown. It is socially distant\, always fun\, and gives you a chance to laugh a lot and drink some cider! You could even win some sweet prizes. There is no downside\, come on down and join us!
URL:https://idahowines.org/event/meriwether-cider-co-free-tuesday-trivia-downtown-boise-location/2024-04-30/
CATEGORIES:Cidery Event
ATTACH;FMTTYPE=image/webp:https://idahowines.org/content/uploads/2023/08/events-placeholder-image-1-purple.webp
END:VEVENT
END:VCALENDAR