BEGIN:VCALENDAR
VERSION:2.0
PRODID:-//Idaho Wine Commission - ECPv6.15.20//NONSGML v1.0//EN
CALSCALE:GREGORIAN
METHOD:PUBLISH
X-WR-CALNAME:Idaho Wine Commission
X-ORIGINAL-URL:https://idahowines.org
X-WR-CALDESC:Events for Idaho Wine Commission
REFRESH-INTERVAL;VALUE=DURATION:PT1H
X-Robots-Tag:noindex
X-PUBLISHED-TTL:PT1H
BEGIN:VTIMEZONE
TZID:America/Boise
BEGIN:DAYLIGHT
TZOFFSETFROM:-0700
TZOFFSETTO:-0600
TZNAME:MDT
DTSTART:20230312T090000
END:DAYLIGHT
BEGIN:STANDARD
TZOFFSETFROM:-0600
TZOFFSETTO:-0700
TZNAME:MST
DTSTART:20231105T080000
END:STANDARD
BEGIN:DAYLIGHT
TZOFFSETFROM:-0700
TZOFFSETTO:-0600
TZNAME:MDT
DTSTART:20240310T090000
END:DAYLIGHT
BEGIN:STANDARD
TZOFFSETFROM:-0600
TZOFFSETTO:-0700
TZNAME:MST
DTSTART:20241103T080000
END:STANDARD
BEGIN:DAYLIGHT
TZOFFSETFROM:-0700
TZOFFSETTO:-0600
TZNAME:MDT
DTSTART:20250309T090000
END:DAYLIGHT
BEGIN:STANDARD
TZOFFSETFROM:-0600
TZOFFSETTO:-0700
TZNAME:MST
DTSTART:20251102T080000
END:STANDARD
END:VTIMEZONE
BEGIN:VEVENT
DTSTART;TZID=America/Boise:20240201T160000
DTEND;TZID=America/Boise:20240201T200000
DTSTAMP:20260424T050240
CREATED:20230720T205030Z
LAST-MODIFIED:20230811T131413Z
UID:10001758-1706803200-1706817600@idahowines.org
SUMMARY:Meriwether Cider Company – Growler Fill Thursdays
DESCRIPTION:Home / Cidery Event\n\n\nWine and Cider Month\n\n\n\n\n\n\n\n\nCome in every Thursday and get $5 off 64oz and $2.50 off 32oz growler fills!
URL:https://idahowines.org/event/meriwether-growler-fill-thursdays-2/2024-02-01/
CATEGORIES:Cidery Event,Happy Hour
ATTACH;FMTTYPE=image/webp:https://idahowines.org/content/uploads/2023/08/events-placeholder-image-1-green.webp
END:VEVENT
BEGIN:VEVENT
DTSTART;TZID=America/Boise:20240206T190000
DTEND;TZID=America/Boise:20240206T203000
DTSTAMP:20260424T050240
CREATED:20230706T192535Z
LAST-MODIFIED:20230811T131625Z
UID:10001498-1707246000-1707251400@idahowines.org
SUMMARY:Meriwether Cider Co – FREE Tuesday Trivia  @Downtown Boise Location
DESCRIPTION:Home / Cidery Event\n\n\nWine and Cider Month\n\n\n\n\n\n\n\n\nFREE Tuesday Trivia \n\n\n\nWe host a FREE in-house trivia night EVERY Tuesday at the Cider House Downtown. It is socially distant\, always fun\, and gives you a chance to laugh a lot and drink some cider! You could even win some sweet prizes. There is no downside\, come on down and join us!
URL:https://idahowines.org/event/meriwether-cider-co-free-tuesday-trivia-downtown-boise-location/2024-02-06/
CATEGORIES:Cidery Event
ATTACH;FMTTYPE=image/webp:https://idahowines.org/content/uploads/2023/08/events-placeholder-image-1-purple.webp
END:VEVENT
BEGIN:VEVENT
DTSTART;TZID=America/Boise:20240208T160000
DTEND;TZID=America/Boise:20240208T200000
DTSTAMP:20260424T050240
CREATED:20230720T205030Z
LAST-MODIFIED:20230811T131413Z
UID:10001759-1707408000-1707422400@idahowines.org
SUMMARY:Meriwether Cider Company – Growler Fill Thursdays
DESCRIPTION:Home / Cidery Event\n\n\nWine and Cider Month\n\n\n\n\n\n\n\n\nCome in every Thursday and get $5 off 64oz and $2.50 off 32oz growler fills!
URL:https://idahowines.org/event/meriwether-growler-fill-thursdays-2/2024-02-08/
CATEGORIES:Cidery Event,Happy Hour
ATTACH;FMTTYPE=image/webp:https://idahowines.org/content/uploads/2023/08/events-placeholder-image-1-green.webp
END:VEVENT
BEGIN:VEVENT
DTSTART;TZID=America/Boise:20240213T190000
DTEND;TZID=America/Boise:20240213T203000
DTSTAMP:20260424T050240
CREATED:20230706T192535Z
LAST-MODIFIED:20230811T131625Z
UID:10001499-1707850800-1707856200@idahowines.org
SUMMARY:Meriwether Cider Co – FREE Tuesday Trivia  @Downtown Boise Location
DESCRIPTION:Home / Cidery Event\n\n\nWine and Cider Month\n\n\n\n\n\n\n\n\nFREE Tuesday Trivia \n\n\n\nWe host a FREE in-house trivia night EVERY Tuesday at the Cider House Downtown. It is socially distant\, always fun\, and gives you a chance to laugh a lot and drink some cider! You could even win some sweet prizes. There is no downside\, come on down and join us!
URL:https://idahowines.org/event/meriwether-cider-co-free-tuesday-trivia-downtown-boise-location/2024-02-13/
CATEGORIES:Cidery Event
ATTACH;FMTTYPE=image/webp:https://idahowines.org/content/uploads/2023/08/events-placeholder-image-1-purple.webp
END:VEVENT
BEGIN:VEVENT
DTSTART;TZID=America/Boise:20240215T160000
DTEND;TZID=America/Boise:20240215T200000
DTSTAMP:20260424T050240
CREATED:20230720T205030Z
LAST-MODIFIED:20230811T131413Z
UID:10001760-1708012800-1708027200@idahowines.org
SUMMARY:Meriwether Cider Company – Growler Fill Thursdays
DESCRIPTION:Home / Cidery Event\n\n\nWine and Cider Month\n\n\n\n\n\n\n\n\nCome in every Thursday and get $5 off 64oz and $2.50 off 32oz growler fills!
URL:https://idahowines.org/event/meriwether-growler-fill-thursdays-2/2024-02-15/
CATEGORIES:Cidery Event,Happy Hour
ATTACH;FMTTYPE=image/webp:https://idahowines.org/content/uploads/2023/08/events-placeholder-image-1-green.webp
END:VEVENT
BEGIN:VEVENT
DTSTART;TZID=America/Boise:20240220T190000
DTEND;TZID=America/Boise:20240220T203000
DTSTAMP:20260424T050240
CREATED:20230706T192535Z
LAST-MODIFIED:20230811T131625Z
UID:10001500-1708455600-1708461000@idahowines.org
SUMMARY:Meriwether Cider Co – FREE Tuesday Trivia  @Downtown Boise Location
DESCRIPTION:Home / Cidery Event\n\n\nWine and Cider Month\n\n\n\n\n\n\n\n\nFREE Tuesday Trivia \n\n\n\nWe host a FREE in-house trivia night EVERY Tuesday at the Cider House Downtown. It is socially distant\, always fun\, and gives you a chance to laugh a lot and drink some cider! You could even win some sweet prizes. There is no downside\, come on down and join us!
URL:https://idahowines.org/event/meriwether-cider-co-free-tuesday-trivia-downtown-boise-location/2024-02-20/
CATEGORIES:Cidery Event
ATTACH;FMTTYPE=image/webp:https://idahowines.org/content/uploads/2023/08/events-placeholder-image-1-purple.webp
END:VEVENT
BEGIN:VEVENT
DTSTART;TZID=America/Boise:20240222T160000
DTEND;TZID=America/Boise:20240222T200000
DTSTAMP:20260424T050240
CREATED:20230720T205030Z
LAST-MODIFIED:20230811T131413Z
UID:10001761-1708617600-1708632000@idahowines.org
SUMMARY:Meriwether Cider Company – Growler Fill Thursdays
DESCRIPTION:Home / Cidery Event\n\n\nWine and Cider Month\n\n\n\n\n\n\n\n\nCome in every Thursday and get $5 off 64oz and $2.50 off 32oz growler fills!
URL:https://idahowines.org/event/meriwether-growler-fill-thursdays-2/2024-02-22/
CATEGORIES:Cidery Event,Happy Hour
ATTACH;FMTTYPE=image/webp:https://idahowines.org/content/uploads/2023/08/events-placeholder-image-1-green.webp
END:VEVENT
BEGIN:VEVENT
DTSTART;TZID=America/Boise:20240227T190000
DTEND;TZID=America/Boise:20240227T203000
DTSTAMP:20260424T050240
CREATED:20230706T192535Z
LAST-MODIFIED:20230811T131625Z
UID:10001501-1709060400-1709065800@idahowines.org
SUMMARY:Meriwether Cider Co – FREE Tuesday Trivia  @Downtown Boise Location
DESCRIPTION:Home / Cidery Event\n\n\nWine and Cider Month\n\n\n\n\n\n\n\n\nFREE Tuesday Trivia \n\n\n\nWe host a FREE in-house trivia night EVERY Tuesday at the Cider House Downtown. It is socially distant\, always fun\, and gives you a chance to laugh a lot and drink some cider! You could even win some sweet prizes. There is no downside\, come on down and join us!
URL:https://idahowines.org/event/meriwether-cider-co-free-tuesday-trivia-downtown-boise-location/2024-02-27/
CATEGORIES:Cidery Event
ATTACH;FMTTYPE=image/webp:https://idahowines.org/content/uploads/2023/08/events-placeholder-image-1-purple.webp
END:VEVENT
BEGIN:VEVENT
DTSTART;TZID=America/Boise:20240229T160000
DTEND;TZID=America/Boise:20240229T200000
DTSTAMP:20260424T050240
CREATED:20230720T205030Z
LAST-MODIFIED:20230811T131413Z
UID:10001762-1709222400-1709236800@idahowines.org
SUMMARY:Meriwether Cider Company – Growler Fill Thursdays
DESCRIPTION:Home / Cidery Event\n\n\nWine and Cider Month\n\n\n\n\n\n\n\n\nCome in every Thursday and get $5 off 64oz and $2.50 off 32oz growler fills!
URL:https://idahowines.org/event/meriwether-growler-fill-thursdays-2/2024-02-29/
CATEGORIES:Cidery Event,Happy Hour
ATTACH;FMTTYPE=image/webp:https://idahowines.org/content/uploads/2023/08/events-placeholder-image-1-green.webp
END:VEVENT
END:VCALENDAR