BEGIN:VCALENDAR
VERSION:2.0
PRODID:-//Idaho Wine Commission - ECPv6.15.20//NONSGML v1.0//EN
CALSCALE:GREGORIAN
METHOD:PUBLISH
X-ORIGINAL-URL:https://idahowines.org
X-WR-CALDESC:Events for Idaho Wine Commission
REFRESH-INTERVAL;VALUE=DURATION:PT1H
X-Robots-Tag:noindex
X-PUBLISHED-TTL:PT1H
BEGIN:VTIMEZONE
TZID:America/Boise
BEGIN:DAYLIGHT
TZOFFSETFROM:-0700
TZOFFSETTO:-0600
TZNAME:MDT
DTSTART:20250309T090000
END:DAYLIGHT
BEGIN:STANDARD
TZOFFSETFROM:-0600
TZOFFSETTO:-0700
TZNAME:MST
DTSTART:20251102T080000
END:STANDARD
BEGIN:DAYLIGHT
TZOFFSETFROM:-0700
TZOFFSETTO:-0600
TZNAME:MDT
DTSTART:20260308T090000
END:DAYLIGHT
BEGIN:STANDARD
TZOFFSETFROM:-0600
TZOFFSETTO:-0700
TZNAME:MST
DTSTART:20261101T080000
END:STANDARD
BEGIN:DAYLIGHT
TZOFFSETFROM:-0700
TZOFFSETTO:-0600
TZNAME:MDT
DTSTART:20270314T090000
END:DAYLIGHT
BEGIN:STANDARD
TZOFFSETFROM:-0600
TZOFFSETTO:-0700
TZNAME:MST
DTSTART:20271107T080000
END:STANDARD
END:VTIMEZONE
BEGIN:VEVENT
DTSTART;TZID=America/Boise:20260403T080000
DTEND;TZID=America/Boise:20260403T170000
DTSTAMP:20260423T101411
CREATED:20250103T150402Z
LAST-MODIFIED:20250103T150404Z
UID:10005751-1775203200-1775235600@idahowines.org
SUMMARY:VEER Wine Project - First Fridays
DESCRIPTION:Home / Events\n\n\nMother’s Day at Williamson Orchards and Vineyards\n\n\n\n\n\n\n\n\nStarting in February\, VEER Wine Project will be doing a First Friday event monthly. Alternating live music\, featured artists\, tapas\, or chats with winemaker Will.
URL:https://idahowines.org/event/veer-wine-project-first-fridays/2026-04-03/
END:VEVENT
BEGIN:VEVENT
DTSTART;TZID=America/Boise:20260403T080000
DTEND;TZID=America/Boise:20260403T170000
DTSTAMP:20260423T101411
CREATED:20251111T132042Z
LAST-MODIFIED:20251111T132044Z
UID:10008597-1775203200-1775235600@idahowines.org
SUMMARY:Vizcaya Winery - Friday Happy Hour
DESCRIPTION:Home / Events\n\n\nMother’s Day at Williamson Orchards and Vineyards\n\n\n\n\n\n\n\n\nHappy Hour on Friday nights\, 4-6pm\, 2 for 1 wine by the glass and appetizers available for purchase.
URL:https://idahowines.org/event/vizcaya-winery-friday-happy-hour/2026-04-03/
END:VEVENT
BEGIN:VEVENT
DTSTART;TZID=America/Boise:20260403T180000
DTEND;TZID=America/Boise:20260403T200000
DTSTAMP:20260423T101411
CREATED:20260317T134156Z
LAST-MODIFIED:20260317T134201Z
UID:10008989-1775239200-1775246400@idahowines.org
SUMMARY:Veer Wine Project - Paint & Sip
DESCRIPTION:Home / Events\n\n\nMother’s Day at Williamson Orchards and Vineyards\n\n\n\n\n\n\n\n\nReady to let your creativity bloom? Join us for a Paint & Sip night where the only thing you need to grow is a little confidence and a steady-ish hand. We’ll be painting a cheerful spring tulip while you sip your favorite Veer wine and pretend you totally meant to paint that brushstroke like that. \n\n\n\nNo experience required—just bring your inner artist (or your inner chaos gardener). By the end of the night you’ll leave with a finished painting\, a relaxed buzz\, and the satisfaction of knowing you successfully cultivated at least one flower this season. \n\n\n\nCome plant yourself at the table\, pour a glass\, and let your masterpiece grow one brushstroke at a time.
URL:https://idahowines.org/event/veer-wine-project-paint-sip/
END:VEVENT
END:VCALENDAR