BEGIN:VCALENDAR
VERSION:2.0
PRODID:-//Idaho Wine Commission - ECPv6.15.20//NONSGML v1.0//EN
CALSCALE:GREGORIAN
METHOD:PUBLISH
X-WR-CALNAME:Idaho Wine Commission
X-ORIGINAL-URL:https://idahowines.org
X-WR-CALDESC:Events for Idaho Wine Commission
REFRESH-INTERVAL;VALUE=DURATION:PT1H
X-Robots-Tag:noindex
X-PUBLISHED-TTL:PT1H
BEGIN:VTIMEZONE
TZID:America/Boise
BEGIN:DAYLIGHT
TZOFFSETFROM:-0700
TZOFFSETTO:-0600
TZNAME:MDT
DTSTART:20250309T090000
END:DAYLIGHT
BEGIN:STANDARD
TZOFFSETFROM:-0600
TZOFFSETTO:-0700
TZNAME:MST
DTSTART:20251102T080000
END:STANDARD
BEGIN:DAYLIGHT
TZOFFSETFROM:-0700
TZOFFSETTO:-0600
TZNAME:MDT
DTSTART:20260308T090000
END:DAYLIGHT
BEGIN:STANDARD
TZOFFSETFROM:-0600
TZOFFSETTO:-0700
TZNAME:MST
DTSTART:20261101T080000
END:STANDARD
BEGIN:DAYLIGHT
TZOFFSETFROM:-0700
TZOFFSETTO:-0600
TZNAME:MDT
DTSTART:20270314T090000
END:DAYLIGHT
BEGIN:STANDARD
TZOFFSETFROM:-0600
TZOFFSETTO:-0700
TZNAME:MST
DTSTART:20271107T080000
END:STANDARD
END:VTIMEZONE
BEGIN:VEVENT
DTSTART;TZID=America/Boise:20260124T080000
DTEND;TZID=America/Boise:20260308T170000
DTSTAMP:20260423T064718
CREATED:20260106T155003Z
LAST-MODIFIED:20260202T151907Z
UID:10004018-1769241600-1772989200@idahowines.org
SUMMARY:Winter Wine Weekends
DESCRIPTION:Home / Events\n\n\n2026 Winter Wine Weekends\n\n\n\nDiscover the Delights of Idaho Wine this Winter. \n\n\n\nLooking for a fun experience this winter? Plan a weekend escape to one of Idaho’s award-winning wineries and cideries during our 2026 Winter Wine Weekends. Participating wineries will welcome you with special food and wine pairings\, tasting flights\, promotions\, fun activities\, and a cozy\, welcoming atmosphere. Pick the weekend—or weekends—that suit your fancy. No reservations are required! No matter the weather\, Idaho Winter Wine Weekends are the perfect winter adventure.  \n\n\n\n\nJanuary 24th and 25th – Cozy & Classic Winter\n\n\n\nFebruary 7th and 8th – Touchdown Tastings\n\n\n\nFebruary 21st and 22nd – Say Cheese & Sip\n\n\n\nMarch 7th and 8th – Tropical Escape\n\n\n\n\nWant to enjoy a Winter Wine Weekends Wine Tour? Book yours today HERE with Snake River Wine Tours and escape with them to enjoy all the fun activities in our local tasting rooms. Use Promo code WINTERWINE for 10% off January-March \n\n\n\nIdaho Wine Tours is also offering a 5% discount through March 8th with coupon code WINTER \n\n\n\nSee What’s Pouring – Explore our event calendar to see all the events happening during Winter Wine Weekends. \n\n\n\n“What could be better than comfort food and wine?”  – Winter Wine Weekend Visitor \n\n\n\n“If you haven’t been\, you are missing out!” – Winter Wine Weekend Visitor \n\n\n\n“Enjoying the sunset with a glass of wine by the fire. It doesn’t get any better!”  – Winter Wine Weekend Visitor
URL:https://idahowines.org/event/winter-wine-weekends/
CATEGORIES:Cidery Event,Winery Event,Winter Wine Weekends
ATTACH;FMTTYPE=image/jpeg:https://idahowines.org/content/uploads/2023/12/red-wine-and-cheesecake.jpeg
END:VEVENT
BEGIN:VEVENT
DTSTART;TZID=America/Boise:20260131T000000
DTEND;TZID=America/Boise:20260207T235959
DTSTAMP:20260423T064718
CREATED:20260126T180230Z
LAST-MODIFIED:20260126T180232Z
UID:10008936-1769817600-1770508799@idahowines.org
SUMMARY:Winter Wine Weekends - Veer Wine Project
DESCRIPTION:Home / Events\n\n\nMother’s Day at Williamson Orchards and Vineyards\n\n\n\n\n\n\n\n\nVeer Victory Squares \n\n\n\nStarting January 31 – February 7th\, any guest who visits Veer can make a guess of the final score and place their guess on the Veer Victory Squares poster. They must include their name\, phone number\, and their guess for the BIG GAME Final score (and winner!) to play. No purchase necessary. Names will be written on available squares of their choice. Winners could win wine\, merchandise or passes for Treefort.
URL:https://idahowines.org/event/winter-wine-weekends-veer-wine-project-5/
CATEGORIES:Winter Wine Weekends
END:VEVENT
BEGIN:VEVENT
DTSTART;TZID=America/Boise:20260201T100000
DTEND;TZID=America/Boise:20260201T130000
DTSTAMP:20260423T064718
CREATED:20260126T151932Z
LAST-MODIFIED:20260126T151934Z
UID:10008928-1769940000-1769950800@idahowines.org
SUMMARY:Meriwether Cider Co
DESCRIPTION:Home / Events\n\n\nMother’s Day at Williamson Orchards and Vineyards\n\n\n\n\n\n\n\n\nBoard Games and Brunch 10am-1pm Taproom Garden City
URL:https://idahowines.org/event/meriwether-cider-co/
END:VEVENT
END:VCALENDAR