BEGIN:VCALENDAR
VERSION:2.0
PRODID:-//Idaho Wine Commission - ECPv6.15.20//NONSGML v1.0//EN
CALSCALE:GREGORIAN
METHOD:PUBLISH
X-WR-CALNAME:Idaho Wine Commission
X-ORIGINAL-URL:https://idahowines.org
X-WR-CALDESC:Events for Idaho Wine Commission
REFRESH-INTERVAL;VALUE=DURATION:PT1H
X-Robots-Tag:noindex
X-PUBLISHED-TTL:PT1H
BEGIN:VTIMEZONE
TZID:America/Boise
BEGIN:DAYLIGHT
TZOFFSETFROM:-0700
TZOFFSETTO:-0600
TZNAME:MDT
DTSTART:20240310T090000
END:DAYLIGHT
BEGIN:STANDARD
TZOFFSETFROM:-0600
TZOFFSETTO:-0700
TZNAME:MST
DTSTART:20241103T080000
END:STANDARD
BEGIN:DAYLIGHT
TZOFFSETFROM:-0700
TZOFFSETTO:-0600
TZNAME:MDT
DTSTART:20250309T090000
END:DAYLIGHT
BEGIN:STANDARD
TZOFFSETFROM:-0600
TZOFFSETTO:-0700
TZNAME:MST
DTSTART:20251102T080000
END:STANDARD
BEGIN:DAYLIGHT
TZOFFSETFROM:-0700
TZOFFSETTO:-0600
TZNAME:MDT
DTSTART:20260308T090000
END:DAYLIGHT
BEGIN:STANDARD
TZOFFSETFROM:-0600
TZOFFSETTO:-0700
TZNAME:MST
DTSTART:20261101T080000
END:STANDARD
END:VTIMEZONE
BEGIN:VEVENT
DTSTART;TZID=America/Boise:20250621T000000
DTEND;TZID=America/Boise:20250621T235959
DTSTAMP:20260423T144041
CREATED:20250527T123928Z
LAST-MODIFIED:20250527T123930Z
UID:10008346-1750464000-1750550399@idahowines.org
SUMMARY:Rolling Hills Vineyard - At Boise Farmer's Market
DESCRIPTION:Home / Events\n\n\nMother’s Day at Williamson Orchards and Vineyards\n\n\n\n\n\n\n\n\n June 21st \n\n\n\nWe are at the Boise farmers market
URL:https://idahowines.org/event/rolling-hills-vineyard-at-boise-farmers-market/
CATEGORIES:Idaho Wine Month
END:VEVENT
BEGIN:VEVENT
DTSTART;TZID=America/Boise:20250621T170000
DTEND;TZID=America/Boise:20250621T190000
DTSTAMP:20260423T144041
CREATED:20250519T152553Z
LAST-MODIFIED:20250519T154724Z
UID:10008337-1750525200-1750532400@idahowines.org
SUMMARY:Parcero - 3 Horse Ranch Tasting Event – Idaho Wine Month
DESCRIPTION:Home / Events\n\n\nMother’s Day at Williamson Orchards and Vineyards\n\n\n\n\n\n\n\n\nRanch to Glass: A Tasting with 3 Horse RanchSaturday\, June 21st\, 2025| 5–7PM \n\n\n\nCelebrate Idaho Wine Month with us as we welcome 3 Horse Ranch Vineyards to Parcero Wine Bar for an exclusive evening of local wine and connection. \n\n\n\nYour ticket includes:– Tasting of six wines from 3 Horse Ranch– Meet the winemaker in person– The opportunity to purchase bottles onsite at Parcero—a rare chance\, as 3 Horse Ranch wines are typically only available for purchase at their winery\, located 20 miles outside Boise. \n\n\n\nWhether you’re a fan of Idaho wines or curious to explore what’s growing in our own backyard\, this evening is the perfect way to taste\, connect\, and celebrate. \n\n\n\nTickets will be available soon—stay tuned!
URL:https://idahowines.org/event/parcero-3-horse-ranch-tasting-event-idaho-wine-month/
END:VEVENT
END:VCALENDAR